{"text_format":"1","workbook":"xlsx","n_sheets":25,"sheets":["S1","S2","S3","S4","S5","S6","S7","S8","S9","S10","S11","S12","QA Samples","Chart 1-24","Chart 25-48","Chart 49-72","Chart 73-96","Chart 97-120","Chart 121-144","200 Chart","S13","AP","ST1","Avg","Critical screen tolerances"],"not_rendered":{"charts":42,"images":35,"macros":1,"external_links":0,"defined_names":4,"comments":0,"pivot_tables":0},"unopened":[],"bounds":{"document_bytes":16777216,"sheet_cells":100000,"rows_first":2000,"rows_last":500,"rows_between":2000,"halvings":0,"cell_chars":16384,"cell_head_chars":4096},"cells_cut":0,"cells_raw":0,"read":"whole","date_system":"1900"}

{"sheet":"S1","index":0,"n_rows":44,"n_cols":19,"rows_kept":44,"cut":false,"hidden":false,"merged":[[2,11,2,12],[1,11,1,12],[1,9,1,10],[2,9,2,10],[5,11,5,12],[4,11,4,12],[3,11,3,12],[3,9,3,10],[4,9,4,10],[5,9,5,10],[43,10,45,11],[43,12,45,13],[7,0,7,1],[28,0,28,1],[10,0,10,1],[9,0,9,1],[11,0,11,1],[20,0,20,1],[27,0,27,1],[7,12,7,13],[22,0,22,1],[7,4,7,5],[7,6,7,7],[7,2,7,3],[22,2,22,3],[42,12,42,13],[27,12,27,13],[7,8,7,9],[28,12,28,13],[22,12,22,13],[28,10,28,11],[7,10,7,11],[8,10,8,11],[8,12,8,13],[22,4,22,5],[22,6,22,7],[22,8,22,9],[22,10,22,11],[23,12,25,13],[23,10,25,11],[28,2,28,3],[28,4,28,5],[28,6,28,7],[27,4,27,5],[27,6,27,7],[27,2,27,3],[0,0,3,1],[5,3,5,8],[4,0,4,1],[1,2,1,6],[2,2,2,6],[3,2,3,6],[0,7,3,8],[8,0,8,1],[8,2,8,3],[8,4,8,5],[8,6,8,7],[8,8,8,9],[42,10,42,11],[23,4,25,5],[23,6,25,7],[23,8,25,9],[42,4,42,5],[42,6,42,7],[42,8,42,9],[27,8,27,9],[27,10,27,11],[43,8,45,9],[21,0,21,1],[43,0,45,1],[43,2,45,3],[41,0,41,1],[23,2,25,3],[23,0,25,1],[28,8,28,9],[42,2,42,3],[29,0,29,1],[30,0,30,1],[43,4,45,5],[43,6,45,7],[31,0,31,1],[40,0,40,1],[42,0,42,1]]}
[]
[null,null,"COMMONWEALTH OF PENNSYLVANIA",null,null,null,null,null,null,"DISTRICT",null,null,null,null,null,null,null,null,"0-1"]
[null,null,"DEPARTMENT OF TRANSPORTATION",null,null,null,null,null,null,"PLANT CODE",null,null,null,null,null,null,null,null,"0-1.0"]
[null,null,"PENNSYLVANIA TURNPIKE COMMISSION",null,null,null,null,null,null,"AGG SIZE",null,null,null,null,null,null,null,null,"0-2"]
["Aggregate 2023",null,null,null,null,null,null,null,null,"3/8 TARGET VALUE",null,35,null,null,null,null,null,null,"0-2.0"]
[null,null,null,"Material Test Results for #67 Coarse Aggregate",null,null,null,null,null,"WASH SPEC"]
[]
["Sample No."]
["Date"]
["Starting Weight",null,null,"% Loss",null,"% Loss",null,"% Loss",null,"% Loss",null,"% Loss",null,"% Loss"]
["Ending Weight",null,null,{"$f":"IF(ISBLANK(C10),\" \",IF(ISBLANK(C11),\" \",((C10-C11)/C10)*100))","v":" "},null,{"$f":"IF(ISBLANK(E10),\" \",IF(ISBLANK(E11),\" \",((E10-E11)/E10)*100))","v":" "},null,{"$f":"IF(ISBLANK(G10),\" \",IF(ISBLANK(G11),\" \",((G10-G11)/G10)*100))","v":" "},null,{"$f":"IF(ISBLANK(I10),\" \",IF(ISBLANK(I11),\" \",((I10-I11)/I10)*100))","v":" "},null,{"$f":"IF(ISBLANK(K10),\" \",IF(ISBLANK(K11),\" \",((K10-K11)/K10)*100))","v":" "},null,{"$f":"IF(ISBLANK(M10),\" \",IF(ISBLANK(M11),\" \",((M10-M11)/M10)*100))","v":" "}]
[null,null,"Wt.","% Passing","Wt.","% Passing","Wt.","% Passing","Wt.","% Passing","Wt.","% Passing","Wt.","% Passing"]
[100,1,null,{"$f":"IF(ISBLANK(C$10),\"  \",IF(ISBLANK(C$11),\" \",IF(ISBLANK(C13),\" \",ROUND((C13/C$10)*100,0))))","v":"  "},null,{"$f":"IF(ISBLANK(E$10),\"  \",IF(ISBLANK(E$11),\" \",IF(ISBLANK(E13),\" \",ROUND((E13/E$10)*100,0))))","v":"  "},null,{"$f":"IF(ISBLANK(G$10),\"  \",IF(ISBLANK(G$11),\" \",IF(ISBLANK(G13),\" \",ROUND((G13/G$10)*100,0))))","v":"  "},null,{"$f":"IF(ISBLANK(I$10),\"  \",IF(ISBLANK(I$11),\" \",IF(ISBLANK(I13),\" \",ROUND((I13/I$10)*100,0))))","v":"  "},null,{"$f":"IF(ISBLANK(K$10),\"  \",IF(ISBLANK(K$11),\" \",IF(ISBLANK(K13),\" \",ROUND((K13/K$10)*100,0))))","v":"  "},null,{"$f":"IF(ISBLANK(M$10),\"  \",IF(ISBLANK(M$11),\" \",IF(ISBLANK(M13),\" \",ROUND((M13/M$10)*100,0))))","v":"  "}]
["90-100",0.75,null,"  ",null,"  ",null,"  ",null,"  ",null,"  ",null,"  "]
["Breaker",0.5,null,"  ",null,"  ",null,"  ",null,"  ",null,"  ",null,"  "]
["20-55",0.375,null,"  ",null,"  ",null,"  ",null,"  ",null,"  ",null,"  "]
["0-10",4,null,"  ",null,"  ",null,"  ",null,"  ",null,"  ",null,"  "]
["0-5",8,null,"  ",null,"  ",null,"  ",null,"  ",null,"  ",null,"  "]
[]
["Wash",{"$f":"IF(ISBLANK(L$6),\" \",L$6)","v":" "}]
["St. Wt. Before Wash",null,null,"% Passing",null,"% Passing",null,"% Passing",null,"% Passing",null,"% Passing",null,"% Passing"]
["End Wt. After Wash",null,null,{"$f":"IF(ISBLANK(C21),\" \",IF(ISBLANK(C22),\" \",((C21-C22)/C21)*100))","v":" "},null,{"$f":"IF(ISBLANK(E21),\" \",IF(ISBLANK(E22),\" \",((E21-E22)/E21)*100))","v":" "},null,{"$f":"IF(ISBLANK(G21),\" \",IF(ISBLANK(G22),\" \",((G21-G22)/G21)*100))","v":" "},null,{"$f":"IF(ISBLANK(I21),\" \",IF(ISBLANK(I22),\" \",((I21-I22)/I21)*100))","v":" "},null,{"$f":"IF(ISBLANK(K21),\" \",IF(ISBLANK(K22),\" \",((K21-K22)/K21)*100))","v":" "},null,{"$f":"IF(ISBLANK(M21),\" \",IF(ISBLANK(M22),\" \",((M21-M22)/M21)*100))","v":" "}]
["Tested By"]
["Remarks"]
[]
[]
[]
["Sample No."]
["Date"]
["Starting Weight",null,null,"% Loss",null,"% Loss",null,"% Loss",null,"% Loss",null,"% Loss",null,"% Loss"]
["Ending Weight",null,null,{"$f":"IF(ISBLANK(C30),\" \",IF(ISBLANK(C31),\" \",((C30-C31)/C30)*100))","v":" "},null,{"$f":"IF(ISBLANK(E30),\" \",IF(ISBLANK(E31),\" \",((E30-E31)/E30)*100))","v":" "},null,{"$f":"IF(ISBLANK(G30),\" \",IF(ISBLANK(G31),\" \",((G30-G31)/G30)*100))","v":" "},null,{"$f":"IF(ISBLANK(I30),\" \",IF(ISBLANK(I31),\" \",((I30-I31)/I30)*100))","v":" "},null,{"$f":"IF(ISBLANK(K30),\" \",IF(ISBLANK(K31),\" \",((K30-K31)/K30)*100))","v":" "},null,{"$f":"IF(ISBLANK(M30),\" \",IF(ISBLANK(M31),\" \",((M30-M31)/M30)*100))","v":" "}]
[null,null,"Wt.","% Passing","Wt.","% Passing","Wt.","% Passing","Wt.","% Passing","Wt.","% Passing","Wt.","% Passing"]
[100,1,null,{"$f":"IF(ISBLANK(C$30),\"  \",IF(ISBLANK(C$31),\" \",IF(ISBLANK(C33),\" \",ROUND((C33/C$30)*100,0))))","v":"  "},null,{"$f":"IF(ISBLANK(E$30),\"  \",IF(ISBLANK(E$31),\" \",IF(ISBLANK(E33),\" \",ROUND((E33/E$30)*100,0))))","v":"  "},null,{"$f":"IF(ISBLANK(G$30),\"  \",IF(ISBLANK(G$31),\" \",IF(ISBLANK(G33),\" \",ROUND((G33/G$30)*100,0))))","v":"  "},null,{"$f":"IF(ISBLANK(I$30),\"  \",IF(ISBLANK(I$31),\" \",IF(ISBLANK(I33),\" \",ROUND((I33/I$30)*100,0))))","v":"  "},null,{"$f":"IF(ISBLANK(K$30),\"  \",IF(ISBLANK(K$31),\" \",IF(ISBLANK(K33),\" \",ROUND((K33/K$30)*100,0))))","v":"  "},null,{"$f":"IF(ISBLANK(M$30),\"  \",IF(ISBLANK(M$31),\" \",IF(ISBLANK(M33),\" \",ROUND((M33/M$30)*100,0))))","v":"  "}]
["90-100",0.75,null,"  ",null,"  ",null,"  ",null,"  ",null,"  ",null,"  "]
["Breaker",0.5,null,"  ",null,"  ",null,"  ",null,"  ",null,"  ",null,"  "]
["20-55",0.375,null,"  ",null,"  ",null,"  ",null,"  ",null,"  ",null,"  "]
["0-10",4,null,"  ",null,"  ",null,"  ",null,"  ",null,"  ",null,"  "]
["0-5",8,null,"  ",null,"  ",null,"  ",null,"  ",null,"  ",null,"  "]
[]
["Wash",{"$f":"IF(ISBLANK(L$6),\" \",L$6)","v":" "}]
["St. Wt. Before Wash",null,null,"% Passing",null,"% Passing",null,"% Passing",null,"% Passing",null,"% Passing",null,"% Passing"]
["End Wt. After Wash",null,null,{"$f":"IF(ISBLANK(C41),\" \",IF(ISBLANK(C42),\" \",((C41-C42)/C41)*100))","v":" "},null,{"$f":"IF(ISBLANK(E41),\" \",IF(ISBLANK(E42),\" \",((E41-E42)/E41)*100))","v":" "},null,{"$f":"IF(ISBLANK(G41),\" \",IF(ISBLANK(G42),\" \",((G41-G42)/G41)*100))","v":" "},null,{"$f":"IF(ISBLANK(I41),\" \",IF(ISBLANK(I42),\" \",((I41-I42)/I41)*100))","v":" "},null,{"$f":"IF(ISBLANK(K41),\" \",IF(ISBLANK(K42),\" \",((K41-K42)/K41)*100))","v":" "},null,{"$f":"IF(ISBLANK(M41),\" \",IF(ISBLANK(M42),\" \",((M41-M42)/M41)*100))","v":" "}]
["Tested By"]
["Remarks"]

{"sheet":"S2","index":1,"n_rows":44,"n_cols":14,"rows_kept":44,"cut":false,"hidden":true,"merged":[[5,10,5,11],[5,12,5,13],[11,0,11,1],[7,12,7,13],[8,8,8,9],[8,10,8,11],[8,12,8,13],[7,10,7,11],[7,0,7,1],[5,3,5,8],[7,6,7,7],[7,8,7,9],[8,6,8,7],[7,2,7,3],[7,4,7,5],[8,2,8,3],[0,0,3,1],[3,12,3,13],[1,3,1,7],[2,3,2,7],[3,3,3,7],[0,8,3,9],[4,10,4,11],[4,12,4,13],[1,10,1,11],[3,10,3,11],[1,12,1,13],[2,10,2,11],[2,12,2,13],[8,4,8,5],[27,6,27,7],[27,0,27,1],[27,2,27,3],[8,0,8,1],[9,0,9,1],[21,0,21,1],[22,0,22,1],[22,2,22,3],[22,4,22,5],[23,0,25,1],[20,0,20,1],[10,0,10,1],[22,6,22,7],[27,4,27,5],[40,0,40,1],[41,0,41,1],[30,0,30,1],[28,0,28,1],[29,0,29,1],[31,0,31,1],[22,12,22,13],[27,8,27,9],[27,10,27,11],[27,12,27,13],[28,8,28,9],[28,10,28,11],[22,10,22,11],[28,12,28,13],[22,8,22,9],[42,2,42,3],[42,4,42,5],[42,8,42,9],[43,0,45,1],[43,2,45,3],[43,4,45,5],[43,6,45,7],[43,8,45,9],[4,0,4,1],[43,12,45,13],[23,2,25,3],[23,4,25,5],[23,6,25,7],[23,8,25,9],[23,10,25,11],[23,12,25,13],[42,6,42,7],[42,12,42,13],[42,10,42,11],[43,10,45,11],[28,4,28,5],[28,6,28,7],[28,2,28,3],[42,0,42,1]]}
[]
[null,null,null,"COMMONWEALTH OF PENNSYLVANIA",null,null,null,null,null,null,"DISTRICT",null,{"$f":"IF(ISBLANK('S1'!L2),\" \",'S1'!L2)","v":" "}]
[null,null,null,"DEPARTMENT OF TRANSPORTATION",null,null,null,null,null,null,"PLANT CODE",null,{"$f":"IF(ISBLANK('S1'!L3),\" \",'S1'!L3)","v":" "}]
[null,null,null,"PENNSYLVANIA TURNPIKE COMMISSION",null,null,null,null,null,null,"AGG SIZE",null,{"$f":"IF(ISBLANK('S1'!L4),\" \",'S1'!L4)","v":" "}]
[{"$f":"'S1'!A5","v":"Aggregate 2023"},null,null,null,null,null,null,null,null,null,"3/8 TARGET VALUE",null,{"$f":"IF(ISBLANK('S1'!L5),\" \",'S1'!L5)","v":35}]
[null,null,null,"Material Test Results for #67 Coarse Aggregate",null,null,null,null,null,null,"WASH SPEC",null,{"$f":"IF(ISBLANK('S1'!L6),\" \",'S1'!L6)","v":" "}]
[]
["Sample No."]
["Date"]
["Starting Weight",null,null,"% Loss",null,"% Loss",null,"% Loss",null,"% Loss",null,"% Loss",null,"% Loss"]
["Ending Weight",null,null,{"$f":"IF(ISBLANK(C10),\" \",IF(ISBLANK(C11),\" \",((C10-C11)/C10)*100))","v":" "},null,{"$f":"IF(ISBLANK(E10),\" \",IF(ISBLANK(E11),\" \",((E10-E11)/E10)*100))","v":" "},null,{"$f":"IF(ISBLANK(G10),\" \",IF(ISBLANK(G11),\" \",((G10-G11)/G10)*100))","v":" "},null,{"$f":"IF(ISBLANK(I10),\" \",IF(ISBLANK(I11),\" \",((I10-I11)/I10)*100))","v":" "},null,{"$f":"IF(ISBLANK(K10),\" \",IF(ISBLANK(K11),\" \",((K10-K11)/K10)*100))","v":" "},null,{"$f":"IF(ISBLANK(M10),\" \",IF(ISBLANK(M11),\" \",((M10-M11)/M10)*100))","v":" "}]
[null,null,"Wt.","% Passing","Wt.","% Passing","Wt.","% Passing","Wt.","% Passing","Wt.","% Passing","Wt.","% Passing"]
[100,1,null,{"$f":"IF(ISBLANK(C$10),\"  \",IF(ISBLANK(C$11),\" \",IF(ISBLANK(C13),\" \",ROUND((C13/C$10)*100,0))))","v":"  "},null,{"$f":"IF(ISBLANK(E$10),\"  \",IF(ISBLANK(E$11),\" \",IF(ISBLANK(E13),\" \",ROUND((E13/E$10)*100,0))))","v":"  "},null,{"$f":"IF(ISBLANK(G$10),\"  \",IF(ISBLANK(G$11),\" \",IF(ISBLANK(G13),\" \",ROUND((G13/G$10)*100,0))))","v":"  "},null,{"$f":"IF(ISBLANK(I$10),\"  \",IF(ISBLANK(I$11),\" \",IF(ISBLANK(I13),\" \",ROUND((I13/I$10)*100,0))))","v":"  "},null,{"$f":"IF(ISBLANK(K$10),\"  \",IF(ISBLANK(K$11),\" \",IF(ISBLANK(K13),\" \",ROUND((K13/K$10)*100,0))))","v":"  "},null,{"$f":"IF(ISBLANK(M$10),\"  \",IF(ISBLANK(M$11),\" \",IF(ISBLANK(M13),\" \",ROUND((M13/M$10)*100,0))))","v":"  "}]
["90-100",0.75,null,"  ",null,"  ",null,"  ",null,"  ",null,"  ",null,"  "]
["Breaker",0.5,null,"  ",null,"  ",null,"  ",null,"  ",null,"  ",null,"  "]
["20-55",0.375,null,"  ",null,"  ",null,"  ",null,"  ",null,"  ",null,"  "]
["0-10",4,null,"  ",null,"  ",null,"  ",null,"  ",null,"  ",null,"  "]
["0-5",8,null,"  ",null,"  ",null,"  ",null,"  ",null,"  ",null,"  "]
[]
["Wash",{"$f":"'S1'!B20","v":" "}]
["St. Wt. Before Wash",null,null,"% Passing",null,"% Passing",null,"% Passing",null,"% Passing",null,"% Passing",null,"% Passing"]
["End Wt. After Wash",null,null,{"$f":"IF(ISBLANK(C21),\" \",IF(ISBLANK(C22),\" \",((C21-C22)/C21)*100))","v":" "},null,{"$f":"IF(ISBLANK(E21),\" \",IF(ISBLANK(E22),\" \",((E21-E22)/E21)*100))","v":" "},null,{"$f":"IF(ISBLANK(G21),\" \",IF(ISBLANK(G22),\" \",((G21-G22)/G21)*100))","v":" "},null,{"$f":"IF(ISBLANK(I21),\" \",IF(ISBLANK(I22),\" \",((I21-I22)/I21)*100))","v":" "},null,{"$f":"IF(ISBLANK(K21),\" \",IF(ISBLANK(K22),\" \",((K21-K22)/K21)*100))","v":" "},null,{"$f":"IF(ISBLANK(M21),\" \",IF(ISBLANK(M22),\" \",((M21-M22)/M21)*100))","v":" "}]
["Tested By"]
["Remarks"]
[]
[]
[]
["Sample No."]
["Date"]
["Starting Weight",null,null,"% Loss",null,"% Loss",null,"% Loss",null,"% Loss",null,"% Loss",null,"% Loss"]
["Ending Weight",null,null,{"$f":"IF(ISBLANK(C30),\" \",IF(ISBLANK(C31),\" \",((C30-C31)/C30)*100))","v":" "},null,{"$f":"IF(ISBLANK(E30),\" \",IF(ISBLANK(E31),\" \",((E30-E31)/E30)*100))","v":" "},null,{"$f":"IF(ISBLANK(G30),\" \",IF(ISBLANK(G31),\" \",((G30-G31)/G30)*100))","v":" "},null,{"$f":"IF(ISBLANK(I30),\" \",IF(ISBLANK(I31),\" \",((I30-I31)/I30)*100))","v":" "},null,{"$f":"IF(ISBLANK(K30),\" \",IF(ISBLANK(K31),\" \",((K30-K31)/K30)*100))","v":" "},null,{"$f":"IF(ISBLANK(M30),\" \",IF(ISBLANK(M31),\" \",((M30-M31)/M30)*100))","v":" "}]
[null,null,"Wt.","% Passing","Wt.","% Passing","Wt.","% Passing","Wt.","% Passing","Wt.","% Passing","Wt.","% Passing"]
[100,1,null,{"$f":"IF(ISBLANK(C$30),\"  \",IF(ISBLANK(C$31),\" \",IF(ISBLANK(C33),\" \",ROUND((C33/C$30)*100,0))))","v":"  "},null,{"$f":"IF(ISBLANK(E$30),\"  \",IF(ISBLANK(E$31),\" \",IF(ISBLANK(E33),\" \",ROUND((E33/E$30)*100,0))))","v":"  "},null,{"$f":"IF(ISBLANK(G$30),\"  \",IF(ISBLANK(G$31),\" \",IF(ISBLANK(G33),\" \",ROUND((G33/G$30)*100,0))))","v":"  "},null,{"$f":"IF(ISBLANK(I$30),\"  \",IF(ISBLANK(I$31),\" \",IF(ISBLANK(I33),\" \",ROUND((I33/I$30)*100,0))))","v":"  "},null,{"$f":"IF(ISBLANK(K$30),\"  \",IF(ISBLANK(K$31),\" \",IF(ISBLANK(K33),\" \",ROUND((K33/K$30)*100,0))))","v":"  "},null,{"$f":"IF(ISBLANK(M$30),\"  \",IF(ISBLANK(M$31),\" \",IF(ISBLANK(M33),\" \",ROUND((M33/M$30)*100,0))))","v":"  "}]
["90-100",0.75,null,"  ",null,"  ",null,"  ",null,"  ",null,"  ",null,"  "]
["Breaker",0.5,null,"  ",null,"  ",null,"  ",null,"  ",null,"  ",null,"  "]
["20-55",0.375,null,"  ",null,"  ",null,"  ",null,"  ",null,"  ",null,"  "]
["0-10",4,null,"  ",null,"  ",null,"  ",null,"  ",null,"  ",null,"  "]
["0-5",8,null,"  ",null,"  ",null,"  ",null,"  ",null,"  ",null,"  "]
[]
["Wash",{"$f":"'S1'!B40","v":" "}]
["St. Wt. Before Wash",null,null,"% Passing",null,"% Passing",null,"% Passing",null,"% Passing",null,"% Passing",null,"% Passing"]
["End Wt. After Wash",null,null,{"$f":"IF(ISBLANK(C41),\" \",IF(ISBLANK(C42),\" \",((C41-C42)/C41)*100))","v":" "},null,{"$f":"IF(ISBLANK(E41),\" \",IF(ISBLANK(E42),\" \",((E41-E42)/E41)*100))","v":" "},null,{"$f":"IF(ISBLANK(G41),\" \",IF(ISBLANK(G42),\" \",((G41-G42)/G41)*100))","v":" "},null,{"$f":"IF(ISBLANK(I41),\" \",IF(ISBLANK(I42),\" \",((I41-I42)/I41)*100))","v":" "},null,{"$f":"IF(ISBLANK(K41),\" \",IF(ISBLANK(K42),\" \",((K41-K42)/K41)*100))","v":" "},null,{"$f":"IF(ISBLANK(M41),\" \",IF(ISBLANK(M42),\" \",((M41-M42)/M41)*100))","v":" "}]
["Tested By"]
["Remarks"]

{"sheet":"S3","index":2,"n_rows":44,"n_cols":14,"rows_kept":44,"cut":false,"hidden":true,"merged":[[5,10,5,11],[5,12,5,13],[11,0,11,1],[7,12,7,13],[8,8,8,9],[8,10,8,11],[8,12,8,13],[7,10,7,11],[7,0,7,1],[5,3,5,8],[7,6,7,7],[7,8,7,9],[8,6,8,7],[7,2,7,3],[7,4,7,5],[8,2,8,3],[0,0,3,1],[3,12,3,13],[0,8,3,9],[1,3,1,7],[2,3,2,7],[3,3,3,7],[4,10,4,11],[4,12,4,13],[1,10,1,11],[3,10,3,11],[1,12,1,13],[2,10,2,11],[2,12,2,13],[8,4,8,5],[27,6,27,7],[27,0,27,1],[27,2,27,3],[8,0,8,1],[9,0,9,1],[21,0,21,1],[22,0,22,1],[22,2,22,3],[22,4,22,5],[23,0,25,1],[20,0,20,1],[10,0,10,1],[22,6,22,7],[27,4,27,5],[40,0,40,1],[41,0,41,1],[30,0,30,1],[28,0,28,1],[29,0,29,1],[31,0,31,1],[22,12,22,13],[27,8,27,9],[27,10,27,11],[27,12,27,13],[28,8,28,9],[28,10,28,11],[22,10,22,11],[28,12,28,13],[22,8,22,9],[42,2,42,3],[42,4,42,5],[42,8,42,9],[43,0,45,1],[43,2,45,3],[43,4,45,5],[43,6,45,7],[43,8,45,9],[4,0,4,1],[43,12,45,13],[23,2,25,3],[23,4,25,5],[23,6,25,7],[23,8,25,9],[23,10,25,11],[23,12,25,13],[42,6,42,7],[42,12,42,13],[42,10,42,11],[43,10,45,11],[28,4,28,5],[28,6,28,7],[28,2,28,3],[42,0,42,1]]}
[]
[null,null,null,"COMMONWEALTH OF PENNSYLVANIA",null,null,null,null,null,null,"DISTRICT",null,{"$f":"IF(ISBLANK('S1'!L2),\" \",'S1'!L2)","v":" "}]
[null,null,null,"DEPARTMENT OF TRANSPORTATION",null,null,null,null,null,null,"PLANT CODE",null,{"$f":"IF(ISBLANK('S1'!L3),\" \",'S1'!L3)","v":" "}]
[null,null,null,"PENNSYLVANIA TURNPIKE COMMISSION",null,null,null,null,null,null,"AGG SIZE",null,{"$f":"IF(ISBLANK('S1'!L4),\" \",'S1'!L4)","v":" "}]
[{"$f":"'S1'!A5","v":"Aggregate 2023"},null,null,null,null,null,null,null,null,null,"3/8 TARGET VALUE",null,{"$f":"IF(ISBLANK('S1'!L5),\" \",'S1'!L5)","v":35}]
[null,null,null,"Material Test Results for #67 Coarse Aggregate",null,null,null,null,null,null,"WASH SPEC",null,{"$f":"IF(ISBLANK('S1'!L6),\" \",'S1'!L6)","v":" "}]
[]
["Sample No."]
["Date"]
["Starting Weight",null,null,"% Loss",null,"% Loss",null,"% Loss",null,"% Loss",null,"% Loss",null,"% Loss"]
["Ending Weight",null,null,{"$f":"IF(ISBLANK(C10),\" \",IF(ISBLANK(C11),\" \",((C10-C11)/C10)*100))","v":" "},null,{"$f":"IF(ISBLANK(E10),\" \",IF(ISBLANK(E11),\" \",((E10-E11)/E10)*100))","v":" "},null,{"$f":"IF(ISBLANK(G10),\" \",IF(ISBLANK(G11),\" \",((G10-G11)/G10)*100))","v":" "},null,{"$f":"IF(ISBLANK(I10),\" \",IF(ISBLANK(I11),\" \",((I10-I11)/I10)*100))","v":" "},null,{"$f":"IF(ISBLANK(K10),\" \",IF(ISBLANK(K11),\" \",((K10-K11)/K10)*100))","v":" "},null,{"$f":"IF(ISBLANK(M10),\" \",IF(ISBLANK(M11),\" \",((M10-M11)/M10)*100))","v":" "}]
[null,null,"Wt.","% Passing","Wt.","% Passing","Wt.","% Passing","Wt.","% Passing","Wt.","% Passing","Wt.","% Passing"]
[100,1,null,{"$f":"IF(ISBLANK(C$10),\"  \",IF(ISBLANK(C$11),\" \",IF(ISBLANK(C13),\" \",ROUND((C13/C$10)*100,0))))","v":"  "},null,{"$f":"IF(ISBLANK(E$10),\"  \",IF(ISBLANK(E$11),\" \",IF(ISBLANK(E13),\" \",ROUND((E13/E$10)*100,0))))","v":"  "},null,{"$f":"IF(ISBLANK(G$10),\"  \",IF(ISBLANK(G$11),\" \",IF(ISBLANK(G13),\" \",ROUND((G13/G$10)*100,0))))","v":"  "},null,{"$f":"IF(ISBLANK(I$10),\"  \",IF(ISBLANK(I$11),\" \",IF(ISBLANK(I13),\" \",ROUND((I13/I$10)*100,0))))","v":"  "},null,{"$f":"IF(ISBLANK(K$10),\"  \",IF(ISBLANK(K$11),\" \",IF(ISBLANK(K13),\" \",ROUND((K13/K$10)*100,0))))","v":"  "},null,{"$f":"IF(ISBLANK(M$10),\"  \",IF(ISBLANK(M$11),\" \",IF(ISBLANK(M13),\" \",ROUND((M13/M$10)*100,0))))","v":"  "}]
["90-100",0.75,null,"  ",null,"  ",null,"  ",null,"  ",null,"  ",null,"  "]
["Breaker",0.5,null,"  ",null,"  ",null,"  ",null,"  ",null,"  ",null,"  "]
["20-55",0.375,null,"  ",null,"  ",null,"  ",null,"  ",null,"  ",null,"  "]
["0-10",4,null,"  ",null,"  ",null,"  ",null,"  ",null,"  ",null,"  "]
["0-5",8,null,"  ",null,"  ",null,"  ",null,"  ",null,"  ",null,"  "]
[]
["Wash",{"$f":"'S1'!B20","v":" "}]
["St. Wt. Before Wash",null,null,"% Passing",null,"% Passing",null,"% Passing",null,"% Passing",null,"% Passing",null,"% Passing"]
["End Wt. After Wash",null,null,{"$f":"IF(ISBLANK(C21),\" \",IF(ISBLANK(C22),\" \",((C21-C22)/C21)*100))","v":" "},null,{"$f":"IF(ISBLANK(E21),\" \",IF(ISBLANK(E22),\" \",((E21-E22)/E21)*100))","v":" "},null,{"$f":"IF(ISBLANK(G21),\" \",IF(ISBLANK(G22),\" \",((G21-G22)/G21)*100))","v":" "},null,{"$f":"IF(ISBLANK(I21),\" \",IF(ISBLANK(I22),\" \",((I21-I22)/I21)*100))","v":" "},null,{"$f":"IF(ISBLANK(K21),\" \",IF(ISBLANK(K22),\" \",((K21-K22)/K21)*100))","v":" "},null,{"$f":"IF(ISBLANK(M21),\" \",IF(ISBLANK(M22),\" \",((M21-M22)/M21)*100))","v":" "}]
["Tested By"]
["Remarks"]
[]
[]
[]
["Sample No."]
["Date"]
["Starting Weight",null,null,"% Loss",null,"% Loss",null,"% Loss",null,"% Loss",null,"% Loss",null,"% Loss"]
["Ending Weight",null,null,{"$f":"IF(ISBLANK(C30),\" \",IF(ISBLANK(C31),\" \",((C30-C31)/C30)*100))","v":" "},null,{"$f":"IF(ISBLANK(E30),\" \",IF(ISBLANK(E31),\" \",((E30-E31)/E30)*100))","v":" "},null,{"$f":"IF(ISBLANK(G30),\" \",IF(ISBLANK(G31),\" \",((G30-G31)/G30)*100))","v":" "},null,{"$f":"IF(ISBLANK(I30),\" \",IF(ISBLANK(I31),\" \",((I30-I31)/I30)*100))","v":" "},null,{"$f":"IF(ISBLANK(K30),\" \",IF(ISBLANK(K31),\" \",((K30-K31)/K30)*100))","v":" "},null,{"$f":"IF(ISBLANK(M30),\" \",IF(ISBLANK(M31),\" \",((M30-M31)/M30)*100))","v":" "}]
[null,null,"Wt.","% Passing","Wt.","% Passing","Wt.","% Passing","Wt.","% Passing","Wt.","% Passing","Wt.","% Passing"]
[100,1,null,{"$f":"IF(ISBLANK(C$30),\"  \",IF(ISBLANK(C$31),\" \",IF(ISBLANK(C33),\" \",ROUND((C33/C$30)*100,0))))","v":"  "},null,{"$f":"IF(ISBLANK(E$30),\"  \",IF(ISBLANK(E$31),\" \",IF(ISBLANK(E33),\" \",ROUND((E33/E$30)*100,0))))","v":"  "},null,{"$f":"IF(ISBLANK(G$30),\"  \",IF(ISBLANK(G$31),\" \",IF(ISBLANK(G33),\" \",ROUND((G33/G$30)*100,0))))","v":"  "},null,{"$f":"IF(ISBLANK(I$30),\"  \",IF(ISBLANK(I$31),\" \",IF(ISBLANK(I33),\" \",ROUND((I33/I$30)*100,0))))","v":"  "},null,{"$f":"IF(ISBLANK(K$30),\"  \",IF(ISBLANK(K$31),\" \",IF(ISBLANK(K33),\" \",ROUND((K33/K$30)*100,0))))","v":"  "},null,{"$f":"IF(ISBLANK(M$30),\"  \",IF(ISBLANK(M$31),\" \",IF(ISBLANK(M33),\" \",ROUND((M33/M$30)*100,0))))","v":"  "}]
["90-100",0.75,null,"  ",null,"  ",null,"  ",null,"  ",null,"  ",null,"  "]
["Breaker",0.5,null,"  ",null,"  ",null,"  ",null,"  ",null,"  ",null,"  "]
["20-55",0.375,null,"  ",null,"  ",null,"  ",null,"  ",null,"  ",null,"  "]
["0-10",4,null,"  ",null,"  ",null,"  ",null,"  ",null,"  ",null,"  "]
["0-5",8,null,"  ",null,"  ",null,"  ",null,"  ",null,"  ",null,"  "]
[]
["Wash",{"$f":"'S1'!B40","v":" "}]
["St. Wt. Before Wash",null,null,"% Passing",null,"% Passing",null,"% Passing",null,"% Passing",null,"% Passing",null,"% Passing"]
["End Wt. After Wash",null,null,{"$f":"IF(ISBLANK(C41),\" \",IF(ISBLANK(C42),\" \",((C41-C42)/C41)*100))","v":" "},null,{"$f":"IF(ISBLANK(E41),\" \",IF(ISBLANK(E42),\" \",((E41-E42)/E41)*100))","v":" "},null,{"$f":"IF(ISBLANK(G41),\" \",IF(ISBLANK(G42),\" \",((G41-G42)/G41)*100))","v":" "},null,{"$f":"IF(ISBLANK(I41),\" \",IF(ISBLANK(I42),\" \",((I41-I42)/I41)*100))","v":" "},null,{"$f":"IF(ISBLANK(K41),\" \",IF(ISBLANK(K42),\" \",((K41-K42)/K41)*100))","v":" "},null,{"$f":"IF(ISBLANK(M41),\" \",IF(ISBLANK(M42),\" \",((M41-M42)/M41)*100))","v":" "}]
["Tested By"]
["Remarks"]

{"sheet":"S4","index":3,"n_rows":44,"n_cols":14,"rows_kept":44,"cut":false,"hidden":true,"merged":[[5,10,5,11],[5,12,5,13],[11,0,11,1],[7,12,7,13],[8,8,8,9],[8,10,8,11],[8,12,8,13],[7,10,7,11],[7,0,7,1],[5,3,5,8],[7,6,7,7],[7,8,7,9],[8,6,8,7],[7,2,7,3],[7,4,7,5],[8,2,8,3],[0,0,3,1],[3,12,3,13],[0,8,3,9],[1,3,1,7],[2,3,2,7],[3,3,3,7],[4,10,4,11],[4,12,4,13],[1,10,1,11],[3,10,3,11],[1,12,1,13],[2,10,2,11],[2,12,2,13],[8,4,8,5],[27,6,27,7],[27,0,27,1],[27,2,27,3],[8,0,8,1],[9,0,9,1],[21,0,21,1],[22,0,22,1],[22,2,22,3],[22,4,22,5],[23,0,25,1],[20,0,20,1],[10,0,10,1],[22,6,22,7],[27,4,27,5],[40,0,40,1],[41,0,41,1],[30,0,30,1],[28,0,28,1],[29,0,29,1],[31,0,31,1],[22,12,22,13],[27,8,27,9],[27,10,27,11],[27,12,27,13],[28,8,28,9],[28,10,28,11],[22,10,22,11],[28,12,28,13],[22,8,22,9],[42,2,42,3],[42,4,42,5],[42,8,42,9],[43,0,45,1],[43,2,45,3],[43,4,45,5],[43,6,45,7],[43,8,45,9],[4,0,4,1],[43,12,45,13],[23,2,25,3],[23,4,25,5],[23,6,25,7],[23,8,25,9],[23,10,25,11],[23,12,25,13],[42,6,42,7],[42,12,42,13],[42,10,42,11],[43,10,45,11],[28,4,28,5],[28,6,28,7],[28,2,28,3],[42,0,42,1]]}
[]
[null,null,null,"COMMONWEALTH OF PENNSYLVANIA",null,null,null,null,null,null,"DISTRICT",null,{"$f":"IF(ISBLANK('S1'!L2),\" \",'S1'!L2)","v":" "}]
[null,null,null,"DEPARTMENT OF TRANSPORTATION",null,null,null,null,null,null,"PLANT CODE",null,{"$f":"IF(ISBLANK('S1'!L3),\" \",'S1'!L3)","v":" "}]
[null,null,null,"PENNSYLVANIA TURNPIKE COMMISSION",null,null,null,null,null,null,"AGG SIZE",null,{"$f":"IF(ISBLANK('S1'!L4),\" \",'S1'!L4)","v":" "}]
[{"$f":"'S1'!A5","v":"Aggregate 2023"},null,null,null,null,null,null,null,null,null,"3/8 TARGET VALUE",null,{"$f":"IF(ISBLANK('S1'!L5),\" \",'S1'!L5)","v":35}]
[null,null,null,"Material Test Results for #67 Coarse Aggregate",null,null,null,null,null,null,"WASH SPEC",null,{"$f":"IF(ISBLANK('S1'!L6),\" \",'S1'!L6)","v":" "}]
[]
["Sample No."]
["Date"]
["Starting Weight",null,null,"% Loss",null,"% Loss",null,"% Loss",null,"% Loss",null,"% Loss",null,"% Loss"]
["Ending Weight",null,null,{"$f":"IF(ISBLANK(C10),\" \",IF(ISBLANK(C11),\" \",((C10-C11)/C10)*100))","v":" "},null,{"$f":"IF(ISBLANK(E10),\" \",IF(ISBLANK(E11),\" \",((E10-E11)/E10)*100))","v":" "},null,{"$f":"IF(ISBLANK(G10),\" \",IF(ISBLANK(G11),\" \",((G10-G11)/G10)*100))","v":" "},null,{"$f":"IF(ISBLANK(I10),\" \",IF(ISBLANK(I11),\" \",((I10-I11)/I10)*100))","v":" "},null,{"$f":"IF(ISBLANK(K10),\" \",IF(ISBLANK(K11),\" \",((K10-K11)/K10)*100))","v":" "},null,{"$f":"IF(ISBLANK(M10),\" \",IF(ISBLANK(M11),\" \",((M10-M11)/M10)*100))","v":" "}]
[null,null,"Wt.","% Passing","Wt.","% Passing","Wt.","% Passing","Wt.","% Passing","Wt.","% Passing","Wt.","% Passing"]
[100,1,null,{"$f":"IF(ISBLANK(C$10),\"  \",IF(ISBLANK(C$11),\" \",IF(ISBLANK(C13),\" \",ROUND((C13/C$10)*100,0))))","v":"  "},null,{"$f":"IF(ISBLANK(E$10),\"  \",IF(ISBLANK(E$11),\" \",IF(ISBLANK(E13),\" \",ROUND((E13/E$10)*100,0))))","v":"  "},null,{"$f":"IF(ISBLANK(G$10),\"  \",IF(ISBLANK(G$11),\" \",IF(ISBLANK(G13),\" \",ROUND((G13/G$10)*100,0))))","v":"  "},null,{"$f":"IF(ISBLANK(I$10),\"  \",IF(ISBLANK(I$11),\" \",IF(ISBLANK(I13),\" \",ROUND((I13/I$10)*100,0))))","v":"  "},null,{"$f":"IF(ISBLANK(K$10),\"  \",IF(ISBLANK(K$11),\" \",IF(ISBLANK(K13),\" \",ROUND((K13/K$10)*100,0))))","v":"  "},null,{"$f":"IF(ISBLANK(M$10),\"  \",IF(ISBLANK(M$11),\" \",IF(ISBLANK(M13),\" \",ROUND((M13/M$10)*100,0))))","v":"  "}]
["90-100",0.75,null,"  ",null,"  ",null,"  ",null,"  ",null,"  ",null,"  "]
["Breaker",0.5,null,"  ",null,"  ",null,"  ",null,"  ",null,"  ",null,"  "]
["20-55",0.375,null,"  ",null,"  ",null,"  ",null,"  ",null,"  ",null,"  "]
["0-10",4,null,"  ",null,"  ",null,"  ",null,"  ",null,"  ",null,"  "]
["0-5",8,null,"  ",null,"  ",null,"  ",null,"  ",null,"  ",null,"  "]
[]
["Wash",{"$f":"'S1'!B20","v":" "}]
["St. Wt. Before Wash",null,null,"% Passing",null,"% Passing",null,"% Passing",null,"% Passing",null,"% Passing",null,"% Passing"]
["End Wt. After Wash",null,null,{"$f":"IF(ISBLANK(C21),\" \",IF(ISBLANK(C22),\" \",((C21-C22)/C21)*100))","v":" "},null,{"$f":"IF(ISBLANK(E21),\" \",IF(ISBLANK(E22),\" \",((E21-E22)/E21)*100))","v":" "},null,{"$f":"IF(ISBLANK(G21),\" \",IF(ISBLANK(G22),\" \",((G21-G22)/G21)*100))","v":" "},null,{"$f":"IF(ISBLANK(I21),\" \",IF(ISBLANK(I22),\" \",((I21-I22)/I21)*100))","v":" "},null,{"$f":"IF(ISBLANK(K21),\" \",IF(ISBLANK(K22),\" \",((K21-K22)/K21)*100))","v":" "},null,{"$f":"IF(ISBLANK(M21),\" \",IF(ISBLANK(M22),\" \",((M21-M22)/M21)*100))","v":" "}]
["Tested By"]
["Remarks"]
[]
[]
[]
["Sample No."]
["Date"]
["Starting Weight",null,null,"% Loss",null,"% Loss",null,"% Loss",null,"% Loss",null,"% Loss",null,"% Loss"]
["Ending Weight",null,null,{"$f":"IF(ISBLANK(C30),\" \",IF(ISBLANK(C31),\" \",((C30-C31)/C30)*100))","v":" "},null,{"$f":"IF(ISBLANK(E30),\" \",IF(ISBLANK(E31),\" \",((E30-E31)/E30)*100))","v":" "},null,{"$f":"IF(ISBLANK(G30),\" \",IF(ISBLANK(G31),\" \",((G30-G31)/G30)*100))","v":" "},null,{"$f":"IF(ISBLANK(I30),\" \",IF(ISBLANK(I31),\" \",((I30-I31)/I30)*100))","v":" "},null,{"$f":"IF(ISBLANK(K30),\" \",IF(ISBLANK(K31),\" \",((K30-K31)/K30)*100))","v":" "},null,{"$f":"IF(ISBLANK(M30),\" \",IF(ISBLANK(M31),\" \",((M30-M31)/M30)*100))","v":" "}]
[null,null,"Wt.","% Passing","Wt.","% Passing","Wt.","% Passing","Wt.","% Passing","Wt.","% Passing","Wt.","% Passing"]
[100,1,null,{"$f":"IF(ISBLANK(C$30),\"  \",IF(ISBLANK(C$31),\" \",IF(ISBLANK(C33),\" \",ROUND((C33/C$30)*100,0))))","v":"  "},null,{"$f":"IF(ISBLANK(E$30),\"  \",IF(ISBLANK(E$31),\" \",IF(ISBLANK(E33),\" \",ROUND((E33/E$30)*100,0))))","v":"  "},null,{"$f":"IF(ISBLANK(G$30),\"  \",IF(ISBLANK(G$31),\" \",IF(ISBLANK(G33),\" \",ROUND((G33/G$30)*100,0))))","v":"  "},null,{"$f":"IF(ISBLANK(I$30),\"  \",IF(ISBLANK(I$31),\" \",IF(ISBLANK(I33),\" \",ROUND((I33/I$30)*100,0))))","v":"  "},null,{"$f":"IF(ISBLANK(K$30),\"  \",IF(ISBLANK(K$31),\" \",IF(ISBLANK(K33),\" \",ROUND((K33/K$30)*100,0))))","v":"  "},null,{"$f":"IF(ISBLANK(M$30),\"  \",IF(ISBLANK(M$31),\" \",IF(ISBLANK(M33),\" \",ROUND((M33/M$30)*100,0))))","v":"  "}]
["90-100",0.75,null,"  ",null,"  ",null,"  ",null,"  ",null,"  ",null,"  "]
["Breaker",0.5,null,"  ",null,"  ",null,"  ",null,"  ",null,"  ",null,"  "]
["20-55",0.375,null,"  ",null,"  ",null,"  ",null,"  ",null,"  ",null,"  "]
["0-10",4,null,"  ",null,"  ",null,"  ",null,"  ",null,"  ",null,"  "]
["0-5",8,null,"  ",null,"  ",null,"  ",null,"  ",null,"  ",null,"  "]
[]
["Wash",{"$f":"'S1'!B40","v":" "}]
["St. Wt. Before Wash",null,null,"% Passing",null,"% Passing",null,"% Passing",null,"% Passing",null,"% Passing",null,"% Passing"]
["End Wt. After Wash",null,null,{"$f":"IF(ISBLANK(C41),\" \",IF(ISBLANK(C42),\" \",((C41-C42)/C41)*100))","v":" "},null,{"$f":"IF(ISBLANK(E41),\" \",IF(ISBLANK(E42),\" \",((E41-E42)/E41)*100))","v":" "},null,{"$f":"IF(ISBLANK(G41),\" \",IF(ISBLANK(G42),\" \",((G41-G42)/G41)*100))","v":" "},null,{"$f":"IF(ISBLANK(I41),\" \",IF(ISBLANK(I42),\" \",((I41-I42)/I41)*100))","v":" "},null,{"$f":"IF(ISBLANK(K41),\" \",IF(ISBLANK(K42),\" \",((K41-K42)/K41)*100))","v":" "},null,{"$f":"IF(ISBLANK(M41),\" \",IF(ISBLANK(M42),\" \",((M41-M42)/M41)*100))","v":" "}]
["Tested By"]
["Remarks"]

{"sheet":"S5","index":4,"n_rows":44,"n_cols":14,"rows_kept":44,"cut":false,"hidden":true,"merged":[[5,10,5,11],[5,12,5,13],[11,0,11,1],[7,12,7,13],[8,8,8,9],[8,10,8,11],[8,12,8,13],[7,10,7,11],[7,0,7,1],[5,3,5,8],[7,6,7,7],[7,8,7,9],[8,6,8,7],[7,2,7,3],[7,4,7,5],[8,2,8,3],[0,0,3,1],[3,12,3,13],[0,8,3,9],[1,3,1,7],[2,3,2,7],[3,3,3,7],[4,10,4,11],[4,12,4,13],[1,10,1,11],[3,10,3,11],[1,12,1,13],[2,10,2,11],[2,12,2,13],[8,4,8,5],[27,6,27,7],[27,0,27,1],[27,2,27,3],[8,0,8,1],[9,0,9,1],[21,0,21,1],[22,0,22,1],[22,2,22,3],[22,4,22,5],[23,0,25,1],[20,0,20,1],[10,0,10,1],[22,6,22,7],[27,4,27,5],[40,0,40,1],[41,0,41,1],[30,0,30,1],[28,0,28,1],[29,0,29,1],[31,0,31,1],[22,12,22,13],[27,8,27,9],[27,10,27,11],[27,12,27,13],[28,8,28,9],[28,10,28,11],[22,10,22,11],[28,12,28,13],[22,8,22,9],[42,2,42,3],[42,4,42,5],[42,8,42,9],[43,0,45,1],[43,2,45,3],[43,4,45,5],[43,6,45,7],[43,8,45,9],[4,0,4,1],[43,12,45,13],[23,2,25,3],[23,4,25,5],[23,6,25,7],[23,8,25,9],[23,10,25,11],[23,12,25,13],[42,6,42,7],[42,12,42,13],[42,10,42,11],[43,10,45,11],[28,4,28,5],[28,6,28,7],[28,2,28,3],[42,0,42,1]]}
[]
[null,null,null,"COMMONWEALTH OF PENNSYLVANIA",null,null,null,null,null,null,"DISTRICT",null,{"$f":"IF(ISBLANK('S1'!L2),\" \",'S1'!L2)","v":" "}]
[null,null,null,"DEPARTMENT OF TRANSPORTATION",null,null,null,null,null,null,"PLANT CODE",null,{"$f":"IF(ISBLANK('S1'!L3),\" \",'S1'!L3)","v":" "}]
[null,null,null,"PENNSYLVANIA TURNPIKE COMMISSION",null,null,null,null,null,null,"AGG SIZE",null,{"$f":"IF(ISBLANK('S1'!L4),\" \",'S1'!L4)","v":" "}]
[{"$f":"'S1'!A5","v":"Aggregate 2023"},null,null,null,null,null,null,null,null,null,"3/8 TARGET VALUE",null,{"$f":"IF(ISBLANK('S1'!L5),\" \",'S1'!L5)","v":35}]
[null,null,null,"Material Test Results for #67 Coarse Aggregate",null,null,null,null,null,null,"WASH SPEC",null,{"$f":"IF(ISBLANK('S1'!L6),\" \",'S1'!L6)","v":" "}]
[]
["Sample No."]
["Date"]
["Starting Weight",null,null,"% Loss",null,"% Loss",null,"% Loss",null,"% Loss",null,"% Loss",null,"% Loss"]
["Ending Weight",null,null,{"$f":"IF(ISBLANK(C10),\" \",IF(ISBLANK(C11),\" \",((C10-C11)/C10)*100))","v":" "},null,{"$f":"IF(ISBLANK(E10),\" \",IF(ISBLANK(E11),\" \",((E10-E11)/E10)*100))","v":" "},null,{"$f":"IF(ISBLANK(G10),\" \",IF(ISBLANK(G11),\" \",((G10-G11)/G10)*100))","v":" "},null,{"$f":"IF(ISBLANK(I10),\" \",IF(ISBLANK(I11),\" \",((I10-I11)/I10)*100))","v":" "},null,{"$f":"IF(ISBLANK(K10),\" \",IF(ISBLANK(K11),\" \",((K10-K11)/K10)*100))","v":" "},null,{"$f":"IF(ISBLANK(M10),\" \",IF(ISBLANK(M11),\" \",((M10-M11)/M10)*100))","v":" "}]
[null,null,"Wt.","% Passing","Wt.","% Passing","Wt.","% Passing","Wt.","% Passing","Wt.","% Passing","Wt.","% Passing"]
[100,1,null,{"$f":"IF(ISBLANK(C$10),\"  \",IF(ISBLANK(C$11),\" \",IF(ISBLANK(C13),\" \",ROUND((C13/C$10)*100,0))))","v":"  "},null,{"$f":"IF(ISBLANK(E$10),\"  \",IF(ISBLANK(E$11),\" \",IF(ISBLANK(E13),\" \",ROUND((E13/E$10)*100,0))))","v":"  "},null,{"$f":"IF(ISBLANK(G$10),\"  \",IF(ISBLANK(G$11),\" \",IF(ISBLANK(G13),\" \",ROUND((G13/G$10)*100,0))))","v":"  "},null,{"$f":"IF(ISBLANK(I$10),\"  \",IF(ISBLANK(I$11),\" \",IF(ISBLANK(I13),\" \",ROUND((I13/I$10)*100,0))))","v":"  "},null,{"$f":"IF(ISBLANK(K$10),\"  \",IF(ISBLANK(K$11),\" \",IF(ISBLANK(K13),\" \",ROUND((K13/K$10)*100,0))))","v":"  "},null,{"$f":"IF(ISBLANK(M$10),\"  \",IF(ISBLANK(M$11),\" \",IF(ISBLANK(M13),\" \",ROUND((M13/M$10)*100,0))))","v":"  "}]
["90-100",0.75,null,"  ",null,"  ",null,"  ",null,"  ",null,"  ",null,"  "]
["Breaker",0.5,null,"  ",null,"  ",null,"  ",null,"  ",null,"  ",null,"  "]
["20-55",0.375,null,"  ",null,"  ",null,"  ",null,"  ",null,"  ",null,"  "]
["0-10",4,null,"  ",null,"  ",null,"  ",null,"  ",null,"  ",null,"  "]
["0-5",8,null,"  ",null,"  ",null,"  ",null,"  ",null,"  ",null,"  "]
[]
["Wash",{"$f":"'S1'!B20","v":" "}]
["St. Wt. Before Wash",null,null,"% Passing",null,"% Passing",null,"% Passing",null,"% Passing",null,"% Passing",null,"% Passing"]
["End Wt. After Wash",null,null,{"$f":"IF(ISBLANK(C21),\" \",IF(ISBLANK(C22),\" \",((C21-C22)/C21)*100))","v":" "},null,{"$f":"IF(ISBLANK(E21),\" \",IF(ISBLANK(E22),\" \",((E21-E22)/E21)*100))","v":" "},null,{"$f":"IF(ISBLANK(G21),\" \",IF(ISBLANK(G22),\" \",((G21-G22)/G21)*100))","v":" "},null,{"$f":"IF(ISBLANK(I21),\" \",IF(ISBLANK(I22),\" \",((I21-I22)/I21)*100))","v":" "},null,{"$f":"IF(ISBLANK(K21),\" \",IF(ISBLANK(K22),\" \",((K21-K22)/K21)*100))","v":" "},null,{"$f":"IF(ISBLANK(M21),\" \",IF(ISBLANK(M22),\" \",((M21-M22)/M21)*100))","v":" "}]
["Tested By"]
["Remarks"]
[]
[]
[]
["Sample No."]
["Date"]
["Starting Weight",null,null,"% Loss",null,"% Loss",null,"% Loss",null,"% Loss",null,"% Loss",null,"% Loss"]
["Ending Weight",null,null,{"$f":"IF(ISBLANK(C30),\" \",IF(ISBLANK(C31),\" \",((C30-C31)/C30)*100))","v":" "},null,{"$f":"IF(ISBLANK(E30),\" \",IF(ISBLANK(E31),\" \",((E30-E31)/E30)*100))","v":" "},null,{"$f":"IF(ISBLANK(G30),\" \",IF(ISBLANK(G31),\" \",((G30-G31)/G30)*100))","v":" "},null,{"$f":"IF(ISBLANK(I30),\" \",IF(ISBLANK(I31),\" \",((I30-I31)/I30)*100))","v":" "},null,{"$f":"IF(ISBLANK(K30),\" \",IF(ISBLANK(K31),\" \",((K30-K31)/K30)*100))","v":" "},null,{"$f":"IF(ISBLANK(M30),\" \",IF(ISBLANK(M31),\" \",((M30-M31)/M30)*100))","v":" "}]
[null,null,"Wt.","% Passing","Wt.","% Passing","Wt.","% Passing","Wt.","% Passing","Wt.","% Passing","Wt.","% Passing"]
[100,1,null,{"$f":"IF(ISBLANK(C$30),\"  \",IF(ISBLANK(C$31),\" \",IF(ISBLANK(C33),\" \",ROUND((C33/C$30)*100,0))))","v":"  "},null,{"$f":"IF(ISBLANK(E$30),\"  \",IF(ISBLANK(E$31),\" \",IF(ISBLANK(E33),\" \",ROUND((E33/E$30)*100,0))))","v":"  "},null,{"$f":"IF(ISBLANK(G$30),\"  \",IF(ISBLANK(G$31),\" \",IF(ISBLANK(G33),\" \",ROUND((G33/G$30)*100,0))))","v":"  "},null,{"$f":"IF(ISBLANK(I$30),\"  \",IF(ISBLANK(I$31),\" \",IF(ISBLANK(I33),\" \",ROUND((I33/I$30)*100,0))))","v":"  "},null,{"$f":"IF(ISBLANK(K$30),\"  \",IF(ISBLANK(K$31),\" \",IF(ISBLANK(K33),\" \",ROUND((K33/K$30)*100,0))))","v":"  "},null,{"$f":"IF(ISBLANK(M$30),\"  \",IF(ISBLANK(M$31),\" \",IF(ISBLANK(M33),\" \",ROUND((M33/M$30)*100,0))))","v":"  "}]
["90-100",0.75,null,"  ",null,"  ",null,"  ",null,"  ",null,"  ",null,"  "]
["Breaker",0.5,null,"  ",null,"  ",null,"  ",null,"  ",null,"  ",null,"  "]
["20-55",0.375,null,"  ",null,"  ",null,"  ",null,"  ",null,"  ",null,"  "]
["0-10",4,null,"  ",null,"  ",null,"  ",null,"  ",null,"  ",null,"  "]
["0-5",8,null,"  ",null,"  ",null,"  ",null,"  ",null,"  ",null,"  "]
[]
["Wash",{"$f":"'S1'!B40","v":" "}]
["St. Wt. Before Wash",null,null,"% Passing",null,"% Passing",null,"% Passing",null,"% Passing",null,"% Passing",null,"% Passing"]
["End Wt. After Wash",null,null,{"$f":"IF(ISBLANK(C41),\" \",IF(ISBLANK(C42),\" \",((C41-C42)/C41)*100))","v":" "},null,{"$f":"IF(ISBLANK(E41),\" \",IF(ISBLANK(E42),\" \",((E41-E42)/E41)*100))","v":" "},null,{"$f":"IF(ISBLANK(G41),\" \",IF(ISBLANK(G42),\" \",((G41-G42)/G41)*100))","v":" "},null,{"$f":"IF(ISBLANK(I41),\" \",IF(ISBLANK(I42),\" \",((I41-I42)/I41)*100))","v":" "},null,{"$f":"IF(ISBLANK(K41),\" \",IF(ISBLANK(K42),\" \",((K41-K42)/K41)*100))","v":" "},null,{"$f":"IF(ISBLANK(M41),\" \",IF(ISBLANK(M42),\" \",((M41-M42)/M41)*100))","v":" "}]
["Tested By"]
["Remarks"]

{"sheet":"S6","index":5,"n_rows":44,"n_cols":14,"rows_kept":44,"cut":false,"hidden":true,"merged":[[5,10,5,11],[5,12,5,13],[11,0,11,1],[7,12,7,13],[8,8,8,9],[8,10,8,11],[8,12,8,13],[7,10,7,11],[7,0,7,1],[5,3,5,8],[7,6,7,7],[7,8,7,9],[8,6,8,7],[7,2,7,3],[7,4,7,5],[8,2,8,3],[0,0,3,1],[3,12,3,13],[0,8,3,9],[1,3,1,7],[2,3,2,7],[3,3,3,7],[4,10,4,11],[4,12,4,13],[1,10,1,11],[3,10,3,11],[1,12,1,13],[2,10,2,11],[2,12,2,13],[8,4,8,5],[27,6,27,7],[27,0,27,1],[27,2,27,3],[8,0,8,1],[9,0,9,1],[21,0,21,1],[22,0,22,1],[22,2,22,3],[22,4,22,5],[23,0,25,1],[20,0,20,1],[10,0,10,1],[22,6,22,7],[27,4,27,5],[40,0,40,1],[41,0,41,1],[30,0,30,1],[28,0,28,1],[29,0,29,1],[31,0,31,1],[22,12,22,13],[27,8,27,9],[27,10,27,11],[27,12,27,13],[28,8,28,9],[28,10,28,11],[22,10,22,11],[28,12,28,13],[22,8,22,9],[42,2,42,3],[42,4,42,5],[42,8,42,9],[43,0,45,1],[43,2,45,3],[43,4,45,5],[43,6,45,7],[43,8,45,9],[4,0,4,1],[43,12,45,13],[23,2,25,3],[23,4,25,5],[23,6,25,7],[23,8,25,9],[23,10,25,11],[23,12,25,13],[42,6,42,7],[42,12,42,13],[42,10,42,11],[43,10,45,11],[28,4,28,5],[28,6,28,7],[28,2,28,3],[42,0,42,1]]}
[]
[null,null,null,"COMMONWEALTH OF PENNSYLVANIA",null,null,null,null,null,null,"DISTRICT",null,{"$f":"IF(ISBLANK('S1'!L2),\" \",'S1'!L2)","v":" "}]
[null,null,null,"DEPARTMENT OF TRANSPORTATION",null,null,null,null,null,null,"PLANT CODE",null,{"$f":"IF(ISBLANK('S1'!L3),\" \",'S1'!L3)","v":" "}]
[null,null,null,"PENNSYLVANIA TURNPIKE COMMISSION",null,null,null,null,null,null,"AGG SIZE",null,{"$f":"IF(ISBLANK('S1'!L4),\" \",'S1'!L4)","v":" "}]
[{"$f":"'S1'!A5","v":"Aggregate 2023"},null,null,null,null,null,null,null,null,null,"3/8 TARGET VALUE",null,{"$f":"IF(ISBLANK('S1'!L5),\" \",'S1'!L5)","v":35}]
[null,null,null,"Material Test Results for #67 Coarse Aggregate",null,null,null,null,null,null,"WASH SPEC",null,{"$f":"IF(ISBLANK('S1'!L6),\" \",'S1'!L6)","v":" "}]
[]
["Sample No."]
["Date"]
["Starting Weight",null,null,"% Loss",null,"% Loss",null,"% Loss",null,"% Loss",null,"% Loss",null,"% Loss"]
["Ending Weight",null,null,{"$f":"IF(ISBLANK(C10),\" \",IF(ISBLANK(C11),\" \",((C10-C11)/C10)*100))","v":" "},null,{"$f":"IF(ISBLANK(E10),\" \",IF(ISBLANK(E11),\" \",((E10-E11)/E10)*100))","v":" "},null,{"$f":"IF(ISBLANK(G10),\" \",IF(ISBLANK(G11),\" \",((G10-G11)/G10)*100))","v":" "},null,{"$f":"IF(ISBLANK(I10),\" \",IF(ISBLANK(I11),\" \",((I10-I11)/I10)*100))","v":" "},null,{"$f":"IF(ISBLANK(K10),\" \",IF(ISBLANK(K11),\" \",((K10-K11)/K10)*100))","v":" "},null,{"$f":"IF(ISBLANK(M10),\" \",IF(ISBLANK(M11),\" \",((M10-M11)/M10)*100))","v":" "}]
[null,null,"Wt.","% Passing","Wt.","% Passing","Wt.","% Passing","Wt.","% Passing","Wt.","% Passing","Wt.","% Passing"]
[100,1,null,{"$f":"IF(ISBLANK(C$10),\"  \",IF(ISBLANK(C$11),\" \",IF(ISBLANK(C13),\" \",ROUND((C13/C$10)*100,0))))","v":"  "},null,{"$f":"IF(ISBLANK(E$10),\"  \",IF(ISBLANK(E$11),\" \",IF(ISBLANK(E13),\" \",ROUND((E13/E$10)*100,0))))","v":"  "},null,{"$f":"IF(ISBLANK(G$10),\"  \",IF(ISBLANK(G$11),\" \",IF(ISBLANK(G13),\" \",ROUND((G13/G$10)*100,0))))","v":"  "},null,{"$f":"IF(ISBLANK(I$10),\"  \",IF(ISBLANK(I$11),\" \",IF(ISBLANK(I13),\" \",ROUND((I13/I$10)*100,0))))","v":"  "},null,{"$f":"IF(ISBLANK(K$10),\"  \",IF(ISBLANK(K$11),\" \",IF(ISBLANK(K13),\" \",ROUND((K13/K$10)*100,0))))","v":"  "},null,{"$f":"IF(ISBLANK(M$10),\"  \",IF(ISBLANK(M$11),\" \",IF(ISBLANK(M13),\" \",ROUND((M13/M$10)*100,0))))","v":"  "}]
["90-100",0.75,null,"  ",null,"  ",null,"  ",null,"  ",null,"  ",null,"  "]
["Breaker",0.5,null,"  ",null,"  ",null,"  ",null,"  ",null,"  ",null,"  "]
["20-55",0.375,null,"  ",null,"  ",null,"  ",null,"  ",null,"  ",null,"  "]
["0-10",4,null,"  ",null,"  ",null,"  ",null,"  ",null,"  ",null,"  "]
["0-5",8,null,"  ",null,"  ",null,"  ",null,"  ",null,"  ",null,"  "]
[]
["Wash",{"$f":"'S1'!B20","v":" "}]
["St. Wt. Before Wash",null,null,"% Passing",null,"% Passing",null,"% Passing",null,"% Passing",null,"% Passing",null,"% Passing"]
["End Wt. After Wash",null,null,{"$f":"IF(ISBLANK(C21),\" \",IF(ISBLANK(C22),\" \",((C21-C22)/C21)*100))","v":" "},null,{"$f":"IF(ISBLANK(E21),\" \",IF(ISBLANK(E22),\" \",((E21-E22)/E21)*100))","v":" "},null,{"$f":"IF(ISBLANK(G21),\" \",IF(ISBLANK(G22),\" \",((G21-G22)/G21)*100))","v":" "},null,{"$f":"IF(ISBLANK(I21),\" \",IF(ISBLANK(I22),\" \",((I21-I22)/I21)*100))","v":" "},null,{"$f":"IF(ISBLANK(K21),\" \",IF(ISBLANK(K22),\" \",((K21-K22)/K21)*100))","v":" "},null,{"$f":"IF(ISBLANK(M21),\" \",IF(ISBLANK(M22),\" \",((M21-M22)/M21)*100))","v":" "}]
["Tested By"]
["Remarks"]
[]
[]
[]
["Sample No."]
["Date"]
["Starting Weight",null,null,"% Loss",null,"% Loss",null,"% Loss",null,"% Loss",null,"% Loss",null,"% Loss"]
["Ending Weight",null,null,{"$f":"IF(ISBLANK(C30),\" \",IF(ISBLANK(C31),\" \",((C30-C31)/C30)*100))","v":" "},null,{"$f":"IF(ISBLANK(E30),\" \",IF(ISBLANK(E31),\" \",((E30-E31)/E30)*100))","v":" "},null,{"$f":"IF(ISBLANK(G30),\" \",IF(ISBLANK(G31),\" \",((G30-G31)/G30)*100))","v":" "},null,{"$f":"IF(ISBLANK(I30),\" \",IF(ISBLANK(I31),\" \",((I30-I31)/I30)*100))","v":" "},null,{"$f":"IF(ISBLANK(K30),\" \",IF(ISBLANK(K31),\" \",((K30-K31)/K30)*100))","v":" "},null,{"$f":"IF(ISBLANK(M30),\" \",IF(ISBLANK(M31),\" \",((M30-M31)/M30)*100))","v":" "}]
[null,null,"Wt.","% Passing","Wt.","% Passing","Wt.","% Passing","Wt.","% Passing","Wt.","% Passing","Wt.","% Passing"]
[100,1,null,{"$f":"IF(ISBLANK(C$30),\"  \",IF(ISBLANK(C$31),\" \",IF(ISBLANK(C33),\" \",ROUND((C33/C$30)*100,0))))","v":"  "},null,{"$f":"IF(ISBLANK(E$30),\"  \",IF(ISBLANK(E$31),\" \",IF(ISBLANK(E33),\" \",ROUND((E33/E$30)*100,0))))","v":"  "},null,{"$f":"IF(ISBLANK(G$30),\"  \",IF(ISBLANK(G$31),\" \",IF(ISBLANK(G33),\" \",ROUND((G33/G$30)*100,0))))","v":"  "},null,{"$f":"IF(ISBLANK(I$30),\"  \",IF(ISBLANK(I$31),\" \",IF(ISBLANK(I33),\" \",ROUND((I33/I$30)*100,0))))","v":"  "},null,{"$f":"IF(ISBLANK(K$30),\"  \",IF(ISBLANK(K$31),\" \",IF(ISBLANK(K33),\" \",ROUND((K33/K$30)*100,0))))","v":"  "},null,{"$f":"IF(ISBLANK(M$30),\"  \",IF(ISBLANK(M$31),\" \",IF(ISBLANK(M33),\" \",ROUND((M33/M$30)*100,0))))","v":"  "}]
["90-100",0.75,null,"  ",null,"  ",null,"  ",null,"  ",null,"  ",null,"  "]
["Breaker",0.5,null,"  ",null,"  ",null,"  ",null,"  ",null,"  ",null,"  "]
["20-55",0.375,null,"  ",null,"  ",null,"  ",null,"  ",null,"  ",null,"  "]
["0-10",4,null,"  ",null,"  ",null,"  ",null,"  ",null,"  ",null,"  "]
["0-5",8,null,"  ",null,"  ",null,"  ",null,"  ",null,"  ",null,"  "]
[]
["Wash",{"$f":"'S1'!B40","v":" "}]
["St. Wt. Before Wash",null,null,"% Passing",null,"% Passing",null,"% Passing",null,"% Passing",null,"% Passing",null,"% Passing"]
["End Wt. After Wash",null,null,{"$f":"IF(ISBLANK(C41),\" \",IF(ISBLANK(C42),\" \",((C41-C42)/C41)*100))","v":" "},null,{"$f":"IF(ISBLANK(E41),\" \",IF(ISBLANK(E42),\" \",((E41-E42)/E41)*100))","v":" "},null,{"$f":"IF(ISBLANK(G41),\" \",IF(ISBLANK(G42),\" \",((G41-G42)/G41)*100))","v":" "},null,{"$f":"IF(ISBLANK(I41),\" \",IF(ISBLANK(I42),\" \",((I41-I42)/I41)*100))","v":" "},null,{"$f":"IF(ISBLANK(K41),\" \",IF(ISBLANK(K42),\" \",((K41-K42)/K41)*100))","v":" "},null,{"$f":"IF(ISBLANK(M41),\" \",IF(ISBLANK(M42),\" \",((M41-M42)/M41)*100))","v":" "}]
["Tested By"]
["Remarks"]

{"sheet":"S7","index":6,"n_rows":44,"n_cols":14,"rows_kept":44,"cut":false,"hidden":true,"merged":[[5,10,5,11],[5,12,5,13],[11,0,11,1],[7,12,7,13],[8,8,8,9],[8,10,8,11],[8,12,8,13],[7,10,7,11],[7,0,7,1],[5,3,5,8],[7,6,7,7],[7,8,7,9],[8,6,8,7],[7,2,7,3],[7,4,7,5],[8,2,8,3],[0,0,3,1],[3,12,3,13],[0,8,3,9],[1,3,1,7],[2,3,2,7],[3,3,3,7],[4,10,4,11],[4,12,4,13],[1,10,1,11],[3,10,3,11],[1,12,1,13],[2,10,2,11],[2,12,2,13],[8,4,8,5],[27,6,27,7],[27,0,27,1],[27,2,27,3],[8,0,8,1],[9,0,9,1],[21,0,21,1],[22,0,22,1],[22,2,22,3],[22,4,22,5],[23,0,25,1],[20,0,20,1],[10,0,10,1],[22,6,22,7],[27,4,27,5],[40,0,40,1],[41,0,41,1],[30,0,30,1],[28,0,28,1],[29,0,29,1],[31,0,31,1],[22,12,22,13],[27,8,27,9],[27,10,27,11],[27,12,27,13],[28,8,28,9],[28,10,28,11],[22,10,22,11],[28,12,28,13],[22,8,22,9],[42,2,42,3],[42,4,42,5],[42,8,42,9],[43,0,45,1],[43,2,45,3],[43,4,45,5],[43,6,45,7],[43,8,45,9],[4,0,4,1],[43,12,45,13],[23,2,25,3],[23,4,25,5],[23,6,25,7],[23,8,25,9],[23,10,25,11],[23,12,25,13],[42,6,42,7],[42,12,42,13],[42,10,42,11],[43,10,45,11],[28,4,28,5],[28,6,28,7],[28,2,28,3],[42,0,42,1]]}
[]
[null,null,null,"COMMONWEALTH OF PENNSYLVANIA",null,null,null,null,null,null,"DISTRICT",null,{"$f":"IF(ISBLANK('S1'!L2),\" \",'S1'!L2)","v":" "}]
[null,null,null,"DEPARTMENT OF TRANSPORTATION",null,null,null,null,null,null,"PLANT CODE",null,{"$f":"IF(ISBLANK('S1'!L3),\" \",'S1'!L3)","v":" "}]
[null,null,null,"PENNSYLVANIA TURNPIKE COMMISSION",null,null,null,null,null,null,"AGG SIZE",null,{"$f":"IF(ISBLANK('S1'!L4),\" \",'S1'!L4)","v":" "}]
[{"$f":"'S1'!A5","v":"Aggregate 2023"},null,null,null,null,null,null,null,null,null,"3/8 TARGET VALUE",null,{"$f":"IF(ISBLANK('S1'!L5),\" \",'S1'!L5)","v":35}]
[null,null,null,"Material Test Results for #67 Coarse Aggregate",null,null,null,null,null,null,"WASH SPEC",null,{"$f":"IF(ISBLANK('S1'!L6),\" \",'S1'!L6)","v":" "}]
[]
["Sample No."]
["Date"]
["Starting Weight",null,null,"% Loss",null,"% Loss",null,"% Loss",null,"% Loss",null,"% Loss",null,"% Loss"]
["Ending Weight",null,null,{"$f":"IF(ISBLANK(C10),\" \",IF(ISBLANK(C11),\" \",((C10-C11)/C10)*100))","v":" "},null,{"$f":"IF(ISBLANK(E10),\" \",IF(ISBLANK(E11),\" \",((E10-E11)/E10)*100))","v":" "},null,{"$f":"IF(ISBLANK(G10),\" \",IF(ISBLANK(G11),\" \",((G10-G11)/G10)*100))","v":" "},null,{"$f":"IF(ISBLANK(I10),\" \",IF(ISBLANK(I11),\" \",((I10-I11)/I10)*100))","v":" "},null,{"$f":"IF(ISBLANK(K10),\" \",IF(ISBLANK(K11),\" \",((K10-K11)/K10)*100))","v":" "},null,{"$f":"IF(ISBLANK(M10),\" \",IF(ISBLANK(M11),\" \",((M10-M11)/M10)*100))","v":" "}]
[null,null,"Wt.","% Passing","Wt.","% Passing","Wt.","% Passing","Wt.","% Passing","Wt.","% Passing","Wt.","% Passing"]
[100,1,null,{"$f":"IF(ISBLANK(C$10),\"  \",IF(ISBLANK(C$11),\" \",IF(ISBLANK(C13),\" \",ROUND((C13/C$10)*100,0))))","v":"  "},null,{"$f":"IF(ISBLANK(E$10),\"  \",IF(ISBLANK(E$11),\" \",IF(ISBLANK(E13),\" \",ROUND((E13/E$10)*100,0))))","v":"  "},null,{"$f":"IF(ISBLANK(G$10),\"  \",IF(ISBLANK(G$11),\" \",IF(ISBLANK(G13),\" \",ROUND((G13/G$10)*100,0))))","v":"  "},null,{"$f":"IF(ISBLANK(I$10),\"  \",IF(ISBLANK(I$11),\" \",IF(ISBLANK(I13),\" \",ROUND((I13/I$10)*100,0))))","v":"  "},null,{"$f":"IF(ISBLANK(K$10),\"  \",IF(ISBLANK(K$11),\" \",IF(ISBLANK(K13),\" \",ROUND((K13/K$10)*100,0))))","v":"  "},null,{"$f":"IF(ISBLANK(M$10),\"  \",IF(ISBLANK(M$11),\" \",IF(ISBLANK(M13),\" \",ROUND((M13/M$10)*100,0))))","v":"  "}]
["90-100",0.75,null,"  ",null,"  ",null,"  ",null,"  ",null,"  ",null,"  "]
["Breaker",0.5,null,"  ",null,"  ",null,"  ",null,"  ",null,"  ",null,"  "]
["20-55",0.375,null,"  ",null,"  ",null,"  ",null,"  ",null,"  ",null,"  "]
["0-10",4,null,"  ",null,"  ",null,"  ",null,"  ",null,"  ",null,"  "]
["0-5",8,null,"  ",null,"  ",null,"  ",null,"  ",null,"  ",null,"  "]
[]
["Wash",{"$f":"'S1'!B20","v":" "}]
["St. Wt. Before Wash",null,null,"% Passing",null,"% Passing",null,"% Passing",null,"% Passing",null,"% Passing",null,"% Passing"]
["End Wt. After Wash",null,null,{"$f":"IF(ISBLANK(C21),\" \",IF(ISBLANK(C22),\" \",((C21-C22)/C21)*100))","v":" "},null,{"$f":"IF(ISBLANK(E21),\" \",IF(ISBLANK(E22),\" \",((E21-E22)/E21)*100))","v":" "},null,{"$f":"IF(ISBLANK(G21),\" \",IF(ISBLANK(G22),\" \",((G21-G22)/G21)*100))","v":" "},null,{"$f":"IF(ISBLANK(I21),\" \",IF(ISBLANK(I22),\" \",((I21-I22)/I21)*100))","v":" "},null,{"$f":"IF(ISBLANK(K21),\" \",IF(ISBLANK(K22),\" \",((K21-K22)/K21)*100))","v":" "},null,{"$f":"IF(ISBLANK(M21),\" \",IF(ISBLANK(M22),\" \",((M21-M22)/M21)*100))","v":" "}]
["Tested By"]
["Remarks"]
[]
[]
[]
["Sample No."]
["Date"]
["Starting Weight",null,null,"% Loss",null,"% Loss",null,"% Loss",null,"% Loss",null,"% Loss",null,"% Loss"]
["Ending Weight",null,null,{"$f":"IF(ISBLANK(C30),\" \",IF(ISBLANK(C31),\" \",((C30-C31)/C30)*100))","v":" "},null,{"$f":"IF(ISBLANK(E30),\" \",IF(ISBLANK(E31),\" \",((E30-E31)/E30)*100))","v":" "},null,{"$f":"IF(ISBLANK(G30),\" \",IF(ISBLANK(G31),\" \",((G30-G31)/G30)*100))","v":" "},null,{"$f":"IF(ISBLANK(I30),\" \",IF(ISBLANK(I31),\" \",((I30-I31)/I30)*100))","v":" "},null,{"$f":"IF(ISBLANK(K30),\" \",IF(ISBLANK(K31),\" \",((K30-K31)/K30)*100))","v":" "},null,{"$f":"IF(ISBLANK(M30),\" \",IF(ISBLANK(M31),\" \",((M30-M31)/M30)*100))","v":" "}]
[null,null,"Wt.","% Passing","Wt.","% Passing","Wt.","% Passing","Wt.","% Passing","Wt.","% Passing","Wt.","% Passing"]
[100,1,null,{"$f":"IF(ISBLANK(C$30),\"  \",IF(ISBLANK(C$31),\" \",IF(ISBLANK(C33),\" \",ROUND((C33/C$30)*100,0))))","v":"  "},null,{"$f":"IF(ISBLANK(E$30),\"  \",IF(ISBLANK(E$31),\" \",IF(ISBLANK(E33),\" \",ROUND((E33/E$30)*100,0))))","v":"  "},null,{"$f":"IF(ISBLANK(G$30),\"  \",IF(ISBLANK(G$31),\" \",IF(ISBLANK(G33),\" \",ROUND((G33/G$30)*100,0))))","v":"  "},null,{"$f":"IF(ISBLANK(I$30),\"  \",IF(ISBLANK(I$31),\" \",IF(ISBLANK(I33),\" \",ROUND((I33/I$30)*100,0))))","v":"  "},null,{"$f":"IF(ISBLANK(K$30),\"  \",IF(ISBLANK(K$31),\" \",IF(ISBLANK(K33),\" \",ROUND((K33/K$30)*100,0))))","v":"  "},null,{"$f":"IF(ISBLANK(M$30),\"  \",IF(ISBLANK(M$31),\" \",IF(ISBLANK(M33),\" \",ROUND((M33/M$30)*100,0))))","v":"  "}]
["90-100",0.75,null,"  ",null,"  ",null,"  ",null,"  ",null,"  ",null,"  "]
["Breaker",0.5,null,"  ",null,"  ",null,"  ",null,"  ",null,"  ",null,"  "]
["20-55",0.375,null,"  ",null,"  ",null,"  ",null,"  ",null,"  ",null,"  "]
["0-10",4,null,"  ",null,"  ",null,"  ",null,"  ",null,"  ",null,"  "]
["0-5",8,null,"  ",null,"  ",null,"  ",null,"  ",null,"  ",null,"  "]
[]
["Wash",{"$f":"'S1'!B40","v":" "}]
["St. Wt. Before Wash",null,null,"% Passing",null,"% Passing",null,"% Passing",null,"% Passing",null,"% Passing",null,"% Passing"]
["End Wt. After Wash",null,null,{"$f":"IF(ISBLANK(C41),\" \",IF(ISBLANK(C42),\" \",((C41-C42)/C41)*100))","v":" "},null,{"$f":"IF(ISBLANK(E41),\" \",IF(ISBLANK(E42),\" \",((E41-E42)/E41)*100))","v":" "},null,{"$f":"IF(ISBLANK(G41),\" \",IF(ISBLANK(G42),\" \",((G41-G42)/G41)*100))","v":" "},null,{"$f":"IF(ISBLANK(I41),\" \",IF(ISBLANK(I42),\" \",((I41-I42)/I41)*100))","v":" "},null,{"$f":"IF(ISBLANK(K41),\" \",IF(ISBLANK(K42),\" \",((K41-K42)/K41)*100))","v":" "},null,{"$f":"IF(ISBLANK(M41),\" \",IF(ISBLANK(M42),\" \",((M41-M42)/M41)*100))","v":" "}]
["Tested By"]
["Remarks"]

{"sheet":"S8","index":7,"n_rows":44,"n_cols":14,"rows_kept":44,"cut":false,"hidden":true,"merged":[[5,10,5,11],[5,12,5,13],[11,0,11,1],[7,12,7,13],[8,8,8,9],[8,10,8,11],[8,12,8,13],[7,10,7,11],[7,0,7,1],[5,3,5,8],[7,6,7,7],[7,8,7,9],[8,6,8,7],[7,2,7,3],[7,4,7,5],[8,2,8,3],[0,0,3,1],[3,12,3,13],[0,8,3,9],[1,3,1,7],[2,3,2,7],[3,3,3,7],[4,10,4,11],[4,12,4,13],[1,10,1,11],[3,10,3,11],[1,12,1,13],[2,10,2,11],[2,12,2,13],[8,4,8,5],[27,6,27,7],[27,0,27,1],[27,2,27,3],[8,0,8,1],[9,0,9,1],[21,0,21,1],[22,0,22,1],[22,2,22,3],[22,4,22,5],[23,0,25,1],[20,0,20,1],[10,0,10,1],[22,6,22,7],[27,4,27,5],[40,0,40,1],[41,0,41,1],[30,0,30,1],[28,0,28,1],[29,0,29,1],[31,0,31,1],[22,12,22,13],[27,8,27,9],[27,10,27,11],[27,12,27,13],[28,8,28,9],[28,10,28,11],[22,10,22,11],[28,12,28,13],[22,8,22,9],[42,2,42,3],[42,4,42,5],[42,8,42,9],[43,0,45,1],[43,2,45,3],[43,4,45,5],[43,6,45,7],[43,8,45,9],[4,0,4,1],[43,12,45,13],[23,2,25,3],[23,4,25,5],[23,6,25,7],[23,8,25,9],[23,10,25,11],[23,12,25,13],[42,6,42,7],[42,12,42,13],[42,10,42,11],[43,10,45,11],[28,4,28,5],[28,6,28,7],[28,2,28,3],[42,0,42,1]]}
[]
[null,null,null,"COMMONWEALTH OF PENNSYLVANIA",null,null,null,null,null,null,"DISTRICT",null,{"$f":"IF(ISBLANK('S1'!L2),\" \",'S1'!L2)","v":" "}]
[null,null,null,"DEPARTMENT OF TRANSPORTATION",null,null,null,null,null,null,"PLANT CODE",null,{"$f":"IF(ISBLANK('S1'!L3),\" \",'S1'!L3)","v":" "}]
[null,null,null,"PENNSYLVANIA TURNPIKE COMMISSION",null,null,null,null,null,null,"AGG SIZE",null,{"$f":"IF(ISBLANK('S1'!L4),\" \",'S1'!L4)","v":" "}]
[{"$f":"'S1'!A5","v":"Aggregate 2023"},null,null,null,null,null,null,null,null,null,"3/8 TARGET VALUE",null,{"$f":"IF(ISBLANK('S1'!L5),\" \",'S1'!L5)","v":35}]
[null,null,null,"Material Test Results for #67 Coarse Aggregate",null,null,null,null,null,null,"WASH SPEC",null,{"$f":"IF(ISBLANK('S1'!L6),\" \",'S1'!L6)","v":" "}]
[]
["Sample No."]
["Date"]
["Starting Weight",null,null,"% Loss",null,"% Loss",null,"% Loss",null,"% Loss",null,"% Loss",null,"% Loss"]
["Ending Weight",null,null,{"$f":"IF(ISBLANK(C10),\" \",IF(ISBLANK(C11),\" \",((C10-C11)/C10)*100))","v":" "},null,{"$f":"IF(ISBLANK(E10),\" \",IF(ISBLANK(E11),\" \",((E10-E11)/E10)*100))","v":" "},null,{"$f":"IF(ISBLANK(G10),\" \",IF(ISBLANK(G11),\" \",((G10-G11)/G10)*100))","v":" "},null,{"$f":"IF(ISBLANK(I10),\" \",IF(ISBLANK(I11),\" \",((I10-I11)/I10)*100))","v":" "},null,{"$f":"IF(ISBLANK(K10),\" \",IF(ISBLANK(K11),\" \",((K10-K11)/K10)*100))","v":" "},null,{"$f":"IF(ISBLANK(M10),\" \",IF(ISBLANK(M11),\" \",((M10-M11)/M10)*100))","v":" "}]
[null,null,"Wt.","% Passing","Wt.","% Passing","Wt.","% Passing","Wt.","% Passing","Wt.","% Passing","Wt.","% Passing"]
[100,1,null,{"$f":"IF(ISBLANK(C$10),\"  \",IF(ISBLANK(C$11),\" \",IF(ISBLANK(C13),\" \",ROUND((C13/C$10)*100,0))))","v":"  "},null,{"$f":"IF(ISBLANK(E$10),\"  \",IF(ISBLANK(E$11),\" \",IF(ISBLANK(E13),\" \",ROUND((E13/E$10)*100,0))))","v":"  "},null,{"$f":"IF(ISBLANK(G$10),\"  \",IF(ISBLANK(G$11),\" \",IF(ISBLANK(G13),\" \",ROUND((G13/G$10)*100,0))))","v":"  "},null,{"$f":"IF(ISBLANK(I$10),\"  \",IF(ISBLANK(I$11),\" \",IF(ISBLANK(I13),\" \",ROUND((I13/I$10)*100,0))))","v":"  "},null,{"$f":"IF(ISBLANK(K$10),\"  \",IF(ISBLANK(K$11),\" \",IF(ISBLANK(K13),\" \",ROUND((K13/K$10)*100,0))))","v":"  "},null,{"$f":"IF(ISBLANK(M$10),\"  \",IF(ISBLANK(M$11),\" \",IF(ISBLANK(M13),\" \",ROUND((M13/M$10)*100,0))))","v":"  "}]
["90-100",0.75,null,"  ",null,"  ",null,"  ",null,"  ",null,"  ",null,"  "]
["Breaker",0.5,null,"  ",null,"  ",null,"  ",null,"  ",null,"  ",null,"  "]
["20-55",0.375,null,"  ",null,"  ",null,"  ",null,"  ",null,"  ",null,"  "]
["0-10",4,null,"  ",null,"  ",null,"  ",null,"  ",null,"  ",null,"  "]
["0-5",8,null,"  ",null,"  ",null,"  ",null,"  ",null,"  ",null,"  "]
[]
["Wash",{"$f":"'S1'!B20","v":" "}]
["St. Wt. Before Wash",null,null,"% Passing",null,"% Passing",null,"% Passing",null,"% Passing",null,"% Passing",null,"% Passing"]
["End Wt. After Wash",null,null,{"$f":"IF(ISBLANK(C21),\" \",IF(ISBLANK(C22),\" \",((C21-C22)/C21)*100))","v":" "},null,{"$f":"IF(ISBLANK(E21),\" \",IF(ISBLANK(E22),\" \",((E21-E22)/E21)*100))","v":" "},null,{"$f":"IF(ISBLANK(G21),\" \",IF(ISBLANK(G22),\" \",((G21-G22)/G21)*100))","v":" "},null,{"$f":"IF(ISBLANK(I21),\" \",IF(ISBLANK(I22),\" \",((I21-I22)/I21)*100))","v":" "},null,{"$f":"IF(ISBLANK(K21),\" \",IF(ISBLANK(K22),\" \",((K21-K22)/K21)*100))","v":" "},null,{"$f":"IF(ISBLANK(M21),\" \",IF(ISBLANK(M22),\" \",((M21-M22)/M21)*100))","v":" "}]
["Tested By"]
["Remarks"]
[]
[]
[]
["Sample No."]
["Date"]
["Starting Weight",null,null,"% Loss",null,"% Loss",null,"% Loss",null,"% Loss",null,"% Loss",null,"% Loss"]
["Ending Weight",null,null,{"$f":"IF(ISBLANK(C30),\" \",IF(ISBLANK(C31),\" \",((C30-C31)/C30)*100))","v":" "},null,{"$f":"IF(ISBLANK(E30),\" \",IF(ISBLANK(E31),\" \",((E30-E31)/E30)*100))","v":" "},null,{"$f":"IF(ISBLANK(G30),\" \",IF(ISBLANK(G31),\" \",((G30-G31)/G30)*100))","v":" "},null,{"$f":"IF(ISBLANK(I30),\" \",IF(ISBLANK(I31),\" \",((I30-I31)/I30)*100))","v":" "},null,{"$f":"IF(ISBLANK(K30),\" \",IF(ISBLANK(K31),\" \",((K30-K31)/K30)*100))","v":" "},null,{"$f":"IF(ISBLANK(M30),\" \",IF(ISBLANK(M31),\" \",((M30-M31)/M30)*100))","v":" "}]
[null,null,"Wt.","% Passing","Wt.","% Passing","Wt.","% Passing","Wt.","% Passing","Wt.","% Passing","Wt.","% Passing"]
[100,1,null,{"$f":"IF(ISBLANK(C$30),\"  \",IF(ISBLANK(C$31),\" \",IF(ISBLANK(C33),\" \",ROUND((C33/C$30)*100,0))))","v":"  "},null,{"$f":"IF(ISBLANK(E$30),\"  \",IF(ISBLANK(E$31),\" \",IF(ISBLANK(E33),\" \",ROUND((E33/E$30)*100,0))))","v":"  "},null,{"$f":"IF(ISBLANK(G$30),\"  \",IF(ISBLANK(G$31),\" \",IF(ISBLANK(G33),\" \",ROUND((G33/G$30)*100,0))))","v":"  "},null,{"$f":"IF(ISBLANK(I$30),\"  \",IF(ISBLANK(I$31),\" \",IF(ISBLANK(I33),\" \",ROUND((I33/I$30)*100,0))))","v":"  "},null,{"$f":"IF(ISBLANK(K$30),\"  \",IF(ISBLANK(K$31),\" \",IF(ISBLANK(K33),\" \",ROUND((K33/K$30)*100,0))))","v":"  "},null,{"$f":"IF(ISBLANK(M$30),\"  \",IF(ISBLANK(M$31),\" \",IF(ISBLANK(M33),\" \",ROUND((M33/M$30)*100,0))))","v":"  "}]
["90-100",0.75,null,"  ",null,"  ",null,"  ",null,"  ",null,"  ",null,"  "]
["Breaker",0.5,null,"  ",null,"  ",null,"  ",null,"  ",null,"  ",null,"  "]
["20-55",0.375,null,"  ",null,"  ",null,"  ",null,"  ",null,"  ",null,"  "]
["0-10",4,null,"  ",null,"  ",null,"  ",null,"  ",null,"  ",null,"  "]
["0-5",8,null,"  ",null,"  ",null,"  ",null,"  ",null,"  ",null,"  "]
[]
["Wash",{"$f":"'S1'!B40","v":" "}]
["St. Wt. Before Wash",null,null,"% Passing",null,"% Passing",null,"% Passing",null,"% Passing",null,"% Passing",null,"% Passing"]
["End Wt. After Wash",null,null,{"$f":"IF(ISBLANK(C41),\" \",IF(ISBLANK(C42),\" \",((C41-C42)/C41)*100))","v":" "},null,{"$f":"IF(ISBLANK(E41),\" \",IF(ISBLANK(E42),\" \",((E41-E42)/E41)*100))","v":" "},null,{"$f":"IF(ISBLANK(G41),\" \",IF(ISBLANK(G42),\" \",((G41-G42)/G41)*100))","v":" "},null,{"$f":"IF(ISBLANK(I41),\" \",IF(ISBLANK(I42),\" \",((I41-I42)/I41)*100))","v":" "},null,{"$f":"IF(ISBLANK(K41),\" \",IF(ISBLANK(K42),\" \",((K41-K42)/K41)*100))","v":" "},null,{"$f":"IF(ISBLANK(M41),\" \",IF(ISBLANK(M42),\" \",((M41-M42)/M41)*100))","v":" "}]
["Tested By"]
["Remarks"]

{"sheet":"S9","index":8,"n_rows":44,"n_cols":14,"rows_kept":44,"cut":false,"hidden":true,"merged":[[5,10,5,11],[5,12,5,13],[11,0,11,1],[7,12,7,13],[8,8,8,9],[8,10,8,11],[8,12,8,13],[7,10,7,11],[7,0,7,1],[5,3,5,8],[7,6,7,7],[7,8,7,9],[8,6,8,7],[7,2,7,3],[7,4,7,5],[8,2,8,3],[0,0,3,1],[3,12,3,13],[0,8,3,9],[1,3,1,7],[2,3,2,7],[3,3,3,7],[4,10,4,11],[4,12,4,13],[1,10,1,11],[3,10,3,11],[1,12,1,13],[2,10,2,11],[2,12,2,13],[8,4,8,5],[27,6,27,7],[27,0,27,1],[27,2,27,3],[8,0,8,1],[9,0,9,1],[21,0,21,1],[22,0,22,1],[22,2,22,3],[22,4,22,5],[23,0,25,1],[20,0,20,1],[10,0,10,1],[22,6,22,7],[27,4,27,5],[40,0,40,1],[41,0,41,1],[30,0,30,1],[28,0,28,1],[29,0,29,1],[31,0,31,1],[22,12,22,13],[27,8,27,9],[27,10,27,11],[27,12,27,13],[28,8,28,9],[28,10,28,11],[22,10,22,11],[28,12,28,13],[22,8,22,9],[42,2,42,3],[42,4,42,5],[42,8,42,9],[43,0,45,1],[43,2,45,3],[43,4,45,5],[43,6,45,7],[43,8,45,9],[4,0,4,1],[43,12,45,13],[23,2,25,3],[23,4,25,5],[23,6,25,7],[23,8,25,9],[23,10,25,11],[23,12,25,13],[42,6,42,7],[42,12,42,13],[42,10,42,11],[43,10,45,11],[28,4,28,5],[28,6,28,7],[28,2,28,3],[42,0,42,1]]}
[]
[null,null,null,"COMMONWEALTH OF PENNSYLVANIA",null,null,null,null,null,null,"DISTRICT",null,{"$f":"IF(ISBLANK('S1'!L2),\" \",'S1'!L2)","v":" "}]
[null,null,null,"DEPARTMENT OF TRANSPORTATION",null,null,null,null,null,null,"PLANT CODE",null,{"$f":"IF(ISBLANK('S1'!L3),\" \",'S1'!L3)","v":" "}]
[null,null,null,"PENNSYLVANIA TURNPIKE COMMISSION",null,null,null,null,null,null,"AGG SIZE",null,{"$f":"IF(ISBLANK('S1'!L4),\" \",'S1'!L4)","v":" "}]
[{"$f":"'S1'!A5","v":"Aggregate 2023"},null,null,null,null,null,null,null,null,null,"3/8 TARGET VALUE",null,{"$f":"IF(ISBLANK('S1'!L5),\" \",'S1'!L5)","v":35}]
[null,null,null,"Material Test Results for #67 Coarse Aggregate",null,null,null,null,null,null,"WASH SPEC",null,{"$f":"IF(ISBLANK('S1'!L6),\" \",'S1'!L6)","v":" "}]
[]
["Sample No."]
["Date"]
["Starting Weight",null,null,"% Loss",null,"% Loss",null,"% Loss",null,"% Loss",null,"% Loss",null,"% Loss"]
["Ending Weight",null,null,{"$f":"IF(ISBLANK(C10),\" \",IF(ISBLANK(C11),\" \",((C10-C11)/C10)*100))","v":" "},null,{"$f":"IF(ISBLANK(E10),\" \",IF(ISBLANK(E11),\" \",((E10-E11)/E10)*100))","v":" "},null,{"$f":"IF(ISBLANK(G10),\" \",IF(ISBLANK(G11),\" \",((G10-G11)/G10)*100))","v":" "},null,{"$f":"IF(ISBLANK(I10),\" \",IF(ISBLANK(I11),\" \",((I10-I11)/I10)*100))","v":" "},null,{"$f":"IF(ISBLANK(K10),\" \",IF(ISBLANK(K11),\" \",((K10-K11)/K10)*100))","v":" "},null,{"$f":"IF(ISBLANK(M10),\" \",IF(ISBLANK(M11),\" \",((M10-M11)/M10)*100))","v":" "}]
[null,null,"Wt.","% Passing","Wt.","% Passing","Wt.","% Passing","Wt.","% Passing","Wt.","% Passing","Wt.","% Passing"]
[100,1,null,{"$f":"IF(ISBLANK(C$10),\"  \",IF(ISBLANK(C$11),\" \",IF(ISBLANK(C13),\" \",ROUND((C13/C$10)*100,0))))","v":"  "},null,{"$f":"IF(ISBLANK(E$10),\"  \",IF(ISBLANK(E$11),\" \",IF(ISBLANK(E13),\" \",ROUND((E13/E$10)*100,0))))","v":"  "},null,{"$f":"IF(ISBLANK(G$10),\"  \",IF(ISBLANK(G$11),\" \",IF(ISBLANK(G13),\" \",ROUND((G13/G$10)*100,0))))","v":"  "},null,{"$f":"IF(ISBLANK(I$10),\"  \",IF(ISBLANK(I$11),\" \",IF(ISBLANK(I13),\" \",ROUND((I13/I$10)*100,0))))","v":"  "},null,{"$f":"IF(ISBLANK(K$10),\"  \",IF(ISBLANK(K$11),\" \",IF(ISBLANK(K13),\" \",ROUND((K13/K$10)*100,0))))","v":"  "},null,{"$f":"IF(ISBLANK(M$10),\"  \",IF(ISBLANK(M$11),\" \",IF(ISBLANK(M13),\" \",ROUND((M13/M$10)*100,0))))","v":"  "}]
["90-100",0.75,null,"  ",null,"  ",null,"  ",null,"  ",null,"  ",null,"  "]
["Breaker",0.5,null,"  ",null,"  ",null,"  ",null,"  ",null,"  ",null,"  "]
["20-55",0.375,null,"  ",null,"  ",null,"  ",null,"  ",null,"  ",null,"  "]
["0-10",4,null,"  ",null,"  ",null,"  ",null,"  ",null,"  ",null,"  "]
["0-5",8,null,"  ",null,"  ",null,"  ",null,"  ",null,"  ",null,"  "]
[]
["Wash",{"$f":"'S1'!B20","v":" "}]
["St. Wt. Before Wash",null,null,"% Passing",null,"% Passing",null,"% Passing",null,"% Passing",null,"% Passing",null,"% Passing"]
["End Wt. After Wash",null,null,{"$f":"IF(ISBLANK(C21),\" \",IF(ISBLANK(C22),\" \",((C21-C22)/C21)*100))","v":" "},null,{"$f":"IF(ISBLANK(E21),\" \",IF(ISBLANK(E22),\" \",((E21-E22)/E21)*100))","v":" "},null,{"$f":"IF(ISBLANK(G21),\" \",IF(ISBLANK(G22),\" \",((G21-G22)/G21)*100))","v":" "},null,{"$f":"IF(ISBLANK(I21),\" \",IF(ISBLANK(I22),\" \",((I21-I22)/I21)*100))","v":" "},null,{"$f":"IF(ISBLANK(K21),\" \",IF(ISBLANK(K22),\" \",((K21-K22)/K21)*100))","v":" "},null,{"$f":"IF(ISBLANK(M21),\" \",IF(ISBLANK(M22),\" \",((M21-M22)/M21)*100))","v":" "}]
["Tested By"]
["Remarks"]
[]
[]
[]
["Sample No."]
["Date"]
["Starting Weight",null,null,"% Loss",null,"% Loss",null,"% Loss",null,"% Loss",null,"% Loss",null,"% Loss"]
["Ending Weight",null,null,{"$f":"IF(ISBLANK(C30),\" \",IF(ISBLANK(C31),\" \",((C30-C31)/C30)*100))","v":" "},null,{"$f":"IF(ISBLANK(E30),\" \",IF(ISBLANK(E31),\" \",((E30-E31)/E30)*100))","v":" "},null,{"$f":"IF(ISBLANK(G30),\" \",IF(ISBLANK(G31),\" \",((G30-G31)/G30)*100))","v":" "},null,{"$f":"IF(ISBLANK(I30),\" \",IF(ISBLANK(I31),\" \",((I30-I31)/I30)*100))","v":" "},null,{"$f":"IF(ISBLANK(K30),\" \",IF(ISBLANK(K31),\" \",((K30-K31)/K30)*100))","v":" "},null,{"$f":"IF(ISBLANK(M30),\" \",IF(ISBLANK(M31),\" \",((M30-M31)/M30)*100))","v":" "}]
[null,null,"Wt.","% Passing","Wt.","% Passing","Wt.","% Passing","Wt.","% Passing","Wt.","% Passing","Wt.","% Passing"]
[100,1,null,{"$f":"IF(ISBLANK(C$30),\"  \",IF(ISBLANK(C$31),\" \",IF(ISBLANK(C33),\" \",ROUND((C33/C$30)*100,0))))","v":"  "},null,{"$f":"IF(ISBLANK(E$30),\"  \",IF(ISBLANK(E$31),\" \",IF(ISBLANK(E33),\" \",ROUND((E33/E$30)*100,0))))","v":"  "},null,{"$f":"IF(ISBLANK(G$30),\"  \",IF(ISBLANK(G$31),\" \",IF(ISBLANK(G33),\" \",ROUND((G33/G$30)*100,0))))","v":"  "},null,{"$f":"IF(ISBLANK(I$30),\"  \",IF(ISBLANK(I$31),\" \",IF(ISBLANK(I33),\" \",ROUND((I33/I$30)*100,0))))","v":"  "},null,{"$f":"IF(ISBLANK(K$30),\"  \",IF(ISBLANK(K$31),\" \",IF(ISBLANK(K33),\" \",ROUND((K33/K$30)*100,0))))","v":"  "},null,{"$f":"IF(ISBLANK(M$30),\"  \",IF(ISBLANK(M$31),\" \",IF(ISBLANK(M33),\" \",ROUND((M33/M$30)*100,0))))","v":"  "}]
["90-100",0.75,null,"  ",null,"  ",null,"  ",null,"  ",null,"  ",null,"  "]
["Breaker",0.5,null,"  ",null,"  ",null,"  ",null,"  ",null,"  ",null,"  "]
["20-55",0.375,null,"  ",null,"  ",null,"  ",null,"  ",null,"  ",null,"  "]
["0-10",4,null,"  ",null,"  ",null,"  ",null,"  ",null,"  ",null,"  "]
["0-5",8,null,"  ",null,"  ",null,"  ",null,"  ",null,"  ",null,"  "]
[]
["Wash",{"$f":"'S1'!B40","v":" "}]
["St. Wt. Before Wash",null,null,"% Passing",null,"% Passing",null,"% Passing",null,"% Passing",null,"% Passing",null,"% Passing"]
["End Wt. After Wash",null,null,{"$f":"IF(ISBLANK(C41),\" \",IF(ISBLANK(C42),\" \",((C41-C42)/C41)*100))","v":" "},null,{"$f":"IF(ISBLANK(E41),\" \",IF(ISBLANK(E42),\" \",((E41-E42)/E41)*100))","v":" "},null,{"$f":"IF(ISBLANK(G41),\" \",IF(ISBLANK(G42),\" \",((G41-G42)/G41)*100))","v":" "},null,{"$f":"IF(ISBLANK(I41),\" \",IF(ISBLANK(I42),\" \",((I41-I42)/I41)*100))","v":" "},null,{"$f":"IF(ISBLANK(K41),\" \",IF(ISBLANK(K42),\" \",((K41-K42)/K41)*100))","v":" "},null,{"$f":"IF(ISBLANK(M41),\" \",IF(ISBLANK(M42),\" \",((M41-M42)/M41)*100))","v":" "}]
["Tested By"]
["Remarks"]

{"sheet":"S10","index":9,"n_rows":44,"n_cols":14,"rows_kept":44,"cut":false,"hidden":true,"merged":[[5,10,5,11],[5,12,5,13],[11,0,11,1],[7,12,7,13],[8,8,8,9],[8,10,8,11],[8,12,8,13],[7,10,7,11],[7,0,7,1],[5,3,5,8],[7,6,7,7],[7,8,7,9],[8,6,8,7],[7,2,7,3],[7,4,7,5],[8,2,8,3],[0,0,3,1],[3,12,3,13],[0,8,3,9],[1,3,1,7],[2,3,2,7],[3,3,3,7],[4,10,4,11],[4,12,4,13],[1,10,1,11],[3,10,3,11],[1,12,1,13],[2,10,2,11],[2,12,2,13],[8,4,8,5],[27,6,27,7],[27,0,27,1],[27,2,27,3],[8,0,8,1],[9,0,9,1],[21,0,21,1],[22,0,22,1],[22,2,22,3],[22,4,22,5],[23,0,25,1],[20,0,20,1],[10,0,10,1],[22,6,22,7],[27,4,27,5],[40,0,40,1],[41,0,41,1],[30,0,30,1],[28,0,28,1],[29,0,29,1],[31,0,31,1],[22,12,22,13],[27,8,27,9],[27,10,27,11],[27,12,27,13],[28,8,28,9],[28,10,28,11],[22,10,22,11],[28,12,28,13],[22,8,22,9],[42,2,42,3],[42,4,42,5],[42,8,42,9],[43,0,45,1],[43,2,45,3],[43,4,45,5],[43,6,45,7],[43,8,45,9],[4,0,4,1],[43,12,45,13],[23,2,25,3],[23,4,25,5],[23,6,25,7],[23,8,25,9],[23,10,25,11],[23,12,25,13],[42,6,42,7],[42,12,42,13],[42,10,42,11],[43,10,45,11],[28,4,28,5],[28,6,28,7],[28,2,28,3],[42,0,42,1]]}
[]
[null,null,null,"COMMONWEALTH OF PENNSYLVANIA",null,null,null,null,null,null,"DISTRICT",null,{"$f":"IF(ISBLANK('S1'!L2),\" \",'S1'!L2)","v":" "}]
[null,null,null,"DEPARTMENT OF TRANSPORTATION",null,null,null,null,null,null,"PLANT CODE",null,{"$f":"IF(ISBLANK('S1'!L3),\" \",'S1'!L3)","v":" "}]
[null,null,null,"PENNSYLVANIA TURNPIKE COMMISSION",null,null,null,null,null,null,"AGG SIZE",null,{"$f":"IF(ISBLANK('S1'!L4),\" \",'S1'!L4)","v":" "}]
[{"$f":"'S1'!A5","v":"Aggregate 2023"},null,null,null,null,null,null,null,null,null,"3/8 TARGET VALUE",null,{"$f":"IF(ISBLANK('S1'!L5),\" \",'S1'!L5)","v":35}]
[null,null,null,"Material Test Results for #67 Coarse Aggregate",null,null,null,null,null,null,"WASH SPEC",null,{"$f":"IF(ISBLANK('S1'!L6),\" \",'S1'!L6)","v":" "}]
[]
["Sample No."]
["Date"]
["Starting Weight",null,null,"% Loss",null,"% Loss",null,"% Loss",null,"% Loss",null,"% Loss",null,"% Loss"]
["Ending Weight",null,null,{"$f":"IF(ISBLANK(C10),\" \",IF(ISBLANK(C11),\" \",((C10-C11)/C10)*100))","v":" "},null,{"$f":"IF(ISBLANK(E10),\" \",IF(ISBLANK(E11),\" \",((E10-E11)/E10)*100))","v":" "},null,{"$f":"IF(ISBLANK(G10),\" \",IF(ISBLANK(G11),\" \",((G10-G11)/G10)*100))","v":" "},null,{"$f":"IF(ISBLANK(I10),\" \",IF(ISBLANK(I11),\" \",((I10-I11)/I10)*100))","v":" "},null,{"$f":"IF(ISBLANK(K10),\" \",IF(ISBLANK(K11),\" \",((K10-K11)/K10)*100))","v":" "},null,{"$f":"IF(ISBLANK(M10),\" \",IF(ISBLANK(M11),\" \",((M10-M11)/M10)*100))","v":" "}]
[null,null,"Wt.","% Passing","Wt.","% Passing","Wt.","% Passing","Wt.","% Passing","Wt.","% Passing","Wt.","% Passing"]
[100,1,null,{"$f":"IF(ISBLANK(C$10),\"  \",IF(ISBLANK(C$11),\" \",IF(ISBLANK(C13),\" \",ROUND((C13/C$10)*100,0))))","v":"  "},null,{"$f":"IF(ISBLANK(E$10),\"  \",IF(ISBLANK(E$11),\" \",IF(ISBLANK(E13),\" \",ROUND((E13/E$10)*100,0))))","v":"  "},null,{"$f":"IF(ISBLANK(G$10),\"  \",IF(ISBLANK(G$11),\" \",IF(ISBLANK(G13),\" \",ROUND((G13/G$10)*100,0))))","v":"  "},null,{"$f":"IF(ISBLANK(I$10),\"  \",IF(ISBLANK(I$11),\" \",IF(ISBLANK(I13),\" \",ROUND((I13/I$10)*100,0))))","v":"  "},null,{"$f":"IF(ISBLANK(K$10),\"  \",IF(ISBLANK(K$11),\" \",IF(ISBLANK(K13),\" \",ROUND((K13/K$10)*100,0))))","v":"  "},null,{"$f":"IF(ISBLANK(M$10),\"  \",IF(ISBLANK(M$11),\" \",IF(ISBLANK(M13),\" \",ROUND((M13/M$10)*100,0))))","v":"  "}]
["90-100",0.75,null,"  ",null,"  ",null,"  ",null,"  ",null,"  ",null,"  "]
["Breaker",0.5,null,"  ",null,"  ",null,"  ",null,"  ",null,"  ",null,"  "]
["20-55",0.375,null,"  ",null,"  ",null,"  ",null,"  ",null,"  ",null,"  "]
["0-10",4,null,"  ",null,"  ",null,"  ",null,"  ",null,"  ",null,"  "]
["0-5",8,null,"  ",null,"  ",null,"  ",null,"  ",null,"  ",null,"  "]
[]
["Wash",{"$f":"'S1'!B20","v":" "}]
["St. Wt. Before Wash",null,null,"% Passing",null,"% Passing",null,"% Passing",null,"% Passing",null,"% Passing",null,"% Passing"]
["End Wt. After Wash",null,null,{"$f":"IF(ISBLANK(C21),\" \",IF(ISBLANK(C22),\" \",((C21-C22)/C21)*100))","v":" "},null,{"$f":"IF(ISBLANK(E21),\" \",IF(ISBLANK(E22),\" \",((E21-E22)/E21)*100))","v":" "},null,{"$f":"IF(ISBLANK(G21),\" \",IF(ISBLANK(G22),\" \",((G21-G22)/G21)*100))","v":" "},null,{"$f":"IF(ISBLANK(I21),\" \",IF(ISBLANK(I22),\" \",((I21-I22)/I21)*100))","v":" "},null,{"$f":"IF(ISBLANK(K21),\" \",IF(ISBLANK(K22),\" \",((K21-K22)/K21)*100))","v":" "},null,{"$f":"IF(ISBLANK(M21),\" \",IF(ISBLANK(M22),\" \",((M21-M22)/M21)*100))","v":" "}]
["Tested By"]
["Remarks"]
[]
[]
[]
["Sample No."]
["Date"]
["Starting Weight",null,null,"% Loss",null,"% Loss",null,"% Loss",null,"% Loss",null,"% Loss",null,"% Loss"]
["Ending Weight",null,null,{"$f":"IF(ISBLANK(C30),\" \",IF(ISBLANK(C31),\" \",((C30-C31)/C30)*100))","v":" "},null,{"$f":"IF(ISBLANK(E30),\" \",IF(ISBLANK(E31),\" \",((E30-E31)/E30)*100))","v":" "},null,{"$f":"IF(ISBLANK(G30),\" \",IF(ISBLANK(G31),\" \",((G30-G31)/G30)*100))","v":" "},null,{"$f":"IF(ISBLANK(I30),\" \",IF(ISBLANK(I31),\" \",((I30-I31)/I30)*100))","v":" "},null,{"$f":"IF(ISBLANK(K30),\" \",IF(ISBLANK(K31),\" \",((K30-K31)/K30)*100))","v":" "},null,{"$f":"IF(ISBLANK(M30),\" \",IF(ISBLANK(M31),\" \",((M30-M31)/M30)*100))","v":" "}]
[null,null,"Wt.","% Passing","Wt.","% Passing","Wt.","% Passing","Wt.","% Passing","Wt.","% Passing","Wt.","% Passing"]
[100,1,null,{"$f":"IF(ISBLANK(C$30),\"  \",IF(ISBLANK(C$31),\" \",IF(ISBLANK(C33),\" \",ROUND((C33/C$30)*100,0))))","v":"  "},null,{"$f":"IF(ISBLANK(E$30),\"  \",IF(ISBLANK(E$31),\" \",IF(ISBLANK(E33),\" \",ROUND((E33/E$30)*100,0))))","v":"  "},null,{"$f":"IF(ISBLANK(G$30),\"  \",IF(ISBLANK(G$31),\" \",IF(ISBLANK(G33),\" \",ROUND((G33/G$30)*100,0))))","v":"  "},null,{"$f":"IF(ISBLANK(I$30),\"  \",IF(ISBLANK(I$31),\" \",IF(ISBLANK(I33),\" \",ROUND((I33/I$30)*100,0))))","v":"  "},null,{"$f":"IF(ISBLANK(K$30),\"  \",IF(ISBLANK(K$31),\" \",IF(ISBLANK(K33),\" \",ROUND((K33/K$30)*100,0))))","v":"  "},null,{"$f":"IF(ISBLANK(M$30),\"  \",IF(ISBLANK(M$31),\" \",IF(ISBLANK(M33),\" \",ROUND((M33/M$30)*100,0))))","v":"  "}]
["90-100",0.75,null,"  ",null,"  ",null,"  ",null,"  ",null,"  ",null,"  "]
["Breaker",0.5,null,"  ",null,"  ",null,"  ",null,"  ",null,"  ",null,"  "]
["20-55",0.375,null,"  ",null,"  ",null,"  ",null,"  ",null,"  ",null,"  "]
["0-10",4,null,"  ",null,"  ",null,"  ",null,"  ",null,"  ",null,"  "]
["0-5",8,null,"  ",null,"  ",null,"  ",null,"  ",null,"  ",null,"  "]
[]
["Wash",{"$f":"'S1'!B40","v":" "}]
["St. Wt. Before Wash",null,null,"% Passing",null,"% Passing",null,"% Passing",null,"% Passing",null,"% Passing",null,"% Passing"]
["End Wt. After Wash",null,null,{"$f":"IF(ISBLANK(C41),\" \",IF(ISBLANK(C42),\" \",((C41-C42)/C41)*100))","v":" "},null,{"$f":"IF(ISBLANK(E41),\" \",IF(ISBLANK(E42),\" \",((E41-E42)/E41)*100))","v":" "},null,{"$f":"IF(ISBLANK(G41),\" \",IF(ISBLANK(G42),\" \",((G41-G42)/G41)*100))","v":" "},null,{"$f":"IF(ISBLANK(I41),\" \",IF(ISBLANK(I42),\" \",((I41-I42)/I41)*100))","v":" "},null,{"$f":"IF(ISBLANK(K41),\" \",IF(ISBLANK(K42),\" \",((K41-K42)/K41)*100))","v":" "},null,{"$f":"IF(ISBLANK(M41),\" \",IF(ISBLANK(M42),\" \",((M41-M42)/M41)*100))","v":" "}]
["Tested By"]
["Remarks"]

{"sheet":"S11","index":10,"n_rows":44,"n_cols":14,"rows_kept":44,"cut":false,"hidden":true,"merged":[[5,10,5,11],[5,12,5,13],[11,0,11,1],[7,12,7,13],[8,8,8,9],[8,10,8,11],[8,12,8,13],[7,10,7,11],[7,0,7,1],[5,3,5,8],[7,6,7,7],[7,8,7,9],[8,6,8,7],[7,2,7,3],[7,4,7,5],[8,2,8,3],[0,0,3,1],[3,12,3,13],[0,8,3,9],[1,3,1,7],[2,3,2,7],[3,3,3,7],[4,10,4,11],[4,12,4,13],[1,10,1,11],[3,10,3,11],[1,12,1,13],[2,10,2,11],[2,12,2,13],[8,4,8,5],[27,6,27,7],[27,0,27,1],[27,2,27,3],[8,0,8,1],[9,0,9,1],[21,0,21,1],[22,0,22,1],[22,2,22,3],[22,4,22,5],[23,0,25,1],[20,0,20,1],[10,0,10,1],[22,6,22,7],[27,4,27,5],[40,0,40,1],[41,0,41,1],[30,0,30,1],[28,0,28,1],[29,0,29,1],[31,0,31,1],[22,12,22,13],[27,8,27,9],[27,10,27,11],[27,12,27,13],[28,8,28,9],[28,10,28,11],[22,10,22,11],[28,12,28,13],[22,8,22,9],[42,2,42,3],[42,4,42,5],[42,8,42,9],[43,0,45,1],[43,2,45,3],[43,4,45,5],[43,6,45,7],[43,8,45,9],[4,0,4,1],[43,12,45,13],[23,2,25,3],[23,4,25,5],[23,6,25,7],[23,8,25,9],[23,10,25,11],[23,12,25,13],[42,6,42,7],[42,12,42,13],[42,10,42,11],[43,10,45,11],[28,4,28,5],[28,6,28,7],[28,2,28,3],[42,0,42,1]]}
[]
[null,null,null,"COMMONWEALTH OF PENNSYLVANIA",null,null,null,null,null,null,"DISTRICT",null,{"$f":"IF(ISBLANK('S1'!L2),\" \",'S1'!L2)","v":" "}]
[null,null,null,"DEPARTMENT OF TRANSPORTATION",null,null,null,null,null,null,"PLANT CODE",null,{"$f":"IF(ISBLANK('S1'!L3),\" \",'S1'!L3)","v":" "}]
[null,null,null,"PENNSYLVANIA TURNPIKE COMMISSION",null,null,null,null,null,null,"AGG SIZE",null,{"$f":"IF(ISBLANK('S1'!L4),\" \",'S1'!L4)","v":" "}]
[{"$f":"'S1'!A5","v":"Aggregate 2023"},null,null,null,null,null,null,null,null,null,"3/8 TARGET VALUE",null,{"$f":"IF(ISBLANK('S1'!L5),\" \",'S1'!L5)","v":35}]
[null,null,null,"Material Test Results for #67 Coarse Aggregate",null,null,null,null,null,null,"WASH SPEC",null,{"$f":"IF(ISBLANK('S1'!L6),\" \",'S1'!L6)","v":" "}]
[]
["Sample No."]
["Date"]
["Starting Weight",null,null,"% Loss",null,"% Loss",null,"% Loss",null,"% Loss",null,"% Loss",null,"% Loss"]
["Ending Weight",null,null,{"$f":"IF(ISBLANK(C10),\" \",IF(ISBLANK(C11),\" \",((C10-C11)/C10)*100))","v":" "},null,{"$f":"IF(ISBLANK(E10),\" \",IF(ISBLANK(E11),\" \",((E10-E11)/E10)*100))","v":" "},null,{"$f":"IF(ISBLANK(G10),\" \",IF(ISBLANK(G11),\" \",((G10-G11)/G10)*100))","v":" "},null,{"$f":"IF(ISBLANK(I10),\" \",IF(ISBLANK(I11),\" \",((I10-I11)/I10)*100))","v":" "},null,{"$f":"IF(ISBLANK(K10),\" \",IF(ISBLANK(K11),\" \",((K10-K11)/K10)*100))","v":" "},null,{"$f":"IF(ISBLANK(M10),\" \",IF(ISBLANK(M11),\" \",((M10-M11)/M10)*100))","v":" "}]
[null,null,"Wt.","% Passing","Wt.","% Passing","Wt.","% Passing","Wt.","% Passing","Wt.","% Passing","Wt.","% Passing"]
[100,1,null,{"$f":"IF(ISBLANK(C$10),\"  \",IF(ISBLANK(C$11),\" \",IF(ISBLANK(C13),\" \",ROUND((C13/C$10)*100,0))))","v":"  "},null,{"$f":"IF(ISBLANK(E$10),\"  \",IF(ISBLANK(E$11),\" \",IF(ISBLANK(E13),\" \",ROUND((E13/E$10)*100,0))))","v":"  "},null,{"$f":"IF(ISBLANK(G$10),\"  \",IF(ISBLANK(G$11),\" \",IF(ISBLANK(G13),\" \",ROUND((G13/G$10)*100,0))))","v":"  "},null,{"$f":"IF(ISBLANK(I$10),\"  \",IF(ISBLANK(I$11),\" \",IF(ISBLANK(I13),\" \",ROUND((I13/I$10)*100,0))))","v":"  "},null,{"$f":"IF(ISBLANK(K$10),\"  \",IF(ISBLANK(K$11),\" \",IF(ISBLANK(K13),\" \",ROUND((K13/K$10)*100,0))))","v":"  "},null,{"$f":"IF(ISBLANK(M$10),\"  \",IF(ISBLANK(M$11),\" \",IF(ISBLANK(M13),\" \",ROUND((M13/M$10)*100,0))))","v":"  "}]
["90-100",0.75,null,"  ",null,"  ",null,"  ",null,"  ",null,"  ",null,"  "]
["Breaker",0.5,null,"  ",null,"  ",null,"  ",null,"  ",null,"  ",null,"  "]
["20-55",0.375,null,"  ",null,"  ",null,"  ",null,"  ",null,"  ",null,"  "]
["0-10",4,null,"  ",null,"  ",null,"  ",null,"  ",null,"  ",null,"  "]
["0-5",8,null,"  ",null,"  ",null,"  ",null,"  ",null,"  ",null,"  "]
[]
["Wash",{"$f":"'S1'!B20","v":" "}]
["St. Wt. Before Wash",null,null,"% Passing",null,"% Passing",null,"% Passing",null,"% Passing",null,"% Passing",null,"% Passing"]
["End Wt. After Wash",null,null,{"$f":"IF(ISBLANK(C21),\" \",IF(ISBLANK(C22),\" \",((C21-C22)/C21)*100))","v":" "},null,{"$f":"IF(ISBLANK(E21),\" \",IF(ISBLANK(E22),\" \",((E21-E22)/E21)*100))","v":" "},null,{"$f":"IF(ISBLANK(G21),\" \",IF(ISBLANK(G22),\" \",((G21-G22)/G21)*100))","v":" "},null,{"$f":"IF(ISBLANK(I21),\" \",IF(ISBLANK(I22),\" \",((I21-I22)/I21)*100))","v":" "},null,{"$f":"IF(ISBLANK(K21),\" \",IF(ISBLANK(K22),\" \",((K21-K22)/K21)*100))","v":" "},null,{"$f":"IF(ISBLANK(M21),\" \",IF(ISBLANK(M22),\" \",((M21-M22)/M21)*100))","v":" "}]
["Tested By"]
["Remarks"]
[]
[]
[]
["Sample No."]
["Date"]
["Starting Weight",null,null,"% Loss",null,"% Loss",null,"% Loss",null,"% Loss",null,"% Loss",null,"% Loss"]
["Ending Weight",null,null,{"$f":"IF(ISBLANK(C30),\" \",IF(ISBLANK(C31),\" \",((C30-C31)/C30)*100))","v":" "},null,{"$f":"IF(ISBLANK(E30),\" \",IF(ISBLANK(E31),\" \",((E30-E31)/E30)*100))","v":" "},null,{"$f":"IF(ISBLANK(G30),\" \",IF(ISBLANK(G31),\" \",((G30-G31)/G30)*100))","v":" "},null,{"$f":"IF(ISBLANK(I30),\" \",IF(ISBLANK(I31),\" \",((I30-I31)/I30)*100))","v":" "},null,{"$f":"IF(ISBLANK(K30),\" \",IF(ISBLANK(K31),\" \",((K30-K31)/K30)*100))","v":" "},null,{"$f":"IF(ISBLANK(M30),\" \",IF(ISBLANK(M31),\" \",((M30-M31)/M30)*100))","v":" "}]
[null,null,"Wt.","% Passing","Wt.","% Passing","Wt.","% Passing","Wt.","% Passing","Wt.","% Passing","Wt.","% Passing"]
[100,1,null,{"$f":"IF(ISBLANK(C$30),\"  \",IF(ISBLANK(C$31),\" \",IF(ISBLANK(C33),\" \",ROUND((C33/C$30)*100,0))))","v":"  "},null,{"$f":"IF(ISBLANK(E$30),\"  \",IF(ISBLANK(E$31),\" \",IF(ISBLANK(E33),\" \",ROUND((E33/E$30)*100,0))))","v":"  "},null,{"$f":"IF(ISBLANK(G$30),\"  \",IF(ISBLANK(G$31),\" \",IF(ISBLANK(G33),\" \",ROUND((G33/G$30)*100,0))))","v":"  "},null,{"$f":"IF(ISBLANK(I$30),\"  \",IF(ISBLANK(I$31),\" \",IF(ISBLANK(I33),\" \",ROUND((I33/I$30)*100,0))))","v":"  "},null,{"$f":"IF(ISBLANK(K$30),\"  \",IF(ISBLANK(K$31),\" \",IF(ISBLANK(K33),\" \",ROUND((K33/K$30)*100,0))))","v":"  "},null,{"$f":"IF(ISBLANK(M$30),\"  \",IF(ISBLANK(M$31),\" \",IF(ISBLANK(M33),\" \",ROUND((M33/M$30)*100,0))))","v":"  "}]
["90-100",0.75,null,"  ",null,"  ",null,"  ",null,"  ",null,"  ",null,"  "]
["Breaker",0.5,null,"  ",null,"  ",null,"  ",null,"  ",null,"  ",null,"  "]
["20-55",0.375,null,"  ",null,"  ",null,"  ",null,"  ",null,"  ",null,"  "]
["0-10",4,null,"  ",null,"  ",null,"  ",null,"  ",null,"  ",null,"  "]
["0-5",8,null,"  ",null,"  ",null,"  ",null,"  ",null,"  ",null,"  "]
[]
["Wash",{"$f":"'S1'!B40","v":" "}]
["St. Wt. Before Wash",null,null,"% Passing",null,"% Passing",null,"% Passing",null,"% Passing",null,"% Passing",null,"% Passing"]
["End Wt. After Wash",null,null,{"$f":"IF(ISBLANK(C41),\" \",IF(ISBLANK(C42),\" \",((C41-C42)/C41)*100))","v":" "},null,{"$f":"IF(ISBLANK(E41),\" \",IF(ISBLANK(E42),\" \",((E41-E42)/E41)*100))","v":" "},null,{"$f":"IF(ISBLANK(G41),\" \",IF(ISBLANK(G42),\" \",((G41-G42)/G41)*100))","v":" "},null,{"$f":"IF(ISBLANK(I41),\" \",IF(ISBLANK(I42),\" \",((I41-I42)/I41)*100))","v":" "},null,{"$f":"IF(ISBLANK(K41),\" \",IF(ISBLANK(K42),\" \",((K41-K42)/K41)*100))","v":" "},null,{"$f":"IF(ISBLANK(M41),\" \",IF(ISBLANK(M42),\" \",((M41-M42)/M41)*100))","v":" "}]
["Tested By"]
["Remarks"]

{"sheet":"S12","index":11,"n_rows":44,"n_cols":14,"rows_kept":44,"cut":false,"hidden":true,"merged":[[22,12,22,13],[22,8,22,9],[22,10,22,11],[23,10,25,11],[23,12,25,13],[23,8,25,9],[27,12,27,13],[27,2,27,3],[27,4,27,5],[28,4,28,5],[28,6,28,7],[28,12,28,13],[27,10,27,11],[28,10,28,11],[27,8,27,9],[28,8,28,9],[28,2,28,3],[27,6,27,7],[8,8,8,9],[8,10,8,11],[4,12,4,13],[7,10,7,11],[7,12,7,13],[5,10,5,11],[5,12,5,13],[4,10,4,11],[23,6,25,7],[1,12,1,13],[2,10,2,11],[2,12,2,13],[0,8,3,9],[1,3,1,7],[2,3,2,7],[3,3,3,7],[3,12,3,13],[1,10,1,11],[3,10,3,11],[8,12,8,13],[5,3,5,8],[7,8,7,9],[8,4,8,5],[8,6,8,7],[7,4,7,5],[11,0,11,1],[20,0,20,1],[22,4,22,5],[22,6,22,7],[7,6,7,7],[0,0,3,1],[40,0,40,1],[8,0,8,1],[8,2,8,3],[10,0,10,1],[9,0,9,1],[22,0,22,1],[22,2,22,3],[4,0,4,1],[29,0,29,1],[27,0,27,1],[28,0,28,1],[31,0,31,1],[7,0,7,1],[7,2,7,3],[23,2,25,3],[43,6,45,7],[43,8,45,9],[43,10,45,11],[43,12,45,13],[42,4,42,5],[42,6,42,7],[42,8,42,9],[42,10,42,11],[42,12,42,13],[43,0,45,1],[43,2,45,3],[43,4,45,5],[21,0,21,1],[23,0,25,1],[30,0,30,1],[41,0,41,1],[42,0,42,1],[42,2,42,3],[23,4,25,5]]}
[]
[null,null,null,"COMMONWEALTH OF PENNSYLVANIA",null,null,null,null,null,null,"DISTRICT",null,{"$f":"IF(ISBLANK('S1'!L2),\" \",'S1'!L2)","v":" "}]
[null,null,null,"DEPARTMENT OF TRANSPORTATION",null,null,null,null,null,null,"PLANT CODE",null,{"$f":"IF(ISBLANK('S1'!L3),\" \",'S1'!L3)","v":" "}]
[null,null,null,"PENNSYLVANIA TURNPIKE COMMISSION",null,null,null,null,null,null,"AGG SIZE",null,{"$f":"IF(ISBLANK('S1'!L4),\" \",'S1'!L4)","v":" "}]
[{"$f":"'S1'!A5","v":"Aggregate 2023"},null,null,null,null,null,null,null,null,null,"3/8 TARGET VALUE",null,{"$f":"IF(ISBLANK('S1'!L5),\" \",'S1'!L5)","v":35}]
[null,null,null,"Material Test Results for #67 Coarse Aggregate",null,null,null,null,null,null,"WASH SPEC",null,{"$f":"IF(ISBLANK('S1'!L6),\" \",'S1'!L6)","v":" "}]
[]
["Sample No."]
["Date"]
["Starting Weight",null,null,"% Loss",null,"% Loss",null,"% Loss",null,"% Loss",null,"% Loss",null,"% Loss"]
["Ending Weight",null,null,{"$f":"IF(ISBLANK(C10),\" \",IF(ISBLANK(C11),\" \",((C10-C11)/C10)*100))","v":" "},null,{"$f":"IF(ISBLANK(E10),\" \",IF(ISBLANK(E11),\" \",((E10-E11)/E10)*100))","v":" "},null,{"$f":"IF(ISBLANK(G10),\" \",IF(ISBLANK(G11),\" \",((G10-G11)/G10)*100))","v":" "},null,{"$f":"IF(ISBLANK(I10),\" \",IF(ISBLANK(I11),\" \",((I10-I11)/I10)*100))","v":" "},null,{"$f":"IF(ISBLANK(K10),\" \",IF(ISBLANK(K11),\" \",((K10-K11)/K10)*100))","v":" "},null,{"$f":"IF(ISBLANK(M10),\" \",IF(ISBLANK(M11),\" \",((M10-M11)/M10)*100))","v":" "}]
[null,null,"Wt.","% Passing","Wt.","% Passing","Wt.","% Passing","Wt.","% Passing","Wt.","% Passing","Wt.","% Passing"]
[100,1,null,{"$f":"IF(ISBLANK(C$10),\"  \",IF(ISBLANK(C$11),\" \",IF(ISBLANK(C13),\" \",ROUND((C13/C$10)*100,0))))","v":"  "},null,{"$f":"IF(ISBLANK(E$10),\"  \",IF(ISBLANK(E$11),\" \",IF(ISBLANK(E13),\" \",ROUND((E13/E$10)*100,0))))","v":"  "},null,{"$f":"IF(ISBLANK(G$10),\"  \",IF(ISBLANK(G$11),\" \",IF(ISBLANK(G13),\" \",ROUND((G13/G$10)*100,0))))","v":"  "},null,{"$f":"IF(ISBLANK(I$10),\"  \",IF(ISBLANK(I$11),\" \",IF(ISBLANK(I13),\" \",ROUND((I13/I$10)*100,0))))","v":"  "},null,{"$f":"IF(ISBLANK(K$10),\"  \",IF(ISBLANK(K$11),\" \",IF(ISBLANK(K13),\" \",ROUND((K13/K$10)*100,0))))","v":"  "},null,{"$f":"IF(ISBLANK(M$10),\"  \",IF(ISBLANK(M$11),\" \",IF(ISBLANK(M13),\" \",ROUND((M13/M$10)*100,0))))","v":"  "}]
["90-100",0.75,null,"  ",null,"  ",null,"  ",null,"  ",null,"  ",null,"  "]
["Breaker",0.5,null,"  ",null,"  ",null,"  ",null,"  ",null,"  ",null,"  "]
["20-55",0.375,null,"  ",null,"  ",null,"  ",null,"  ",null,"  ",null,"  "]
["0-10",4,null,"  ",null,"  ",null,"  ",null,"  ",null,"  ",null,"  "]
["0-5",8,null,"  ",null,"  ",null,"  ",null,"  ",null,"  ",null,"  "]
[]
["Wash",{"$f":"'S1'!B20","v":" "}]
["St. Wt. Before Wash",null,null,"% Passing",null,"% Passing",null,"% Passing",null,"% Passing",null,"% Passing",null,"% Passing"]
["End Wt. After Wash",null,null,{"$f":"IF(ISBLANK(C21),\" \",IF(ISBLANK(C22),\" \",((C21-C22)/C21)*100))","v":" "},null,{"$f":"IF(ISBLANK(E21),\" \",IF(ISBLANK(E22),\" \",((E21-E22)/E21)*100))","v":" "},null,{"$f":"IF(ISBLANK(G21),\" \",IF(ISBLANK(G22),\" \",((G21-G22)/G21)*100))","v":" "},null,{"$f":"IF(ISBLANK(I21),\" \",IF(ISBLANK(I22),\" \",((I21-I22)/I21)*100))","v":" "},null,{"$f":"IF(ISBLANK(K21),\" \",IF(ISBLANK(K22),\" \",((K21-K22)/K21)*100))","v":" "},null,{"$f":"IF(ISBLANK(M21),\" \",IF(ISBLANK(M22),\" \",((M21-M22)/M21)*100))","v":" "}]
["Tested By"]
["Remarks"]
[]
[]
[]
["Sample No."]
["Date"]
["Starting Weight",null,null,"% Loss",null,"% Loss",null,"% Loss",null,"% Loss",null,"% Loss",null,"% Loss"]
["Ending Weight",null,null,{"$f":"IF(ISBLANK(C30),\" \",IF(ISBLANK(C31),\" \",((C30-C31)/C30)*100))","v":" "},null,{"$f":"IF(ISBLANK(E30),\" \",IF(ISBLANK(E31),\" \",((E30-E31)/E30)*100))","v":" "},null,{"$f":"IF(ISBLANK(G30),\" \",IF(ISBLANK(G31),\" \",((G30-G31)/G30)*100))","v":" "},null,{"$f":"IF(ISBLANK(I30),\" \",IF(ISBLANK(I31),\" \",((I30-I31)/I30)*100))","v":" "},null,{"$f":"IF(ISBLANK(K30),\" \",IF(ISBLANK(K31),\" \",((K30-K31)/K30)*100))","v":" "},null,{"$f":"IF(ISBLANK(M30),\" \",IF(ISBLANK(M31),\" \",((M30-M31)/M30)*100))","v":" "}]
[null,null,"Wt.","% Passing","Wt.","% Passing","Wt.","% Passing","Wt.","% Passing","Wt.","% Passing","Wt.","% Passing"]
[100,1,null,{"$f":"IF(ISBLANK(C$30),\"  \",IF(ISBLANK(C$31),\" \",IF(ISBLANK(C33),\" \",ROUND((C33/C$30)*100,0))))","v":"  "},null,{"$f":"IF(ISBLANK(E$30),\"  \",IF(ISBLANK(E$31),\" \",IF(ISBLANK(E33),\" \",ROUND((E33/E$30)*100,0))))","v":"  "},null,{"$f":"IF(ISBLANK(G$30),\"  \",IF(ISBLANK(G$31),\" \",IF(ISBLANK(G33),\" \",ROUND((G33/G$30)*100,0))))","v":"  "},null,{"$f":"IF(ISBLANK(I$30),\"  \",IF(ISBLANK(I$31),\" \",IF(ISBLANK(I33),\" \",ROUND((I33/I$30)*100,0))))","v":"  "},null,{"$f":"IF(ISBLANK(K$30),\"  \",IF(ISBLANK(K$31),\" \",IF(ISBLANK(K33),\" \",ROUND((K33/K$30)*100,0))))","v":"  "},null,{"$f":"IF(ISBLANK(M$30),\"  \",IF(ISBLANK(M$31),\" \",IF(ISBLANK(M33),\" \",ROUND((M33/M$30)*100,0))))","v":"  "}]
["90-100",0.75,null,"  ",null,"  ",null,"  ",null,"  ",null,"  ",null,"  "]
["Breaker",0.5,null,"  ",null,"  ",null,"  ",null,"  ",null,"  ",null,"  "]
["20-55",0.375,null,"  ",null,"  ",null,"  ",null,"  ",null,"  ",null,"  "]
["0-10",4,null,"  ",null,"  ",null,"  ",null,"  ",null,"  ",null,"  "]
["0-5",8,null,"  ",null,"  ",null,"  ",null,"  ",null,"  ",null,"  "]
[]
["Wash",{"$f":"'S1'!B40","v":" "}]
["St. Wt. Before Wash",null,null,"% Passing",null,"% Passing",null,"% Passing",null,"% Passing",null,"% Passing",null,"% Passing"]
["End Wt. After Wash",null,null,{"$f":"IF(ISBLANK(C41),\" \",IF(ISBLANK(C42),\" \",((C41-C42)/C41)*100))","v":" "},null,{"$f":"IF(ISBLANK(E41),\" \",IF(ISBLANK(E42),\" \",((E41-E42)/E41)*100))","v":" "},null,{"$f":"IF(ISBLANK(G41),\" \",IF(ISBLANK(G42),\" \",((G41-G42)/G41)*100))","v":" "},null,{"$f":"IF(ISBLANK(I41),\" \",IF(ISBLANK(I42),\" \",((I41-I42)/I41)*100))","v":" "},null,{"$f":"IF(ISBLANK(K41),\" \",IF(ISBLANK(K42),\" \",((K41-K42)/K41)*100))","v":" "},null,{"$f":"IF(ISBLANK(M41),\" \",IF(ISBLANK(M42),\" \",((M41-M42)/M41)*100))","v":" "}]
["Tested By"]
["Remarks"]

{"sheet":"QA Samples","index":12,"n_rows":63,"n_cols":23,"rows_kept":63,"cut":false,"hidden":false,"merged":[[4,0,4,1],[0,0,3,1],[1,11,1,12],[1,13,1,14],[2,11,2,12],[2,13,2,14],[3,11,3,12],[3,13,3,14],[1,2,1,8],[2,2,2,8],[3,2,3,8],[0,9,3,10],[4,11,4,12],[4,13,4,14],[23,2,25,3],[23,4,25,5],[23,8,25,9],[5,2,5,10],[7,0,7,1],[10,8,10,9],[11,8,11,9],[8,10,8,11],[7,2,7,3],[7,4,7,5],[7,8,7,9],[7,10,7,11],[9,0,9,1],[10,0,10,1],[11,0,11,1],[8,0,8,1],[9,6,10,6],[20,8,20,9],[21,8,21,9],[8,2,8,3],[8,4,8,5],[20,0,20,1],[21,0,21,1],[8,8,8,9],[9,8,9,9],[29,0,29,1],[29,6,30,6],[29,8,29,9],[27,8,27,9],[22,0,22,1],[22,2,22,3],[22,4,22,5],[23,6,25,6],[27,0,27,1],[27,2,27,3],[27,4,27,5],[23,0,25,1],[28,0,28,1],[42,2,42,3],[42,4,42,5],[42,8,42,9],[42,10,42,11],[40,8,40,9],[28,2,28,3],[28,4,28,5],[28,8,28,9],[28,10,28,11],[43,0,45,1],[43,2,45,3],[43,4,45,5],[43,6,45,6],[30,0,30,1],[31,0,31,1],[40,0,40,1],[41,0,41,1],[42,0,42,1],[43,14,45,14],[5,19,5,21],[12,19,12,21],[20,19,20,21],[27,19,27,21],[34,19,34,21],[29,14,30,14],[9,14,10,14],[23,14,25,14],[42,19,42,21],[5,13,5,14],[8,12,8,13],[5,11,5,12],[7,12,7,13],[43,8,45,9],[41,8,41,9],[43,12,45,13],[22,12,22,13],[23,12,25,13],[27,12,27,13],[42,12,42,13],[22,10,22,11],[22,8,22,9],[28,12,28,13],[43,10,45,11],[30,8,30,9],[31,8,31,9],[27,10,27,11],[23,10,25,11]]}
[]
[null,null,"COMMONWEALTH OF PENNSYLVANIA",null,null,null,null,null,null,null,null,"DISTRICT",null,{"$f":"'S1'!L2","v":0}]
[null,null,"DEPARTMENT OF TRANSPORTATION",null,null,null,null,null,null,null,null,"PLANT CODE",null,{"$f":"'S1'!L3","v":0}]
[null,null,"PENNSYLVANIA TURNPIKE COMMISSION",null,null,null,null,null,null,null,null,"AGG SIZE",null,{"$f":"'S1'!L4","v":0}]
[{"$f":"'S1'!A5:B5","v":"Aggregate 2023"},null,null,null,null,null,null,null,null,null,null,"3/8 TARGET VALUE",null,{"$f":"'S1'!L5","v":35}]
[null,null,"INDEPENDENT ASSURANCE SAMPLES AND CHARTS",null,null,null,null,null,null,null,null,"WASH SPEC",null,{"$f":"'S1'!L6","v":0},null,null,null,null,null,0.5]
[null,null,null,null,null,null,null,null,null,null,null,null,null,null,null,null,null,null,null,"Producer","Inspector","MTD"]
["Tested By:",null,"Producer",null,"Inspector",null,"MTD",null,"Tested By:",null,"Producer",null,"Inspector",null,"MTD",null,null,null,1,{"$f":"IF(ISTEXT(D13),NA(),D13)","v":{"$error":"#N/A"}},{"$f":"IF(ISTEXT(F13),NA(),F13)","v":{"$error":"#N/A"}},{"$f":"IF(ISBLANK(G13),NA(),G13)","v":{"$error":"#N/A"}}]
["Date",null,null,null,null,null,null,null,"Date",null,null,null,null,null,null,null,null,null,2,{"$f":"IF(ISTEXT(L13),NA(),L13)","v":{"$error":"#N/A"}},{"$f":"IF(ISTEXT(N13),NA(),N13)","v":{"$error":"#N/A"}},{"$f":"IF(ISBLANK(O13),NA(),O13)","v":{"$error":"#N/A"}}]
["Starting Weight",null,null,"% Loss",null,"% Loss","Enter MTD results",null,"Starting Weight",null,null,"% Loss",null,"% Loss","Enter MTD results",null,null,null,3,{"$f":"IF(ISTEXT(D33),NA(),D33)","v":{"$error":"#N/A"}},{"$f":"IF(ISTEXT(F33),NA(),F33)","v":{"$error":"#N/A"}},{"$f":"IF(ISBLANK(G33),NA(),G33)","v":{"$error":"#N/A"}}]
["Ending Weight",null,null,{"$f":"IF(ISBLANK(C10),\" \",IF(ISBLANK(C11),\" \",((C10-C11)/C10)*100))","v":" "},null,{"$f":"IF(ISBLANK(E10),\" \",IF(ISBLANK(E11),\" \",((E10-E11)/E10)*100))","v":" "},null,null,"Ending Weight",null,null,{"$f":"IF(ISBLANK(K10),\" \",IF(ISBLANK(K11),\" \",((K10-K11)/K10)*100))","v":" "},null,{"$f":"IF(ISBLANK(M10),\" \",IF(ISBLANK(M11),\" \",((M10-M11)/M10)*100))","v":" "},null,null,null,null,4,{"$f":"IF(ISTEXT(L33),NA(),L33)","v":{"$error":"#N/A"}},{"$f":"IF(ISTEXT(N33),NA(),N33)","v":{"$error":"#N/A"}},{"$f":"IF(ISBLANK(O33),NA(),O33)","v":{"$error":"#N/A"}}]
[null,null,"Wt.","% Passing","Wt.","% Passing","% Passing",null,null,null,"Wt.","% Passing","Wt.","% Passing","% Passing"]
[100,1,null,{"$f":"IF(ISBLANK(C$10),\"  \",IF(ISBLANK(C$11),\" \",IF(ISBLANK(C13),\" \",ROUND((C13/C$10)*100,0))))","v":"  "},null,{"$f":"IF(ISBLANK(E$10),\"  \",IF(ISBLANK(E$11),\" \",IF(ISBLANK(E13),\" \",ROUND((E13/E$10)*100,0))))","v":"  "},null,null,100,1,null,{"$f":"IF(ISBLANK(K$10),\"  \",IF(ISBLANK(K$11),\" \",IF(ISBLANK(K13),\" \",ROUND((K13/K$10)*100,0))))","v":"  "},null,{"$f":"IF(ISBLANK(M$10),\"  \",IF(ISBLANK(M$11),\" \",IF(ISBLANK(M13),\" \",ROUND((M13/M$10)*100,0))))","v":"  "},null,null,null,null,null,0.375]
["90-100",0.75,null,"  ",null,"  ",null,null,"90-100",0.75,null,"  ",null,"  ",null,null,null,null,null,"Producer","Inspector","MTD"]
["Breaker",0.5,null,"  ",null,"  ",null,null,"Breaker",0.5,null,"  ",null,"  ",null,null,null,null,1,{"$f":"IF(ISTEXT(D14),NA(),D14)","v":{"$error":"#N/A"}},{"$f":"IF(ISTEXT(F14),NA(),F14)","v":{"$error":"#N/A"}},{"$f":"IF(ISBLANK(G14),NA(),G14)","v":{"$error":"#N/A"}}]
["20-50",0.375,null,"  ",null,"  ",null,null,"20-50",0.375,null,"  ",null,"  ",null,null,null,null,2,{"$f":"IF(ISTEXT(L14),NA(),L14)","v":{"$error":"#N/A"}},{"$f":"IF(ISTEXT(N14),NA(),N14)","v":{"$error":"#N/A"}},{"$f":"IF(ISBLANK(O14),NA(),O14)","v":{"$error":"#N/A"}}]
["0-10",4,null,"  ",null,"  ",null,null,"0-10",4,null,"  ",null,"  ",null,null,null,null,3,{"$f":"IF(ISTEXT(D34),NA(),D34)","v":{"$error":"#N/A"}},{"$f":"IF(ISTEXT(F34),NA(),F34)","v":{"$error":"#N/A"}},{"$f":"IF(ISBLANK(G34),NA(),G34)","v":{"$error":"#N/A"}}]
["0-5",8,null,"  ",null,"  ",null,null,"0-5",8,null,"  ",null,"  ",null,null,null,null,4,{"$f":"IF(ISTEXT(L34),NA(),L34)","v":{"$error":"#N/A"}},{"$f":"IF(ISTEXT(N34),NA(),N34)","v":{"$error":"#N/A"}},{"$f":"IF(ISBLANK(O34),NA(),O34)","v":{"$error":"#N/A"}}]
[]
["Wash",{"$f":"IF(ISBLANK($N$6),\" \",$N$6)","v":0},null,null,null,null,null,null,"Wash",{"$f":"IF(ISBLANK($N$6),\" \",$N$6)","v":0}]
["St. Wt. Before Wash",null,null,"% Passing",null,"% Passing","%Passing",null,"St. Wt. Before Wash",null,null,"% Passing",null,"% Passing","%Passing",null,null,null,null,4]
["End Wt. After Wash",null,null,{"$f":"IF(ISBLANK(C21),\" \",IF(ISBLANK(C22),\" \",((C21-C22)/C21)*100))","v":" "},null,{"$f":"IF(ISBLANK(E21),\" \",IF(ISBLANK(E22),\" \",((E21-E22)/E21)*100))","v":" "},null,null,"End Wt. After Wash",null,null,{"$f":"IF(ISBLANK(K21),\" \",IF(ISBLANK(K22),\" \",((K21-K22)/K21)*100))","v":" "},null,{"$f":"IF(ISBLANK(M21),\" \",IF(ISBLANK(M22),\" \",((M21-M22)/M21)*100))","v":" "},null,null,null,null,null,"Producer","Inspector","MTD"]
["Tested By",null,null,null,null,null,"MTD",null,"Tested By",null,null,null,null,null,"MTD",null,null,null,1,{"$f":"IF(ISTEXT(D16),NA(),D16)","v":{"$error":"#N/A"}},{"$f":"IF(ISTEXT(F16),NA(),F16)","v":{"$error":"#N/A"}},{"$f":"IF(ISBLANK(G16),NA(),G16)","v":{"$error":"#N/A"}}]
["Remarks",null,null,null,null,null,null,null,"Remarks",null,null,null,null,null,null,null,null,null,2,{"$f":"IF(ISTEXT(L16),NA(),L16)","v":{"$error":"#N/A"}},{"$f":"IF(ISTEXT(N16),NA(),N16)","v":{"$error":"#N/A"}},{"$f":"IF(ISBLANK(O16),NA(),O16)","v":{"$error":"#N/A"}}]
[null,null,null,null,null,null,null,null,null,null,null,null,null,null,null,null,null,null,3,{"$f":"IF(ISTEXT(D36),NA(),D36)","v":{"$error":"#N/A"}},{"$f":"IF(ISTEXT(F36),NA(),F36)","v":{"$error":"#N/A"}},{"$f":"IF(ISBLANK(G36),NA(),G36)","v":{"$error":"#N/A"}}]
[null,null,null,null,null,null,null,null,null,null,null,null,null,null,null,null,null,null,4,{"$f":"IF(ISTEXT(L36),NA(),L36)","v":{"$error":"#N/A"}},{"$f":"IF(ISTEXT(N36),NA(),N36)","v":{"$error":"#N/A"}},{"$f":"IF(ISBLANK(O36),NA(),O36)","v":{"$error":"#N/A"}}]
[]
["Tested By:",null,"Producer",null,"Inspector",null,"MTD",null,"Tested By:",null,"Producer",null,"Inspector",null,"MTD",null,null,null,null,8]
["Date",null,null,null,null,null,null,null,"Date",null,null,null,null,null,null,null,null,null,null,"Producer","Inspector","MTD"]
["Starting Weight",null,null,"% Loss",null,"% Loss","Enter MTD results",null,"Starting Weight",null,null,"% Loss",null,"% Loss","Enter MTD results",null,null,null,1,{"$f":"IF(ISTEXT(D17),NA(),D17)","v":{"$error":"#N/A"}},{"$f":"IF(ISTEXT(F17),NA(),F17)","v":{"$error":"#N/A"}},{"$f":"IF(ISBLANK(G17),NA(),G17)","v":{"$error":"#N/A"}}]
["Ending Weight",null,null,{"$f":"IF(ISBLANK(C30),\" \",IF(ISBLANK(C31),\" \",((C30-C31)/C30)*100))","v":" "},null,{"$f":"IF(ISBLANK(E30),\" \",IF(ISBLANK(E31),\" \",((E30-E31)/E30)*100))","v":" "},null,null,"Ending Weight",null,null,{"$f":"IF(ISBLANK(K30),\" \",IF(ISBLANK(K31),\" \",((K30-K31)/K30)*100))","v":" "},null,{"$f":"IF(ISBLANK(M30),\" \",IF(ISBLANK(M31),\" \",((M30-M31)/M30)*100))","v":" "},null,null,null,null,2,{"$f":"IF(ISTEXT(L17),NA(),L17)","v":{"$error":"#N/A"}},{"$f":"IF(ISTEXT(N17),NA(),N17)","v":{"$error":"#N/A"}},{"$f":"IF(ISBLANK(O17),NA(),O17)","v":{"$error":"#N/A"}}]
[null,null,"Wt.","% Passing","Wt.","% Passing","% Passing",null,null,null,"Wt.","% Passing","Wt.","% Passing","% Passing",null,null,null,3,{"$f":"IF(ISTEXT(D37),NA(),D37)","v":{"$error":"#N/A"}},{"$f":"IF(ISTEXT(F37),NA(),F37)","v":{"$error":"#N/A"}},{"$f":"IF(ISBLANK(G37),NA(),G37)","v":{"$error":"#N/A"}}]
[100,1,null,{"$f":"IF(ISBLANK(C$10),\"  \",IF(ISBLANK(C$11),\" \",IF(ISBLANK(C33),\" \",ROUND((C33/C$10)*100,0))))","v":"  "},null,{"$f":"IF(ISBLANK(E$10),\"  \",IF(ISBLANK(E$11),\" \",IF(ISBLANK(E33),\" \",ROUND((E33/E$10)*100,0))))","v":"  "},null,null,100,1,null,{"$f":"IF(ISBLANK(K$10),\"  \",IF(ISBLANK(K$11),\" \",IF(ISBLANK(K33),\" \",ROUND((K33/K$10)*100,0))))","v":"  "},null,{"$f":"IF(ISBLANK(M$10),\"  \",IF(ISBLANK(M$11),\" \",IF(ISBLANK(M33),\" \",ROUND((M33/M$10)*100,0))))","v":"  "},null,null,null,null,4,{"$f":"IF(ISTEXT(L37),NA(),L37)","v":{"$error":"#N/A"}},{"$f":"IF(ISTEXT(N37),NA(),N37)","v":{"$error":"#N/A"}},{"$f":"IF(ISBLANK(O37),NA(),O37)","v":{"$error":"#N/A"}}]
["90-100",0.75,null,"  ",null,"  ",null,null,"90-100",0.75,null,"  ",null,"  "]
["Breaker",0.5,null,"  ",null,"  ",null,null,"Breaker",0.5,null,"  ",null,"  ",null,null,null,null,null,16]
["20-50",0.375,null,"  ",null,"  ",null,null,"20-50",0.375,null,"  ",null,"  ",null,null,null,null,null,"Producer","Inspector","MTD"]
["0-10",4,null,"  ",null,"  ",null,null,"0-10",4,null,"  ",null,"  ",null,null,null,null,1,{"$f":"IF(ISTEXT(D18),NA(),D18)","v":{"$error":"#N/A"}},{"$f":"IF(ISTEXT(F18),NA(),F18)","v":{"$error":"#N/A"}},{"$f":"IF(ISBLANK(G18),NA(),G18)","v":{"$error":"#N/A"}}]
["0-5",8,null,"  ",null,"  ",null,null,"0-5",8,null,"  ",null,"  ",null,null,null,null,2,{"$f":"IF(ISTEXT(L18),NA(),L18)","v":{"$error":"#N/A"}},{"$f":"IF(ISTEXT(N18),NA(),N18)","v":{"$error":"#N/A"}},{"$f":"IF(ISBLANK(O18),NA(),O18)","v":{"$error":"#N/A"}},"`"]
[]
["Wash",{"$f":"IF(ISBLANK(N$6),\" \",N$6)","v":0},null,null,null,null,null,null,"Wash",{"$f":"IF(ISBLANK($N$6),\" \",$N$6)","v":0},null,null,null,null,null,null,null,null,3,{"$f":"IF(ISTEXT(L38),NA(),L38)","v":{"$error":"#N/A"}},{"$f":"IF(ISTEXT(N38),NA(),N38)","v":{"$error":"#N/A"}},{"$f":"IF(ISBLANK(O38),NA(),O38)","v":{"$error":"#N/A"}}]
["St. Wt. Before Wash",null,null,"% Passing",null,"% Passing","%Passing",null,"St. Wt. Before Wash",null,null,"% Passing",null,"% Passing","%Passing",null,null,null,4,{"$f":"IF(ISTEXT(L38),NA(),L38)","v":{"$error":"#N/A"}},{"$f":"IF(ISTEXT(N38),NA(),N38)","v":{"$error":"#N/A"}},{"$f":"IF(ISBLANK(O38),NA(),O38)","v":{"$error":"#N/A"}}]
["End Wt. After Wash",null,null,{"$f":"IF(ISBLANK(C41),\" \",IF(ISBLANK(C42),\" \",((C41-C42)/C41)*100))","v":" "},null,{"$f":"IF(ISBLANK(E41),\" \",IF(ISBLANK(E42),\" \",((E41-E42)/E41)*100))","v":" "},null,null,"End Wt. After Wash",null,null,{"$f":"IF(ISBLANK(K41),\" \",IF(ISBLANK(K42),\" \",((K41-K42)/K41)*100))","v":" "},null,{"$f":"IF(ISBLANK(M41),\" \",IF(ISBLANK(M42),\" \",((M41-M42)/M41)*100))","v":" "}]
["Tested By",null,null,null,null,null,"MTD",null,"Tested By",null,null,null,null,null,"MTD",null,null,null,null,200]
["Remarks",null,null,null,null,null,null,null,"Remarks",null,null,null,null,null,null,null,null,null,null,"Producer","Inspector","MTD"]
[null,null,null,null,null,null,null,null,null,null,null,null,null,null,null,null,null,null,1,{"$f":"IF(ISTEXT(D22),NA(),D22)","v":{"$error":"#N/A"}},{"$f":"IF(ISTEXT(F22),NA(),F22)","v":{"$error":"#N/A"}},{"$f":"IF(ISBLANK(G22),NA(),G22)","v":{"$error":"#N/A"}}]
[null,null,null,null,null,null,null,null,null,null,null,null,null,null,null,null,null,null,2,{"$f":"IF(ISTEXT(L22),NA(),L22)","v":{"$error":"#N/A"}},{"$f":"IF(ISTEXT(N22),NA(),N22)","v":{"$error":"#N/A"}},{"$f":"IF(ISBLANK(O22),NA(),O22)","v":{"$error":"#N/A"}}]
[null,null,null,null,null,null,null,null,null,null,null,null,null,null,null,null,null,null,3,{"$f":"IF(ISTEXT(D42),NA(),D42)","v":{"$error":"#N/A"}},{"$f":"IF(ISTEXT(F42),NA(),F42)","v":{"$error":"#N/A"}},{"$f":"IF(ISBLANK(G42),NA(),G42)","v":{"$error":"#N/A"}}]
[null,null,null,null,null,null,null,null,null,null,null,null,null,null,null,null,null,null,4,{"$f":"IF(ISTEXT(L42),NA(),L42)","v":{"$error":"#N/A"}},{"$f":"IF(ISTEXT(N42),NA(),N42)","v":{"$error":"#N/A"}},{"$f":"IF(ISBLANK(O42),NA(),O42)","v":{"$error":"#N/A"}}]
[]
[]
[]
[]
[]
[]
[]
[]
[null,null,null,null,null,null,null,null,null,null,null,null,null,null,null,null,null,null,null,null,"Min","Max"]
[null,null,null,null,null,null,null,null,null,null,null,null,null,null,null,null,null,null,null,1,95,105]
[null,null,null,null,null,null,null,null,null,null,null,null,null,null,null,null,null,null,null,0.75,80,100]
[null,null,null,null,null,null,null,null,null,null,null,null,null,null,null,null,null,null,null,0.375,20,50]
[null,null,null,null,null,null,null,null,null,null,null,null,null,null,null,null,null,null,null,4,0,10]
[null,null,null,null,null,null,null,null,null,null,null,null,null,null,null,null,null,null,null,8,0,5]
[null,null,null,null,null,null,null,null,null,null,null,null,null,null,null,null,null,null,null,200,0.2,2.4]

{"sheet":"Chart 1-24","index":13,"n_rows":5,"n_cols":10,"rows_kept":5,"cut":false,"hidden":false,"merged":[[0,0,2,0],[3,1,3,5],[4,0,4,1],[4,9,4,10],[4,7,4,8],[1,9,1,10],[2,9,2,10],[3,9,3,10],[1,7,1,8],[2,7,2,8],[3,7,3,8],[1,1,1,5],[2,1,2,5]]}
[]
[null,"COMMONWEALTH OF PENNSYLVANIA",null,null,null,null,null,"DISTRICT",null,{"$f":"'S1'!L2","v":0}]
[null,"DEPARTMENT OF TRANSPORTATION",null,null,null,null,null,"PLANT CODE",null,{"$f":"'S1'!L3","v":0}]
[null,"PENNSYLVANIA TURNPIKE COMMISSION",null,null,null,null,null,"AGG SIZE",null,{"$f":"'S1'!L4","v":0}]
[{"$f":"'S1'!$A$5:$B$5","v":"Aggregate 2023"},null,null,null,null,null,null,"3/8 Target Value",null,{"$f":"'S1'!L5","v":35}]

{"sheet":"Chart 25-48","index":14,"n_rows":5,"n_cols":10,"rows_kept":5,"cut":false,"hidden":true,"merged":[[4,0,4,1],[4,7,4,8],[4,9,4,10],[1,7,1,8],[1,9,1,10],[2,7,2,8],[2,9,2,10],[3,7,3,8],[3,9,3,10],[0,0,2,0],[1,1,1,5],[2,1,2,5],[3,1,3,5]]}
[]
[null,"COMMONWEALTH OF PENNSYLVANIA",null,null,null,null,null,"DISTRICT",null,{"$f":"'S1'!L2","v":0}]
[null,"DEPARTMENT OF TRANSPORTATION",null,null,null,null,null,"PLANT CODE",null,{"$f":"'S1'!L3","v":0}]
[null,"PENNSYLVANIA TURNPIKE COMMISSION",null,null,null,null,null,"AGG SIZE",null,{"$f":"'S1'!L4","v":0}]
[{"$f":"'S1'!$A$5:$B$5","v":"Aggregate 2023"},null,null,null,null,null,null,"3/8 Target Value",null,{"$f":"'S1'!L5","v":35}]

{"sheet":"Chart 49-72","index":15,"n_rows":5,"n_cols":10,"rows_kept":5,"cut":false,"hidden":true,"merged":[[4,0,4,1],[4,7,4,8],[4,9,4,10],[1,7,1,8],[1,9,1,10],[2,7,2,8],[2,9,2,10],[3,7,3,8],[3,9,3,10],[0,0,2,0],[1,1,1,5],[2,1,2,5],[3,1,3,5]]}
[]
[null,"COMMONWEALTH OF PENNSYLVANIA",null,null,null,null,null,"DISTRICT",null,{"$f":"'S1'!L2","v":0}]
[null,"DEPARTMENT OF TRANSPORTATION",null,null,null,null,null,"PLANT CODE",null,{"$f":"'S1'!L3","v":0}]
[null,"PENNSYLVANIA TURNPIKE COMMISSION",null,null,null,null,null,"AGG SIZE",null,{"$f":"'S1'!L4","v":0}]
[{"$f":"'S1'!$A$5:$B$5","v":"Aggregate 2023"},null,null,null,null,null,null,"3/8 Target Value",null,{"$f":"'S1'!L5","v":35}]

{"sheet":"Chart 73-96","index":16,"n_rows":5,"n_cols":10,"rows_kept":5,"cut":false,"hidden":true,"merged":[[4,0,4,1],[4,7,4,8],[4,9,4,10],[1,7,1,8],[1,9,1,10],[2,7,2,8],[2,9,2,10],[3,7,3,8],[3,9,3,10],[0,0,2,0],[1,1,1,5],[2,1,2,5],[3,1,3,5]]}
[]
[null,"COMMONWEALTH OF PENNSYLVANIA",null,null,null,null,null,"DISTRICT",null,{"$f":"'S1'!L2","v":0}]
[null,"DEPARTMENT OF TRANSPORTATION",null,null,null,null,null,"PLANT CODE",null,{"$f":"'S1'!L3","v":0}]
[null,"PENNSYLVANIA TURNPIKE COMMISSION",null,null,null,null,null,"AGG SIZE",null,{"$f":"'S1'!L4","v":0}]
[{"$f":"'S1'!$A$5:$B$5","v":"Aggregate 2023"},null,null,null,null,null,null,"3/8 Target Value",null,{"$f":"'S1'!L5","v":35}]

{"sheet":"Chart 97-120","index":17,"n_rows":5,"n_cols":10,"rows_kept":5,"cut":false,"hidden":true,"merged":[[4,0,4,1],[4,7,4,8],[4,9,4,10],[1,7,1,8],[1,9,1,10],[2,7,2,8],[2,9,2,10],[3,7,3,8],[3,9,3,10],[0,0,2,0],[1,1,1,5],[2,1,2,5],[3,1,3,5]]}
[]
[null,"COMMONWEALTH OF PENNSYLVANIA",null,null,null,null,null,"DISTRICT",null,{"$f":"'S1'!L2","v":0}]
[null,"DEPARTMENT OF TRANSPORTATION",null,null,null,null,null,"PLANT CODE",null,{"$f":"'S1'!L3","v":0}]
[null,"PENNSYLVANIA TURNPIKE COMMISSION",null,null,null,null,null,"AGG SIZE",null,{"$f":"'S1'!L4","v":0}]
[{"$f":"'S1'!$A$5:$B$5","v":"Aggregate 2023"},null,null,null,null,null,null,"3/8 Target Value",null,{"$f":"'S1'!L5","v":35}]

{"sheet":"Chart 121-144","index":18,"n_rows":5,"n_cols":10,"rows_kept":5,"cut":false,"hidden":true,"merged":[[4,0,4,1],[4,7,4,8],[4,9,4,10],[1,7,1,8],[1,9,1,10],[2,7,2,8],[2,9,2,10],[3,7,3,8],[3,9,3,10],[0,0,2,0],[1,1,1,5],[2,1,2,5],[3,1,3,5]]}
[]
[null,"COMMONWEALTH OF PENNSYLVANIA",null,null,null,null,null,"DISTRICT",null,{"$f":"'S1'!L2","v":0}]
[null,"DEPARTMENT OF TRANSPORTATION",null,null,null,null,null,"PLANT CODE",null,{"$f":"'S1'!L3","v":0}]
[null,"PENNSYLVANIA TURNPIKE COMMISSION",null,null,null,null,null,"AGG SIZE",null,{"$f":"'S1'!L4","v":0}]
[{"$f":"'S1'!$A$5:$B$5","v":"Aggregate 2023"},null,null,null,null,null,null,"3/8 Target Value",null,{"$f":"'S1'!L5","v":35}]

{"sheet":"200 Chart","index":19,"n_rows":240,"n_cols":18,"rows_kept":240,"cut":false,"hidden":false,"merged":[[1,7,1,8],[2,7,2,8],[4,9,4,10],[1,1,1,5],[2,1,2,5],[3,1,3,5],[4,0,4,1],[1,9,1,10],[2,9,2,10],[64,9,64,10],[63,9,63,10],[62,9,62,10],[61,9,61,10],[3,7,3,8],[4,7,4,8],[62,7,62,8],[63,7,63,8],[3,9,3,10],[61,1,61,5],[62,1,62,5],[63,1,63,5],[64,0,64,1],[64,7,64,8],[61,7,61,8]]}
[]
[null,"COMMONWEALTH OF PENNSYLVANIA",null,null,null,null,null,"DISTRICT",null,{"$f":"'S1'!L2","v":0}]
[null,"DEPARTMENT OF TRANSPORTATION",null,null,null,null,null,"PLANT CODE",null,{"$f":"'S1'!L3","v":0}]
[null,"PENNSYLVANIA TURNPIKE COMMISSION",null,null,null,null,null,"AGG SIZE",null,{"$f":"'S1'!L4","v":0}]
[{"$f":"'S1'!A5:B5","v":"Aggregate 2023"},null,null,null,null,null,null,"Wash Spec",null,{"$f":"'S2'!M6","v":" "}]
[]
[]
[]
[]
[]
[]
[]
[]
[]
[]
[]
[]
[]
[]
[]
[]
[]
[]
[]
[]
[]
[]
[]
[]
[]
[]
[]
[]
[]
[]
[]
[]
[]
[]
[]
[]
[]
[]
[]
[]
[]
[]
[]
[]
[]
[]
[]
[]
[]
[]
[]
[]
[]
[]
[]
[]
[null,"COMMONWEALTH OF PENNSYLVANIA",null,null,null,null,null,"DISTRICT",null,{"$f":"'S1'!L2","v":0}]
[null,"DEPARTMENT OF TRANSPORTATION",null,null,null,null,null,"PLANT CODE",null,{"$f":"'S1'!L3","v":0}]
[null,"PENNSYLVANIA TURNPIKE COMMISSION",null,null,null,null,null,"AGG SIZE",null,{"$f":"'S1'!L4","v":0}]
[{"$f":"'S1'!A65:B65","v":0},null,null,null,null,null,null,"Wash Spec",null,{"$f":"'S3'!M6","v":" "}]
[]
[]
[]
[]
[]
[]
[]
[]
[]
[]
[]
[]
[]
[]
[]
[]
[]
[]
[]
[]
[]
[]
[]
[]
[]
[]
[]
[]
[]
[null,null,null,null,null,null,null,null,null,null,null,null,null,"Filtered","Plot","Plot",null,"Plot"]
["Samp#",null,null,null,null,null,null,null,null,null,null,"N=1","Info only","N=1","N=1","N=3"]
[{"$f":"IF(ISBLANK('S1'!C$8),\" \",'S1'!C$8)","v":" "},null,null,null,null,null,null,null,null,null,null,{"$f":"IF(ISBLANK('S1'!$D$22),NA(),'S1'!$D$22)","v":" "},1,null,{"$f":"IF(ISBLANK(N97),NA(),N97)","v":{"$error":"#N/A"}},{"$f":"IF(ISBLANK(N97),NA(),N97)","v":{"$error":"#N/A"}},{"$f":"IF(ISNUMBER(L97),A97,\" \")","v":" "}]
[{"$f":"IF(ISBLANK('S1'!E$8),\" \",'S1'!E$8)","v":" "},null,null,null,null,null,null,null,null,null,null,{"$f":"IF(ISBLANK('S1'!$F$22),NA(),'S1'!$F$22)","v":" "},2,null,{"$f":"IF(ISBLANK(N98),NA(),N98)","v":{"$error":"#N/A"}},{"$f":"IF(ISBLANK(N98),NA(),ROUND(AVERAGE(N97:N98),2))","v":{"$error":"#N/A"}},{"$f":"IF(ISNUMBER(L98),A98,\" \")","v":" "}]
[{"$f":"IF(ISBLANK('S1'!G$8),\" \",'S1'!G$8)","v":" "},null,null,null,null,null,null,null,null,null,null,{"$f":"IF(ISBLANK('S1'!$H$22),NA(),'S1'!$H$22)","v":" "},3,null,{"$error":"#N/A"},{"$f":"IF(ISBLANK(N99),NA(),ROUND(AVERAGE(N97:N99),2))","v":{"$error":"#N/A"}}," "]
[{"$f":"IF(ISBLANK('S1'!I$8),\" \",'S1'!I$8)","v":" "},null,null,null,null,null,null,null,null,null,null,{"$f":"IF(ISBLANK('S1'!$J$22),NA(),'S1'!$J$22)","v":" "},4,null,{"$error":"#N/A"},{"$error":"#N/A"}," "]
[{"$f":"IF(ISBLANK('S1'!K$8),\" \",'S1'!K$8)","v":" "},null,null,null,null,null,null,null,null,null,null,{"$f":"IF(ISBLANK('S1'!$L$22),NA(),'S1'!$L$22)","v":" "},5,null,{"$error":"#N/A"},{"$error":"#N/A"}," "]
[{"$f":"IF(ISBLANK('S1'!M$8),\" \",'S1'!M$8)","v":" "},null,null,null,null,null,null,null,null,null,null,{"$f":"IF(ISBLANK('S1'!$N$22),NA(),'S1'!$N$22)","v":" "},6,null,{"$error":"#N/A"},{"$error":"#N/A"}," "]
[{"$f":"IF(ISBLANK('S1'!C$28),\" \",'S1'!C$28)","v":" "},null,null,null,null,null,null,null,null,null,null,{"$f":"IF(ISBLANK('S1'!$D$42),NA(),'S1'!$D$42)","v":" "},7,null,{"$error":"#N/A"},{"$error":"#N/A"}," "]
[{"$f":"IF(ISBLANK('S1'!E$28),\" \",'S1'!E$28)","v":" "},null,null,null,null,null,null,null,null,null,null,{"$f":"IF(ISBLANK('S1'!$F$42),NA(),'S1'!$F$42)","v":" "},8,null,{"$error":"#N/A"},{"$error":"#N/A"}," "]
[{"$f":"IF(ISBLANK('S1'!G$28),\" \",'S1'!G$28)","v":" "},null,null,null,null,null,null,null,null,null,null,{"$f":"IF(ISBLANK('S1'!$H$42),NA(),'S1'!$H$42)","v":" "},9,null,{"$error":"#N/A"},{"$error":"#N/A"}," "]
[{"$f":"IF(ISBLANK('S1'!I$28),\" \",'S1'!I$28)","v":" "},null,null,null,null,null,null,null,null,null,null,{"$f":"IF(ISBLANK('S1'!$J$42),NA(),'S1'!$J$42)","v":" "},10,null,{"$error":"#N/A"},{"$error":"#N/A"}," "]
[{"$f":"IF(ISBLANK('S1'!K$28),\" \",'S1'!K$28)","v":" "},null,null,null,null,null,null,null,null,null,null,{"$f":"IF(ISBLANK('S1'!$L$42),NA(),'S1'!$L$42)","v":" "},11,null,{"$error":"#N/A"},{"$error":"#N/A"}," "]
[{"$f":"IF(ISBLANK('S1'!M$28),\" \",'S1'!M$28)","v":" "},null,null,null,null,null,null,null,null,null,null,{"$f":"IF(ISBLANK('S1'!$N$42),NA(),'S1'!$N$42)","v":" "},12,null,{"$error":"#N/A"},{"$error":"#N/A"}," "]
[{"$f":"IF(ISBLANK('S2'!C$8),\" \",'S2'!C$8)","v":" "},null,null,null,null,null,null,null,null,null,null,{"$f":"IF(ISBLANK('S2'!$D$22),NA(),'S2'!$D$22)","v":" "},13,null,{"$error":"#N/A"},{"$error":"#N/A"}," "]
[{"$f":"IF(ISBLANK('S2'!E$8),\" \",'S2'!E$8)","v":" "},null,null,null,null,null,null,null,null,null,null,{"$f":"IF(ISBLANK('S2'!$F$22),NA(),'S2'!$F$22)","v":" "},14,null,{"$error":"#N/A"},{"$error":"#N/A"}," "]
[{"$f":"IF(ISBLANK('S2'!G$8),\" \",'S2'!G$8)","v":" "},null,null,null,null,null,null,null,null,null,null,{"$f":"IF(ISBLANK('S2'!$H$22),NA(),'S2'!$H$22)","v":" "},15,null,{"$error":"#N/A"},{"$error":"#N/A"}," "]
[{"$f":"IF(ISBLANK('S2'!I$8),\" \",'S2'!I$8)","v":" "},null,null,null,null,null,null,null,null,null,null,{"$f":"IF(ISBLANK('S2'!$J$22),NA(),'S2'!$J$22)","v":" "},16,null,{"$error":"#N/A"},{"$error":"#N/A"}," "]
[{"$f":"IF(ISBLANK('S2'!K$8),\" \",'S2'!K$8)","v":" "},null,null,null,null,null,null,null,null,null,null,{"$f":"IF(ISBLANK('S2'!$L$22),NA(),'S2'!$L$22)","v":" "},17,null,{"$error":"#N/A"},{"$error":"#N/A"}," "]
[{"$f":"IF(ISBLANK('S2'!M$8),\" \",'S2'!M$8)","v":" "},null,null,null,null,null,null,null,null,null,null,{"$f":"IF(ISBLANK('S2'!$N$22),NA(),'S2'!$N$22)","v":" "},18,null,{"$error":"#N/A"},{"$error":"#N/A"}," "]
[{"$f":"IF(ISBLANK('S2'!C$28),\" \",'S2'!C$28)","v":" "},null,null,null,null,null,null,null,null,null,null,{"$f":"IF(ISBLANK('S2'!$D$42),NA(),'S2'!$D$42)","v":" "},19,null,{"$error":"#N/A"},{"$error":"#N/A"}," "]
[{"$f":"IF(ISBLANK('S2'!E$28),\" \",'S2'!E$28)","v":" "},null,null,null,null,null,null,null,null,null,null,{"$f":"IF(ISBLANK('S2'!$F$42),NA(),'S2'!$F$42)","v":" "},20,null,{"$error":"#N/A"},{"$error":"#N/A"}," "]
[{"$f":"IF(ISBLANK('S2'!G$28),\" \",'S2'!G$28)","v":" "},null,null,null,null,null,null,null,null,null,null,{"$f":"IF(ISBLANK('S2'!$H$42),NA(),'S2'!$H$42)","v":" "},21,null,{"$error":"#N/A"},{"$error":"#N/A"}," "]
[{"$f":"IF(ISBLANK('S2'!I$28),\" \",'S2'!I$28)","v":" "},null,null,null,null,null,null,null,null,null,null,{"$f":"IF(ISBLANK('S2'!$J$42),NA(),'S2'!$J$42)","v":" "},22,null,{"$error":"#N/A"},{"$error":"#N/A"}," "]
[{"$f":"IF(ISBLANK('S2'!K$28),\" \",'S2'!K$28)","v":" "},null,null,null,null,null,null,null,null,null,null,{"$f":"IF(ISBLANK('S2'!$L$42),NA(),'S2'!$L$42)","v":" "},23,null,{"$error":"#N/A"},{"$error":"#N/A"}," "]
[{"$f":"IF(ISBLANK('S2'!M$28),\" \",'S2'!M$28)","v":" "},null,null,null,null,null,null,null,null,null,null,{"$f":"IF(ISBLANK('S2'!$N$42),NA(),'S2'!$N$42)","v":" "},24,null,{"$error":"#N/A"},{"$error":"#N/A"}," "]
[{"$f":"IF(ISBLANK('S3'!C$8),\" \",'S3'!C$8)","v":" "},null,null,null,null,null,null,null,null,null,null,{"$f":"IF(ISBLANK('S3'!$D$22),NA(),'S3'!$D$22)","v":" "},25,null,{"$error":"#N/A"},{"$error":"#N/A"}," "]
[{"$f":"IF(ISBLANK('S3'!E$8),\" \",'S3'!E$8)","v":" "},null,null,null,null,null,null,null,null,null,null,{"$f":"IF(ISBLANK('S3'!$F$22),NA(),'S3'!$F$22)","v":" "},26,null,{"$error":"#N/A"},{"$error":"#N/A"}," "]
[{"$f":"IF(ISBLANK('S3'!G$8),\" \",'S3'!G$8)","v":" "},null,null,null,null,null,null,null,null,null,null,{"$f":"IF(ISBLANK('S3'!$H$22),NA(),'S3'!$H$22)","v":" "},27,null,{"$error":"#N/A"},{"$error":"#N/A"}," "]
[{"$f":"IF(ISBLANK('S3'!I$8),\" \",'S3'!I$8)","v":" "},null,null,null,null,null,null,null,null,null,null,{"$f":"IF(ISBLANK('S3'!$J$22),NA(),'S3'!$J$22)","v":" "},28,null,{"$error":"#N/A"},{"$error":"#N/A"}," "]
[{"$f":"IF(ISBLANK('S3'!K$8),\" \",'S3'!K$8)","v":" "},null,null,null,null,null,null,null,null,null,null,{"$f":"IF(ISBLANK('S3'!$L$22),NA(),'S3'!$L$22)","v":" "},29,null,{"$error":"#N/A"},{"$error":"#N/A"}," "]
[{"$f":"IF(ISBLANK('S3'!M$8),\" \",'S3'!M$8)","v":" "},null,null,null,null,null,null,null,null,null,null,{"$f":"IF(ISBLANK('S3'!$N$22),NA(),'S3'!$N$22)","v":" "},30,null,{"$error":"#N/A"},{"$error":"#N/A"}," "]
[{"$f":"IF(ISBLANK('S3'!C$28),\" \",'S3'!C$28)","v":" "},null,null,null,null,null,null,null,null,null,null,{"$f":"IF(ISBLANK('S3'!$D$42),NA(),'S3'!$D$42)","v":" "},31,null,{"$error":"#N/A"},{"$error":"#N/A"}," "]
[{"$f":"IF(ISBLANK('S3'!E$28),\" \",'S3'!E$28)","v":" "},null,null,null,null,null,null,null,null,null,null,{"$f":"IF(ISBLANK('S3'!$F$42),NA(),'S3'!$F$42)","v":" "},32,null,{"$error":"#N/A"},{"$error":"#N/A"}," "]
[{"$f":"IF(ISBLANK('S3'!G$28),\" \",'S3'!G$28)","v":" "},null,null,null,null,null,null,null,null,null,null,{"$f":"IF(ISBLANK('S3'!$H$42),NA(),'S3'!$H$42)","v":" "},33,null,{"$error":"#N/A"},{"$error":"#N/A"}," "]
[{"$f":"IF(ISBLANK('S3'!I$28),\" \",'S3'!I$28)","v":" "},null,null,null,null,null,null,null,null,null,null,{"$f":"IF(ISBLANK('S3'!$J$42),NA(),'S3'!$J$42)","v":" "},34,null,{"$error":"#N/A"},{"$error":"#N/A"}," "]
[{"$f":"IF(ISBLANK('S3'!K$28),\" \",'S3'!K$28)","v":" "},null,null,null,null,null,null,null,null,null,null,{"$f":"IF(ISBLANK('S3'!$L$42),NA(),'S3'!$L$42)","v":" "},35,null,{"$error":"#N/A"},{"$f":"IF(ISBLANK(N131),NA(),ROUND(AVERAGE(N129:N131),2))","v":{"$error":"#N/A"}}," "]
[{"$f":"IF(ISBLANK('S3'!M$28),\" \",'S3'!M$28)","v":" "},null,null,null,null,null,null,null,null,null,null,{"$f":"IF(ISBLANK('S3'!$N$42),NA(),'S3'!$N$42)","v":" "},36,null,{"$error":"#N/A"},{"$error":"#N/A"}," "]
[{"$f":"IF(ISBLANK('S4'!C$8),\" \",'S4'!C$8)","v":" "},null,null,null,null,null,null,null,null,null,null,{"$f":"IF(ISBLANK('S4'!$D$22),NA(),'S4'!$D$22)","v":" "},37,null,{"$error":"#N/A"},{"$error":"#N/A"}," "]
[{"$f":"IF(ISBLANK('S4'!E$8),\" \",'S4'!E$8)","v":" "},null,null,null,null,null,null,null,null,null,null,{"$f":"IF(ISBLANK('S4'!$F$22),NA(),'S4'!$F$22)","v":" "},38,null,{"$error":"#N/A"},{"$error":"#N/A"}," "]
[{"$f":"IF(ISBLANK('S4'!G$8),\" \",'S4'!G$8)","v":" "},null,null,null,null,null,null,null,null,null,null,{"$f":"IF(ISBLANK('S4'!$H$22),NA(),'S4'!$H$22)","v":" "},39,null,{"$error":"#N/A"},{"$error":"#N/A"}," "]
[{"$f":"IF(ISBLANK('S4'!I$8),\" \",'S4'!I$8)","v":" "},null,null,null,null,null,null,null,null,null,null,{"$f":"IF(ISBLANK('S4'!$J$22),NA(),'S4'!$J$22)","v":" "},40,null,{"$error":"#N/A"},{"$error":"#N/A"}," "]
[{"$f":"IF(ISBLANK('S4'!K$8),\" \",'S4'!K$8)","v":" "},null,null,null,null,null,null,null,null,null,null,{"$f":"IF(ISBLANK('S4'!$L$22),NA(),'S4'!$L$22)","v":" "},41,null,{"$error":"#N/A"},{"$error":"#N/A"}," "]
[{"$f":"IF(ISBLANK('S4'!M$8),\" \",'S4'!M$8)","v":" "},null,null,null,null,null,null,null,null,null,null,{"$f":"IF(ISBLANK('S4'!$N$22),NA(),'S4'!$N$22)","v":" "},42,null,{"$error":"#N/A"},{"$error":"#N/A"}," "]
[{"$f":"IF(ISBLANK('S4'!C$28),\" \",'S4'!C$28)","v":" "},null,null,null,null,null,null,null,null,null,null,{"$f":"IF(ISBLANK('S4'!$D$42),NA(),'S4'!$D$42)","v":" "},43,null,{"$error":"#N/A"},{"$error":"#N/A"}," "]
[{"$f":"IF(ISBLANK('S4'!E$28),\" \",'S4'!E$28)","v":" "},null,null,null,null,null,null,null,null,null,null,{"$f":"IF(ISBLANK('S4'!$F$42),NA(),'S4'!$F$42)","v":" "},44,null,{"$error":"#N/A"},{"$error":"#N/A"}," "]
[{"$f":"IF(ISBLANK('S4'!G$28),\" \",'S4'!G$28)","v":" "},null,null,null,null,null,null,null,null,null,null,{"$f":"IF(ISBLANK('S4'!$H$42),NA(),'S4'!$H$42)","v":" "},45,null,{"$error":"#N/A"},{"$error":"#N/A"}," "]
[{"$f":"IF(ISBLANK('S4'!I$28),\" \",'S4'!I$28)","v":" "},null,null,null,null,null,null,null,null,null,null,{"$f":"IF(ISBLANK('S4'!$J$42),NA(),'S4'!$J$42)","v":" "},46,null,{"$error":"#N/A"},{"$error":"#N/A"}," "]
[{"$f":"IF(ISBLANK('S4'!K$28),\" \",'S4'!K$28)","v":" "},null,null,null,null,null,null,null,null,null,null,{"$f":"IF(ISBLANK('S4'!$L$42),NA(),'S4'!$L$42)","v":" "},47,null,{"$error":"#N/A"},{"$error":"#N/A"}," "]
[{"$f":"IF(ISBLANK('S4'!M$28),\" \",'S4'!M$28)","v":" "},null,null,null,null,null,null,null,null,null,null,{"$f":"IF(ISBLANK('S4'!$N$42),NA(),'S4'!$N$42)","v":" "},48,null,{"$error":"#N/A"},{"$error":"#N/A"}," "]
[{"$f":"IF(ISBLANK('S5'!C$8),\" \",'S5'!C$8)","v":" "},null,null,null,null,null,null,null,null,null,null,{"$f":"IF(ISBLANK('S5'!$D$22),NA(),'S5'!$D$22)","v":" "},49,null,{"$error":"#N/A"},{"$error":"#N/A"}," "]
[{"$f":"IF(ISBLANK('S5'!E$8),\" \",'S5'!E$8)","v":" "},null,null,null,null,null,null,null,null,null,null,{"$f":"IF(ISBLANK('S5'!$F$22),NA(),'S5'!$F$22)","v":" "},50,null,{"$error":"#N/A"},{"$error":"#N/A"}," "]
[{"$f":"IF(ISBLANK('S5'!G$8),\" \",'S5'!G$8)","v":" "},null,null,null,null,null,null,null,null,null,null,{"$f":"IF(ISBLANK('S5'!$H$22),NA(),'S5'!$H$22)","v":" "},51,null,{"$error":"#N/A"},{"$error":"#N/A"}," "]
[{"$f":"IF(ISBLANK('S5'!I$8),\" \",'S5'!I$8)","v":" "},null,null,null,null,null,null,null,null,null,null,{"$f":"IF(ISBLANK('S5'!$J$22),NA(),'S5'!$J$22)","v":" "},52,null,{"$error":"#N/A"},{"$error":"#N/A"}," "]
[{"$f":"IF(ISBLANK('S5'!K$8),\" \",'S5'!K$8)","v":" "},null,null,null,null,null,null,null,null,null,null,{"$f":"IF(ISBLANK('S5'!$L$22),NA(),'S5'!$L$22)","v":" "},53,null,{"$error":"#N/A"},{"$error":"#N/A"}," "]
[{"$f":"IF(ISBLANK('S5'!M$8),\" \",'S5'!M$8)","v":" "},null,null,null,null,null,null,null,null,null,null,{"$f":"IF(ISBLANK('S5'!$N$22),NA(),'S5'!$N$22)","v":" "},54,null,{"$error":"#N/A"},{"$error":"#N/A"}," "]
[{"$f":"IF(ISBLANK('S5'!C$28),\" \",'S5'!C$28)","v":" "},null,null,null,null,null,null,null,null,null,null,{"$f":"IF(ISBLANK('S5'!$D$42),NA(),'S5'!$D$42)","v":" "},55,null,{"$error":"#N/A"},{"$error":"#N/A"}," "]
[{"$f":"IF(ISBLANK('S5'!E$28),\" \",'S5'!E$28)","v":" "},null,null,null,null,null,null,null,null,null,null,{"$f":"IF(ISBLANK('S5'!$F$42),NA(),'S5'!$F$42)","v":" "},56,null,{"$error":"#N/A"},{"$error":"#N/A"}," "]
[{"$f":"IF(ISBLANK('S5'!G$28),\" \",'S5'!G$28)","v":" "},null,null,null,null,null,null,null,null,null,null,{"$f":"IF(ISBLANK('S5'!$H$42),NA(),'S5'!$H$42)","v":" "},57,null,{"$error":"#N/A"},{"$error":"#N/A"}," "]
[{"$f":"IF(ISBLANK('S5'!I$28),\" \",'S5'!I$28)","v":" "},null,null,null,null,null,null,null,null,null,null,{"$f":"IF(ISBLANK('S5'!$J$42),NA(),'S5'!$J$42)","v":" "},58,null,{"$error":"#N/A"},{"$error":"#N/A"}," "]
[{"$f":"IF(ISBLANK('S5'!K$28),\" \",'S5'!K$28)","v":" "},null,null,null,null,null,null,null,null,null,null,{"$f":"IF(ISBLANK('S5'!$L$42),NA(),'S5'!$L$42)","v":" "},59,null,{"$error":"#N/A"},{"$error":"#N/A"}," "]
[{"$f":"IF(ISBLANK('S5'!M$28),\" \",'S5'!M$28)","v":" "},null,null,null,null,null,null,null,null,null,null,{"$f":"IF(ISBLANK('S5'!$N$42),NA(),'S5'!$N$42)","v":" "},60,null,{"$error":"#N/A"},{"$error":"#N/A"}," "]
[{"$f":"IF(ISBLANK('S6'!C$8),\" \",'S6'!C$8)","v":" "},null,null,null,null,null,null,null,null,null,null,{"$f":"IF(ISBLANK('S6'!$D$22),NA(),'S6'!$D$22)","v":" "},61,null,{"$error":"#N/A"},{"$error":"#N/A"}," "]
[{"$f":"IF(ISBLANK('S6'!E$8),\" \",'S6'!E$8)","v":" "},null,null,null,null,null,null,null,null,null,null,{"$f":"IF(ISBLANK('S6'!$F$22),NA(),'S6'!$F$22)","v":" "},62,null,{"$error":"#N/A"},{"$error":"#N/A"}," "]
[{"$f":"IF(ISBLANK('S6'!G$8),\" \",'S6'!G$8)","v":" "},null,null,null,null,null,null,null,null,null,null,{"$f":"IF(ISBLANK('S6'!$H$22),NA(),'S6'!$H$22)","v":" "},63,null,{"$error":"#N/A"},{"$error":"#N/A"}," "]
[{"$f":"IF(ISBLANK('S6'!I$8),\" \",'S6'!I$8)","v":" "},null,null,null,null,null,null,null,null,null,null,{"$f":"IF(ISBLANK('S6'!$J$22),NA(),'S6'!$J$22)","v":" "},64,null,{"$error":"#N/A"},{"$error":"#N/A"}," "]
[{"$f":"IF(ISBLANK('S6'!K$8),\" \",'S6'!K$8)","v":" "},null,null,null,null,null,null,null,null,null,null,{"$f":"IF(ISBLANK('S6'!$L$22),NA(),'S6'!$L$22)","v":" "},65,null,{"$error":"#N/A"},{"$error":"#N/A"}," "]
[{"$f":"IF(ISBLANK('S6'!M$8),\" \",'S6'!M$8)","v":" "},null,null,null,null,null,null,null,null,null,null,{"$f":"IF(ISBLANK('S6'!$N$22),NA(),'S6'!$N$22)","v":" "},66,null,{"$f":"IF(ISBLANK(N162),NA(),N162)","v":{"$error":"#N/A"}},{"$error":"#N/A"},{"$f":"IF(ISNUMBER(L162),A162,\" \")","v":" "}]
[{"$f":"IF(ISBLANK('S6'!C$28),\" \",'S6'!C$28)","v":" "},null,null,null,null,null,null,null,null,null,null,{"$f":"IF(ISBLANK('S6'!$D$42),NA(),'S6'!$D$42)","v":" "},67,null,{"$error":"#N/A"},{"$f":"IF(ISBLANK(N163),NA(),ROUND(AVERAGE(N161:N163),2))","v":{"$error":"#N/A"}}," "]
[{"$f":"IF(ISBLANK('S6'!E$28),\" \",'S6'!E$28)","v":" "},null,null,null,null,null,null,null,null,null,null,{"$f":"IF(ISBLANK('S6'!$F$42),NA(),'S6'!$F$42)","v":" "},68,null,{"$error":"#N/A"},{"$error":"#N/A"}," "]
[{"$f":"IF(ISBLANK('S6'!G$28),\" \",'S6'!G$28)","v":" "},null,null,null,null,null,null,null,null,null,null,{"$f":"IF(ISBLANK('S6'!$H$42),NA(),'S6'!$H$42)","v":" "},69,null,{"$error":"#N/A"},{"$error":"#N/A"}," "]
[{"$f":"IF(ISBLANK('S6'!I$28),\" \",'S6'!I$28)","v":" "},null,null,null,null,null,null,null,null,null,null,{"$f":"IF(ISBLANK('S6'!$J$42),NA(),'S6'!$J$42)","v":" "},70,null,{"$error":"#N/A"},{"$error":"#N/A"}," "]
[{"$f":"IF(ISBLANK('S6'!K$28),\" \",'S6'!K$28)","v":" "},null,null,null,null,null,null,null,null,null,null,{"$f":"IF(ISBLANK('S6'!$L$42),NA(),'S6'!$L$42)","v":" "},71,null,{"$error":"#N/A"},{"$error":"#N/A"}," "]
[{"$f":"IF(ISBLANK('S6'!M$28),\" \",'S6'!M$28)","v":" "},null,null,null,null,null,null,null,null,null,null,{"$f":"IF(ISBLANK('S6'!$N$42),NA(),'S6'!$N$42)","v":" "},72,null,{"$error":"#N/A"},{"$error":"#N/A"}," "]
[{"$f":"IF(ISBLANK('S7'!C$8),\" \",'S7'!C$8)","v":" "},null,null,null,null,null,null,null,null,null,null,{"$f":"IF(ISBLANK('S7'!$D$22),NA(),'S7'!$D$22)","v":" "},73,null,{"$error":"#N/A"},{"$error":"#N/A"}," "]
[{"$f":"IF(ISBLANK('S7'!E$8),\" \",'S7'!E$8)","v":" "},null,null,null,null,null,null,null,null,null,null,{"$f":"IF(ISBLANK('S7'!$F$22),NA(),'S7'!$F$22)","v":" "},74,null,{"$error":"#N/A"},{"$error":"#N/A"}," "]
[{"$f":"IF(ISBLANK('S7'!G$8),\" \",'S7'!G$8)","v":" "},null,null,null,null,null,null,null,null,null,null,{"$f":"IF(ISBLANK('S7'!$H$22),NA(),'S7'!$H$22)","v":" "},75,null,{"$error":"#N/A"},{"$error":"#N/A"}," "]
[{"$f":"IF(ISBLANK('S7'!I$8),\" \",'S7'!I$8)","v":" "},null,null,null,null,null,null,null,null,null,null,{"$f":"IF(ISBLANK('S7'!$J$22),NA(),'S7'!$J$22)","v":" "},76,null,{"$error":"#N/A"},{"$error":"#N/A"}," "]
[{"$f":"IF(ISBLANK('S7'!K$8),\" \",'S7'!K$8)","v":" "},null,null,null,null,null,null,null,null,null,null,{"$f":"IF(ISBLANK('S7'!$L$22),NA(),'S7'!$L$22)","v":" "},77,null,{"$error":"#N/A"},{"$error":"#N/A"}," "]
[{"$f":"IF(ISBLANK('S7'!M$8),\" \",'S7'!M$8)","v":" "},null,null,null,null,null,null,null,null,null,null,{"$f":"IF(ISBLANK('S7'!$N$22),NA(),'S7'!$N$22)","v":" "},78,null,{"$error":"#N/A"},{"$error":"#N/A"}," "]
[{"$f":"IF(ISBLANK('S7'!C$28),\" \",'S7'!C$28)","v":" "},null,null,null,null,null,null,null,null,null,null,{"$f":"IF(ISBLANK('S7'!$D$42),NA(),'S7'!$D$42)","v":" "},79,null,{"$error":"#N/A"},{"$error":"#N/A"}," "]
[{"$f":"IF(ISBLANK('S7'!E$28),\" \",'S7'!E$28)","v":" "},null,null,null,null,null,null,null,null,null,null,{"$f":"IF(ISBLANK('S7'!$F$42),NA(),'S7'!$F$42)","v":" "},80,null,{"$error":"#N/A"},{"$error":"#N/A"}," "]
[{"$f":"IF(ISBLANK('S7'!G$28),\" \",'S7'!G$28)","v":" "},null,null,null,null,null,null,null,null,null,null,{"$f":"IF(ISBLANK('S7'!$H$42),NA(),'S7'!$H$42)","v":" "},81,null,{"$error":"#N/A"},{"$error":"#N/A"}," "]
[{"$f":"IF(ISBLANK('S7'!I$28),\" \",'S7'!I$28)","v":" "},null,null,null,null,null,null,null,null,null,null,{"$f":"IF(ISBLANK('S7'!$J$42),NA(),'S7'!$J$42)","v":" "},82,null,{"$error":"#N/A"},{"$error":"#N/A"}," "]
[{"$f":"IF(ISBLANK('S7'!K$28),\" \",'S7'!K$28)","v":" "},null,null,null,null,null,null,null,null,null,null,{"$f":"IF(ISBLANK('S7'!$L$42),NA(),'S7'!$L$42)","v":" "},83,null,{"$error":"#N/A"},{"$error":"#N/A"}," "]
[{"$f":"IF(ISBLANK('S7'!M$28),\" \",'S7'!M$28)","v":" "},null,null,null,null,null,null,null,null,null,null,{"$f":"IF(ISBLANK('S7'!$N$42),NA(),'S7'!$N$42)","v":" "},84,null,{"$error":"#N/A"},{"$error":"#N/A"}," "]
[{"$f":"IF(ISBLANK('S8'!C$8),\" \",'S8'!C$8)","v":" "},null,null,null,null,null,null,null,null,null,null,{"$f":"IF(ISBLANK('S8'!$D$22),NA(),'S8'!$D$22)","v":" "},85,null,{"$error":"#N/A"},{"$error":"#N/A"}," "]
[{"$f":"IF(ISBLANK('S8'!E$8),\" \",'S8'!E$8)","v":" "},null,null,null,null,null,null,null,null,null,null,{"$f":"IF(ISBLANK('S8'!$F$22),NA(),'S8'!$F$22)","v":" "},86,null,{"$error":"#N/A"},{"$error":"#N/A"}," "]
[{"$f":"IF(ISBLANK('S8'!G$8),\" \",'S8'!G$8)","v":" "},null,null,null,null,null,null,null,null,null,null,{"$f":"IF(ISBLANK('S8'!$H$22),NA(),'S8'!$H$22)","v":" "},87,null,{"$error":"#N/A"},{"$error":"#N/A"}," "]
[{"$f":"IF(ISBLANK('S8'!I$8),\" \",'S8'!I$8)","v":" "},null,null,null,null,null,null,null,null,null,null,{"$f":"IF(ISBLANK('S8'!$J$22),NA(),'S8'!$J$22)","v":" "},88,null,{"$error":"#N/A"},{"$error":"#N/A"}," "]
[{"$f":"IF(ISBLANK('S8'!K$8),\" \",'S8'!K$8)","v":" "},null,null,null,null,null,null,null,null,null,null,{"$f":"IF(ISBLANK('S8'!$L$22),NA(),'S8'!$L$22)","v":" "},89,null,{"$error":"#N/A"},{"$error":"#N/A"}," "]
[{"$f":"IF(ISBLANK('S8'!M$8),\" \",'S8'!M$8)","v":" "},null,null,null,null,null,null,null,null,null,null,{"$f":"IF(ISBLANK('S8'!$N$22),NA(),'S8'!$N$22)","v":" "},90,null,{"$error":"#N/A"},{"$error":"#N/A"}," "]
[{"$f":"IF(ISBLANK('S8'!C$28),\" \",'S8'!C$28)","v":" "},null,null,null,null,null,null,null,null,null,null,{"$f":"IF(ISBLANK('S8'!$D$42),NA(),'S8'!$D$42)","v":" "},91,null,{"$error":"#N/A"},{"$error":"#N/A"}," "]
[{"$f":"IF(ISBLANK('S8'!E$28),\" \",'S8'!E$28)","v":" "},null,null,null,null,null,null,null,null,null,null,{"$f":"IF(ISBLANK('S8'!$F$42),NA(),'S8'!$F$42)","v":" "},92,null,{"$error":"#N/A"},{"$error":"#N/A"}," "]
[{"$f":"IF(ISBLANK('S8'!G$28),\" \",'S8'!G$28)","v":" "},null,null,null,null,null,null,null,null,null,null,{"$f":"IF(ISBLANK('S8'!$H$42),NA(),'S8'!$H$42)","v":" "},93,null,{"$error":"#N/A"},{"$error":"#N/A"}," "]
[{"$f":"IF(ISBLANK('S8'!I$28),\" \",'S8'!I$28)","v":" "},null,null,null,null,null,null,null,null,null,null,{"$f":"IF(ISBLANK('S8'!$J$42),NA(),'S8'!$J$42)","v":" "},94,null,{"$error":"#N/A"},{"$error":"#N/A"}," "]
[{"$f":"IF(ISBLANK('S8'!K$28),\" \",'S8'!K$28)","v":" "},null,null,null,null,null,null,null,null,null,null,{"$f":"IF(ISBLANK('S8'!$L$42),NA(),'S8'!$L$42)","v":" "},95,null,{"$error":"#N/A"},{"$error":"#N/A"}," "]
[{"$f":"IF(ISBLANK('S8'!M$28),\" \",'S8'!M$28)","v":" "},null,null,null,null,null,null,null,null,null,null,{"$f":"IF(ISBLANK('S8'!$N$42),NA(),'S8'!$N$42)","v":" "},96,null,{"$error":"#N/A"},{"$error":"#N/A"}," "]
[{"$f":"IF(ISBLANK('S9'!C$8),\" \",'S9'!C$8)","v":" "},null,null,null,null,null,null,null,null,null,null,{"$f":"IF(ISBLANK('S9'!$D$22),NA(),'S9'!$D$22)","v":" "},97,null,{"$error":"#N/A"},{"$error":"#N/A"}," "]
[{"$f":"IF(ISBLANK('S9'!E$8),\" \",'S9'!E$8)","v":" "},null,null,null,null,null,null,null,null,null,null,{"$f":"IF(ISBLANK('S9'!$F$22),NA(),'S9'!$F$22)","v":" "},98,null,{"$error":"#N/A"},{"$error":"#N/A"}," "]
[{"$f":"IF(ISBLANK('S9'!G$8),\" \",'S9'!G$8)","v":" "},null,null,null,null,null,null,null,null,null,null,{"$f":"IF(ISBLANK('S9'!$H$22),NA(),'S9'!$H$22)","v":" "},99,null,{"$error":"#N/A"},{"$f":"IF(ISBLANK(N195),NA(),ROUND(AVERAGE(N193:N195),2))","v":{"$error":"#N/A"}}," "]
[{"$f":"IF(ISBLANK('S9'!I$8),\" \",'S9'!I$8)","v":" "},null,null,null,null,null,null,null,null,null,null,{"$f":"IF(ISBLANK('S9'!$J$22),NA(),'S9'!$J$22)","v":" "},100,null,{"$error":"#N/A"},{"$error":"#N/A"}," "]
[{"$f":"IF(ISBLANK('S9'!K$8),\" \",'S9'!K$8)","v":" "},null,null,null,null,null,null,null,null,null,null,{"$f":"IF(ISBLANK('S9'!$L$22),NA(),'S9'!$L$22)","v":" "},101,null,{"$error":"#N/A"},{"$error":"#N/A"}," "]
[{"$f":"IF(ISBLANK('S9'!M$8),\" \",'S9'!M$8)","v":" "},null,null,null,null,null,null,null,null,null,null,{"$f":"IF(ISBLANK('S9'!$N$22),NA(),'S9'!$N$22)","v":" "},102,null,{"$error":"#N/A"},{"$error":"#N/A"}," "]
[{"$f":"IF(ISBLANK('S9'!C$28),\" \",'S9'!C$28)","v":" "},null,null,null,null,null,null,null,null,null,null,{"$f":"IF(ISBLANK('S9'!$D$42),NA(),'S9'!$D$42)","v":" "},103,null,{"$error":"#N/A"},{"$error":"#N/A"}," "]
[{"$f":"IF(ISBLANK('S9'!E$28),\" \",'S9'!E$28)","v":" "},null,null,null,null,null,null,null,null,null,null,{"$f":"IF(ISBLANK('S9'!$F$42),NA(),'S9'!$F$42)","v":" "},104,null,{"$error":"#N/A"},{"$error":"#N/A"}," "]
[{"$f":"IF(ISBLANK('S9'!G$28),\" \",'S9'!G$28)","v":" "},null,null,null,null,null,null,null,null,null,null,{"$f":"IF(ISBLANK('S9'!$H$42),NA(),'S9'!$H$42)","v":" "},105,null,{"$error":"#N/A"},{"$error":"#N/A"}," "]
[{"$f":"IF(ISBLANK('S9'!I$28),\" \",'S9'!I$28)","v":" "},null,null,null,null,null,null,null,null,null,null,{"$f":"IF(ISBLANK('S9'!$J$42),NA(),'S9'!$J$42)","v":" "},106,null,{"$error":"#N/A"},{"$error":"#N/A"}," "]
[{"$f":"IF(ISBLANK('S9'!K$28),\" \",'S9'!K$28)","v":" "},null,null,null,null,null,null,null,null,null,null,{"$f":"IF(ISBLANK('S9'!$L$42),NA(),'S9'!$L$42)","v":" "},107,null,{"$error":"#N/A"},{"$error":"#N/A"}," "]
[{"$f":"IF(ISBLANK('S9'!M$28),\" \",'S9'!M$28)","v":" "},null,null,null,null,null,null,null,null,null,null,{"$f":"IF(ISBLANK('S9'!$N$42),NA(),'S9'!$N$42)","v":" "},108,null,{"$error":"#N/A"},{"$error":"#N/A"}," "]
[{"$f":"IF(ISBLANK('S10'!C$8),\" \",'S10'!C$8)","v":" "},null,null,null,null,null,null,null,null,null,null,{"$f":"IF(ISBLANK('S10'!$D$22),NA(),'S10'!$D$22)","v":" "},109,null,{"$error":"#N/A"},{"$error":"#N/A"}," "]
[{"$f":"IF(ISBLANK('S10'!E$8),\" \",'S10'!E$8)","v":" "},null,null,null,null,null,null,null,null,null,null,{"$f":"IF(ISBLANK('S10'!$F$22),NA(),'S10'!$F$22)","v":" "},110,null,{"$error":"#N/A"},{"$error":"#N/A"}," "]
[{"$f":"IF(ISBLANK('S10'!G$8),\" \",'S10'!G$8)","v":" "},null,null,null,null,null,null,null,null,null,null,{"$f":"IF(ISBLANK('S10'!$H$22),NA(),'S10'!$H$22)","v":" "},111,null,{"$error":"#N/A"},{"$error":"#N/A"}," "]
[{"$f":"IF(ISBLANK('S10'!I$8),\" \",'S10'!I$8)","v":" "},null,null,null,null,null,null,null,null,null,null,{"$f":"IF(ISBLANK('S10'!$J$22),NA(),'S10'!$J$22)","v":" "},112,null,{"$error":"#N/A"},{"$error":"#N/A"}," "]
[{"$f":"IF(ISBLANK('S10'!K$8),\" \",'S10'!K$8)","v":" "},null,null,null,null,null,null,null,null,null,null,{"$f":"IF(ISBLANK('S10'!$L$22),NA(),'S10'!$L$22)","v":" "},113,null,{"$error":"#N/A"},{"$error":"#N/A"}," "]
[{"$f":"IF(ISBLANK('S10'!M$8),\" \",'S10'!M$8)","v":" "},null,null,null,null,null,null,null,null,null,null,{"$f":"IF(ISBLANK('S10'!$N$22),NA(),'S10'!$N$22)","v":" "},114,null,{"$error":"#N/A"},{"$error":"#N/A"}," "]
[{"$f":"IF(ISBLANK('S10'!C$28),\" \",'S10'!C$28)","v":" "},null,null,null,null,null,null,null,null,null,null,{"$f":"IF(ISBLANK('S10'!$D$42),NA(),'S10'!$D$42)","v":" "},115,null,{"$error":"#N/A"},{"$error":"#N/A"}," "]
[{"$f":"IF(ISBLANK('S10'!E$28),\" \",'S10'!E$28)","v":" "},null,null,null,null,null,null,null,null,null,null,{"$f":"IF(ISBLANK('S10'!$F$42),NA(),'S10'!$F$42)","v":" "},116,null,{"$error":"#N/A"},{"$error":"#N/A"}," "]
[{"$f":"IF(ISBLANK('S10'!G$28),\" \",'S10'!G$28)","v":" "},null,null,null,null,null,null,null,null,null,null,{"$f":"IF(ISBLANK('S10'!$H$42),NA(),'S10'!$H$42)","v":" "},117,null,{"$error":"#N/A"},{"$error":"#N/A"}," "]
[{"$f":"IF(ISBLANK('S10'!I$28),\" \",'S10'!I$28)","v":" "},null,null,null,null,null,null,null,null,null,null,{"$f":"IF(ISBLANK('S10'!$J$42),NA(),'S10'!$J$42)","v":" "},118,null,{"$error":"#N/A"},{"$error":"#N/A"}," "]
[{"$f":"IF(ISBLANK('S10'!K$28),\" \",'S10'!K$28)","v":" "},null,null,null,null,null,null,null,null,null,null,{"$f":"IF(ISBLANK('S10'!$L$42),NA(),'S10'!$L$42)","v":" "},119,null,{"$error":"#N/A"},{"$error":"#N/A"}," "]
[{"$f":"IF(ISBLANK('S10'!M$28),\" \",'S10'!M$28)","v":" "},null,null,null,null,null,null,null,null,null,null,{"$f":"IF(ISBLANK('S10'!$N$42),NA(),'S10'!$N$42)","v":" "},120,null,{"$error":"#N/A"},{"$error":"#N/A"}," "]
[{"$f":"IF(ISBLANK('S11'!C$8),\" \",'S11'!C$8)","v":" "},null,null,null,null,null,null,null,null,null,null,{"$f":"IF(ISBLANK('S11'!$D$22),NA(),'S11'!$D$22)","v":" "},121,null,{"$error":"#N/A"},{"$error":"#N/A"}," "]
[{"$f":"IF(ISBLANK('S11'!E$8),\" \",'S11'!E$8)","v":" "},null,null,null,null,null,null,null,null,null,null,{"$f":"IF(ISBLANK('S11'!$F$22),NA(),'S11'!$F$22)","v":" "},122,null,{"$error":"#N/A"},{"$error":"#N/A"}," "]
[{"$f":"IF(ISBLANK('S11'!G$8),\" \",'S11'!G$8)","v":" "},null,null,null,null,null,null,null,null,null,null,{"$f":"IF(ISBLANK('S11'!$H$22),NA(),'S11'!$H$22)","v":" "},123,null,{"$error":"#N/A"},{"$error":"#N/A"}," "]
[{"$f":"IF(ISBLANK('S11'!I$8),\" \",'S11'!I$8)","v":" "},null,null,null,null,null,null,null,null,null,null,{"$f":"IF(ISBLANK('S11'!$J$22),NA(),'S11'!$J$22)","v":" "},124,null,{"$error":"#N/A"},{"$error":"#N/A"}," "]
[{"$f":"IF(ISBLANK('S11'!K$8),\" \",'S11'!K$8)","v":" "},null,null,null,null,null,null,null,null,null,null,{"$f":"IF(ISBLANK('S11'!$L$22),NA(),'S11'!$L$22)","v":" "},125,null,{"$error":"#N/A"},{"$error":"#N/A"}," "]
[{"$f":"IF(ISBLANK('S11'!M$8),\" \",'S11'!M$8)","v":" "},null,null,null,null,null,null,null,null,null,null,{"$f":"IF(ISBLANK('S11'!$N$22),NA(),'S11'!$N$22)","v":" "},126,null,{"$error":"#N/A"},{"$error":"#N/A"}," "]
[{"$f":"IF(ISBLANK('S11'!C$28),\" \",'S11'!C$28)","v":" "},null,null,null,null,null,null,null,null,null,null,{"$f":"IF(ISBLANK('S11'!$D$42),NA(),'S11'!$D$42)","v":" "},127,null,{"$error":"#N/A"},{"$error":"#N/A"}," "]
[{"$f":"IF(ISBLANK('S11'!E$28),\" \",'S11'!E$28)","v":" "},null,null,null,null,null,null,null,null,null,null,{"$f":"IF(ISBLANK('S11'!$F$42),NA(),'S11'!$F$42)","v":" "},128,null,{"$error":"#N/A"},{"$error":"#N/A"}," "]
[{"$f":"IF(ISBLANK('S11'!G$28),\" \",'S11'!G$28)","v":" "},null,null,null,null,null,null,null,null,null,null,{"$f":"IF(ISBLANK('S11'!$H$42),NA(),'S11'!$H$42)","v":" "},129,null,{"$error":"#N/A"},{"$error":"#N/A"}," "]
[{"$f":"IF(ISBLANK('S11'!I$28),\" \",'S11'!I$28)","v":" "},null,null,null,null,null,null,null,null,null,null,{"$f":"IF(ISBLANK('S11'!$J$42),NA(),'S11'!$J$42)","v":" "},130,null,{"$f":"IF(ISBLANK(N226),NA(),N226)","v":{"$error":"#N/A"}},{"$error":"#N/A"},{"$f":"IF(ISNUMBER(L226),A226,\" \")","v":" "}]
[{"$f":"IF(ISBLANK('S11'!K$28),\" \",'S11'!K$28)","v":" "},null,null,null,null,null,null,null,null,null,null,{"$f":"IF(ISBLANK('S11'!$L$42),NA(),'S11'!$L$42)","v":" "},131,null,{"$error":"#N/A"},{"$f":"IF(ISBLANK(N227),NA(),ROUND(AVERAGE(N225:N227),2))","v":{"$error":"#N/A"}}," "]
[{"$f":"IF(ISBLANK('S11'!M$28),\" \",'S11'!M$28)","v":" "},null,null,null,null,null,null,null,null,null,null,{"$f":"IF(ISBLANK('S11'!$N$42),NA(),'S11'!$N$42)","v":" "},132,null,{"$error":"#N/A"},{"$error":"#N/A"}," "]
[{"$f":"IF(ISBLANK('S12'!C$8),\" \",'S12'!C$8)","v":" "},null,null,null,null,null,null,null,null,null,null,{"$f":"IF(ISBLANK('S12'!$D$22),NA(),'S12'!$D$22)","v":" "},133,null,{"$error":"#N/A"},{"$error":"#N/A"}," "]
[{"$f":"IF(ISBLANK('S12'!E$8),\" \",'S12'!E$8)","v":" "},null,null,null,null,null,null,null,null,null,null,{"$f":"IF(ISBLANK('S12'!$F$22),NA(),'S12'!$F$22)","v":" "},134,null,{"$error":"#N/A"},{"$error":"#N/A"}," "]
[{"$f":"IF(ISBLANK('S12'!G$8),\" \",'S12'!G$8)","v":" "},null,null,null,null,null,null,null,null,null,null,{"$f":"IF(ISBLANK('S12'!$H$22),NA(),'S12'!$H$22)","v":" "},135,null,{"$error":"#N/A"},{"$error":"#N/A"}," "]
[{"$f":"IF(ISBLANK('S12'!I$8),\" \",'S12'!I$8)","v":" "},null,null,null,null,null,null,null,null,null,null,{"$f":"IF(ISBLANK('S12'!$J$22),NA(),'S12'!$J$22)","v":" "},136,null,{"$error":"#N/A"},{"$error":"#N/A"}," "]
[{"$f":"IF(ISBLANK('S12'!K$8),\" \",'S12'!K$8)","v":" "},null,null,null,null,null,null,null,null,null,null,{"$f":"IF(ISBLANK('S12'!$L$22),NA(),'S12'!$L$22)","v":" "},137,null,{"$error":"#N/A"},{"$error":"#N/A"}," "]
[{"$f":"IF(ISBLANK('S12'!M$8),\" \",'S12'!M$8)","v":" "},null,null,null,null,null,null,null,null,null,null,{"$f":"IF(ISBLANK('S12'!$N$22),NA(),'S12'!$N$22)","v":" "},138,null,{"$error":"#N/A"},{"$error":"#N/A"}," "]
[{"$f":"IF(ISBLANK('S12'!C$28),\" \",'S12'!C$28)","v":" "},null,null,null,null,null,null,null,null,null,null,{"$f":"IF(ISBLANK('S12'!$D$42),NA(),'S12'!$D$42)","v":" "},139,null,{"$error":"#N/A"},{"$error":"#N/A"}," "]
[{"$f":"IF(ISBLANK('S12'!E$28),\" \",'S12'!E$28)","v":" "},null,null,null,null,null,null,null,null,null,null,{"$f":"IF(ISBLANK('S12'!$F$42),NA(),'S12'!$F$42)","v":" "},140,null,{"$error":"#N/A"},{"$error":"#N/A"}," "]
[{"$f":"IF(ISBLANK('S12'!G$28),\" \",'S12'!G$28)","v":" "},null,null,null,null,null,null,null,null,null,null,{"$f":"IF(ISBLANK('S12'!$H$42),NA(),'S12'!$H$42)","v":" "},141,null,{"$error":"#N/A"},{"$error":"#N/A"}," "]
[{"$f":"IF(ISBLANK('S12'!I$28),\" \",'S12'!I$28)","v":" "},null,null,null,null,null,null,null,null,null,null,{"$f":"IF(ISBLANK('S12'!$J$42),NA(),'S12'!$J$42)","v":" "},142,null,{"$error":"#N/A"},{"$error":"#N/A"}," "]
[{"$f":"IF(ISBLANK('S12'!K$28),\" \",'S12'!K$28)","v":" "},null,null,null,null,null,null,null,null,null,null,{"$f":"IF(ISBLANK('S12'!$L$42),NA(),'S12'!$L$42)","v":" "},143,null,{"$error":"#N/A"},{"$error":"#N/A"}," "]
[{"$f":"IF(ISBLANK('S12'!M$28),\" \",'S12'!M$28)","v":" "},null,null,null,null,null,null,null,null,null,null,{"$f":"IF(ISBLANK('S12'!$N$42),NA(),'S12'!$N$42)","v":" "},144,null,{"$error":"#N/A"},{"$error":"#N/A"}," "]

{"sheet":"S13","index":20,"n_rows":146,"n_cols":11,"rows_kept":146,"cut":false,"hidden":true,"merged":[[0,1,0,2],[0,5,0,6],[0,3,0,4],[0,7,0,8],[0,9,0,10]]}
["Sam. No.",1,null,0.75,null,0.375,null,4,null,8]
[null,"N=1","N=3","N=1","N=3","N=1","N=3","N=1","N=3","N=1","N=3"]
[{"$f":"IF(ISBLANK('S1'!C$8),\" \",'S1'!C$8)","v":" "},{"$f":"IF(ISTEXT('S1'!$D$13),NA(),'S1'!$D$13)","v":{"$error":"#N/A"}},{"$f":"B3","v":{"$error":"#N/A"}},{"$f":"IF(ISTEXT('S1'!$D$14),NA(),'S1'!$D$14)","v":{"$error":"#N/A"}},{"$f":"D3","v":{"$error":"#N/A"}},{"$f":"IF(ISTEXT('S1'!$D$16),NA(),'S1'!$D$16)","v":{"$error":"#N/A"}},{"$f":"F3","v":{"$error":"#N/A"}},{"$f":"IF(ISTEXT('S1'!$D$17),NA(),'S1'!$D$17)","v":{"$error":"#N/A"}},{"$f":"H3","v":{"$error":"#N/A"}},{"$f":"IF(ISTEXT('S1'!$D$18),NA(),'S1'!$D$18)","v":{"$error":"#N/A"}},{"$f":"J3","v":{"$error":"#N/A"}}]
[{"$f":"IF(ISBLANK('S1'!E$8),\" \",'S1'!E$8)","v":" "},{"$f":"IF(ISTEXT('S1'!$F$13),NA(),'S1'!$F$13)","v":{"$error":"#N/A"}},{"$f":"ROUND(AVERAGE(B3:B4),0)","v":{"$error":"#N/A"}},{"$f":"IF(ISTEXT('S1'!$F$14),NA(),'S1'!$F$14)","v":{"$error":"#N/A"}},{"$f":"ROUND(AVERAGE(D3:D4),0)","v":{"$error":"#N/A"}},{"$f":"IF(ISTEXT('S1'!$F$16),NA(),'S1'!$F$16)","v":{"$error":"#N/A"}},{"$f":"ROUND(AVERAGE(F3:F4),0)","v":{"$error":"#N/A"}},{"$f":"IF(ISTEXT('S1'!$F$17),NA(),'S1'!$F$17)","v":{"$error":"#N/A"}},{"$f":"ROUND(AVERAGE(H3:H4),0)","v":{"$error":"#N/A"}},{"$f":"IF(ISTEXT('S1'!$F$18),NA(),'S1'!$F$18)","v":{"$error":"#N/A"}},{"$f":"ROUND(AVERAGE(J3:J4),0)","v":{"$error":"#N/A"}}]
[{"$f":"IF(ISBLANK('S1'!G$8),\" \",'S1'!G$8)","v":" "},{"$f":"IF(ISTEXT('S1'!$H$13),NA(),'S1'!$H$13)","v":{"$error":"#N/A"}},{"$f":"ROUND(AVERAGE(B3:B5),0)","v":{"$error":"#N/A"}},{"$f":"IF(ISTEXT('S1'!$H$14),NA(),'S1'!$H$14)","v":{"$error":"#N/A"}},{"$f":"ROUND(AVERAGE(D3:D5),0)","v":{"$error":"#N/A"}},{"$f":"IF(ISTEXT('S1'!$H$16),NA(),'S1'!$H$16)","v":{"$error":"#N/A"}},{"$f":"ROUND(AVERAGE(F3:F5),0)","v":{"$error":"#N/A"}},{"$f":"IF(ISTEXT('S1'!$H$17),NA(),'S1'!$H$17)","v":{"$error":"#N/A"}},{"$f":"ROUND(AVERAGE(H3:H5),0)","v":{"$error":"#N/A"}},{"$f":"IF(ISTEXT('S1'!$H$18),NA(),'S1'!$H$18)","v":{"$error":"#N/A"}},{"$f":"ROUND(AVERAGE(J3:J5),0)","v":{"$error":"#N/A"}}]
[{"$f":"IF(ISBLANK('S1'!I$8),\" \",'S1'!I$8)","v":" "},{"$f":"IF(ISTEXT('S1'!$J$13),NA(),'S1'!$J$13)","v":{"$error":"#N/A"}},{"$error":"#N/A"},{"$f":"IF(ISTEXT('S1'!$J$14),NA(),'S1'!$J$14)","v":{"$error":"#N/A"}},{"$error":"#N/A"},{"$f":"IF(ISTEXT('S1'!$J$16),NA(),'S1'!$J$16)","v":{"$error":"#N/A"}},{"$error":"#N/A"},{"$f":"IF(ISTEXT('S1'!$J$17),NA(),'S1'!$J$17)","v":{"$error":"#N/A"}},{"$error":"#N/A"},{"$f":"IF(ISTEXT('S1'!$J$18),NA(),'S1'!$J$18)","v":{"$error":"#N/A"}},{"$error":"#N/A"}]
[{"$f":"IF(ISBLANK('S1'!K$8),\" \",'S1'!K$8)","v":" "},{"$f":"IF(ISTEXT('S1'!$L$13),NA(),'S1'!$L$13)","v":{"$error":"#N/A"}},{"$error":"#N/A"},{"$f":"IF(ISTEXT('S1'!$L$14),NA(),'S1'!$L$14)","v":{"$error":"#N/A"}},{"$error":"#N/A"},{"$f":"IF(ISTEXT('S1'!$L$16),NA(),'S1'!$L$16)","v":{"$error":"#N/A"}},{"$error":"#N/A"},{"$f":"IF(ISTEXT('S1'!$L$17),NA(),'S1'!$L$17)","v":{"$error":"#N/A"}},{"$error":"#N/A"},{"$f":"IF(ISTEXT('S1'!$L$18),NA(),'S1'!$L$18)","v":{"$error":"#N/A"}},{"$error":"#N/A"}]
[{"$f":"IF(ISBLANK('S1'!M$8),\" \",'S1'!M$8)","v":" "},{"$f":"IF(ISTEXT('S1'!$N$13),NA(),'S1'!$N$13)","v":{"$error":"#N/A"}},{"$error":"#N/A"},{"$f":"IF(ISTEXT('S1'!$N$14),NA(),'S1'!$N$14)","v":{"$error":"#N/A"}},{"$error":"#N/A"},{"$f":"IF(ISTEXT('S1'!$N$16),NA(),'S1'!$N$16)","v":{"$error":"#N/A"}},{"$error":"#N/A"},{"$f":"IF(ISTEXT('S1'!$N$17),NA(),'S1'!$N$17)","v":{"$error":"#N/A"}},{"$error":"#N/A"},{"$f":"IF(ISTEXT('S1'!$N$18),NA(),'S1'!$N$18)","v":{"$error":"#N/A"}},{"$error":"#N/A"}]
[{"$f":"IF(ISBLANK('S1'!C$28),\" \",'S1'!C$28)","v":" "},{"$f":"IF(ISTEXT('S1'!$D$33),NA(),'S1'!$D$33)","v":{"$error":"#N/A"}},{"$error":"#N/A"},{"$f":"IF(ISTEXT('S1'!$D$34),NA(),'S1'!$D$34)","v":{"$error":"#N/A"}},{"$error":"#N/A"},{"$f":"IF(ISTEXT('S1'!$D$36),NA(),'S1'!$D$36)","v":{"$error":"#N/A"}},{"$error":"#N/A"},{"$f":"IF(ISTEXT('S1'!$D$37),NA(),'S1'!$D$37)","v":{"$error":"#N/A"}},{"$error":"#N/A"},{"$f":"IF(ISTEXT('S1'!$D$38),NA(),'S1'!$D$38)","v":{"$error":"#N/A"}},{"$error":"#N/A"}]
[{"$f":"IF(ISBLANK('S1'!E$28),\" \",'S1'!E$28)","v":" "},{"$f":"IF(ISTEXT('S1'!$F$33),NA(),'S1'!$F$33)","v":{"$error":"#N/A"}},{"$error":"#N/A"},{"$f":"IF(ISTEXT('S1'!$F$34),NA(),'S1'!$F$34)","v":{"$error":"#N/A"}},{"$error":"#N/A"},{"$f":"IF(ISTEXT('S1'!$F$36),NA(),'S1'!$F$36)","v":{"$error":"#N/A"}},{"$error":"#N/A"},{"$f":"IF(ISTEXT('S1'!$F$37),NA(),'S1'!$F$37)","v":{"$error":"#N/A"}},{"$error":"#N/A"},{"$f":"IF(ISTEXT('S1'!$F$38),NA(),'S1'!$F$38)","v":{"$error":"#N/A"}},{"$error":"#N/A"}]
[{"$f":"IF(ISBLANK('S1'!G$28),\" \",'S1'!G$28)","v":" "},{"$f":"IF(ISTEXT('S1'!$H$33),NA(),'S1'!$H$33)","v":{"$error":"#N/A"}},{"$error":"#N/A"},{"$f":"IF(ISTEXT('S1'!$H$34),NA(),'S1'!$H$34)","v":{"$error":"#N/A"}},{"$error":"#N/A"},{"$f":"IF(ISTEXT('S1'!$H$36),NA(),'S1'!$H$36)","v":{"$error":"#N/A"}},{"$error":"#N/A"},{"$f":"IF(ISTEXT('S1'!$H$37),NA(),'S1'!$H$37)","v":{"$error":"#N/A"}},{"$error":"#N/A"},{"$f":"IF(ISTEXT('S1'!$H$38),NA(),'S1'!$H$38)","v":{"$error":"#N/A"}},{"$error":"#N/A"}]
[{"$f":"IF(ISBLANK('S1'!I$28),\" \",'S1'!I$28)","v":" "},{"$f":"IF(ISTEXT('S1'!$J$33),NA(),'S1'!$J$33)","v":{"$error":"#N/A"}},{"$error":"#N/A"},{"$f":"IF(ISTEXT('S1'!$J$34),NA(),'S1'!$J$34)","v":{"$error":"#N/A"}},{"$error":"#N/A"},{"$f":"IF(ISTEXT('S1'!$J$36),NA(),'S1'!$J$36)","v":{"$error":"#N/A"}},{"$error":"#N/A"},{"$f":"IF(ISTEXT('S1'!$J$37),NA(),'S1'!$J$37)","v":{"$error":"#N/A"}},{"$error":"#N/A"},{"$f":"IF(ISTEXT('S1'!$J$38),NA(),'S1'!$J$38)","v":{"$error":"#N/A"}},{"$error":"#N/A"}]
[{"$f":"IF(ISBLANK('S1'!K$28),\" \",'S1'!K$28)","v":" "},{"$f":"IF(ISTEXT('S1'!$L$33),NA(),'S1'!$L$33)","v":{"$error":"#N/A"}},{"$f":"ROUND(AVERAGE(B11:B13),0)","v":{"$error":"#N/A"}},{"$f":"IF(ISTEXT('S1'!$L$34),NA(),'S1'!$L$34)","v":{"$error":"#N/A"}},{"$error":"#N/A"},{"$f":"IF(ISTEXT('S1'!$L$36),NA(),'S1'!$L$36)","v":{"$error":"#N/A"}},{"$error":"#N/A"},{"$f":"IF(ISTEXT('S1'!$L$37),NA(),'S1'!$L$37)","v":{"$error":"#N/A"}},{"$error":"#N/A"},{"$f":"IF(ISTEXT('S1'!$L$38),NA(),'S1'!$L$38)","v":{"$error":"#N/A"}},{"$error":"#N/A"}]
[{"$f":"IF(ISBLANK('S1'!M$28),\" \",'S1'!M$28)","v":" "},{"$f":"IF(ISTEXT('S1'!$N$33),NA(),'S1'!$N$33)","v":{"$error":"#N/A"}},{"$error":"#N/A"},{"$f":"IF(ISTEXT('S1'!$N$34),NA(),'S1'!$N$34)","v":{"$error":"#N/A"}},{"$error":"#N/A"},{"$f":"IF(ISTEXT('S1'!$N$36),NA(),'S1'!$N$36)","v":{"$error":"#N/A"}},{"$error":"#N/A"},{"$f":"IF(ISTEXT('S1'!$N$37),NA(),'S1'!$N$37)","v":{"$error":"#N/A"}},{"$error":"#N/A"},{"$f":"IF(ISTEXT('S1'!$N$38),NA(),'S1'!$N$38)","v":{"$error":"#N/A"}},{"$error":"#N/A"}]
[{"$f":"IF(ISBLANK('S2'!C$8),\" \",'S2'!C$8)","v":" "},{"$f":"IF(ISTEXT('S2'!$D$13),NA(),'S2'!$D$13)","v":{"$error":"#N/A"}},{"$error":"#N/A"},{"$f":"IF(ISTEXT('S2'!$D$14),NA(),'S2'!$D$14)","v":{"$error":"#N/A"}},{"$error":"#N/A"},{"$f":"IF(ISTEXT('S2'!$D$16),NA(),'S2'!$D$16)","v":{"$error":"#N/A"}},{"$error":"#N/A"},{"$f":"IF(ISTEXT('S2'!$D$17),NA(),'S2'!$D$17)","v":{"$error":"#N/A"}},{"$error":"#N/A"},{"$f":"IF(ISTEXT('S2'!$D$18),NA(),'S2'!$D$18)","v":{"$error":"#N/A"}},{"$error":"#N/A"}]
[{"$f":"IF(ISBLANK('S2'!E$8),\" \",'S2'!E$8)","v":" "},{"$f":"IF(ISTEXT('S2'!$F$13),NA(),'S2'!$F$13)","v":{"$error":"#N/A"}},{"$error":"#N/A"},{"$f":"IF(ISTEXT('S2'!$F$14),NA(),'S2'!$F$14)","v":{"$error":"#N/A"}},{"$error":"#N/A"},{"$f":"IF(ISTEXT('S2'!$F$16),NA(),'S2'!$F$16)","v":{"$error":"#N/A"}},{"$error":"#N/A"},{"$f":"IF(ISTEXT('S2'!$F$17),NA(),'S2'!$F$17)","v":{"$error":"#N/A"}},{"$error":"#N/A"},{"$f":"IF(ISTEXT('S2'!$F$18),NA(),'S2'!$F$18)","v":{"$error":"#N/A"}},{"$error":"#N/A"}]
[{"$f":"IF(ISBLANK('S2'!G$8),\" \",'S2'!G$8)","v":" "},{"$f":"IF(ISTEXT('S2'!$H$13),NA(),'S2'!$H$13)","v":{"$error":"#N/A"}},{"$error":"#N/A"},{"$f":"IF(ISTEXT('S2'!$H$14),NA(),'S2'!$H$14)","v":{"$error":"#N/A"}},{"$error":"#N/A"},{"$f":"IF(ISTEXT('S2'!$H$16),NA(),'S2'!$H$16)","v":{"$error":"#N/A"}},{"$error":"#N/A"},{"$f":"IF(ISTEXT('S2'!$H$17),NA(),'S2'!$H$17)","v":{"$error":"#N/A"}},{"$error":"#N/A"},{"$f":"IF(ISTEXT('S2'!$H$18),NA(),'S2'!$H$18)","v":{"$error":"#N/A"}},{"$error":"#N/A"}]
[{"$f":"IF(ISBLANK('S2'!I$8),\" \",'S2'!I$8)","v":" "},{"$f":"IF(ISTEXT('S2'!$J$13),NA(),'S2'!$J$13)","v":{"$error":"#N/A"}},{"$error":"#N/A"},{"$f":"IF(ISTEXT('S2'!$J$14),NA(),'S2'!$J$14)","v":{"$error":"#N/A"}},{"$error":"#N/A"},{"$f":"IF(ISTEXT('S2'!$J$16),NA(),'S2'!$J$16)","v":{"$error":"#N/A"}},{"$error":"#N/A"},{"$f":"IF(ISTEXT('S2'!$J$17),NA(),'S2'!$J$17)","v":{"$error":"#N/A"}},{"$error":"#N/A"},{"$f":"IF(ISTEXT('S2'!$J$18),NA(),'S2'!$J$18)","v":{"$error":"#N/A"}},{"$error":"#N/A"}]
[{"$f":"IF(ISBLANK('S2'!K$8),\" \",'S2'!K$8)","v":" "},{"$f":"IF(ISTEXT('S2'!$L$13),NA(),'S2'!$L$13)","v":{"$error":"#N/A"}},{"$error":"#N/A"},{"$f":"IF(ISTEXT('S2'!$L$14),NA(),'S2'!$L$14)","v":{"$error":"#N/A"}},{"$error":"#N/A"},{"$f":"IF(ISTEXT('S2'!$L$16),NA(),'S2'!$L$16)","v":{"$error":"#N/A"}},{"$error":"#N/A"},{"$f":"IF(ISTEXT('S2'!$L$17),NA(),'S2'!$L$17)","v":{"$error":"#N/A"}},{"$error":"#N/A"},{"$f":"IF(ISTEXT('S2'!$L$18),NA(),'S2'!$L$18)","v":{"$error":"#N/A"}},{"$error":"#N/A"}]
[{"$f":"IF(ISBLANK('S2'!M$8),\" \",'S2'!M$8)","v":" "},{"$f":"IF(ISTEXT('S2'!$N$13),NA(),'S2'!$N$13)","v":{"$error":"#N/A"}},{"$error":"#N/A"},{"$f":"IF(ISTEXT('S2'!$N$14),NA(),'S2'!$N$14)","v":{"$error":"#N/A"}},{"$error":"#N/A"},{"$f":"IF(ISTEXT('S2'!$N$16),NA(),'S2'!$N$16)","v":{"$error":"#N/A"}},{"$error":"#N/A"},{"$f":"IF(ISTEXT('S2'!$N$17),NA(),'S2'!$N$17)","v":{"$error":"#N/A"}},{"$error":"#N/A"},{"$f":"IF(ISTEXT('S2'!$N$18),NA(),'S2'!$N$18)","v":{"$error":"#N/A"}},{"$error":"#N/A"}]
[{"$f":"IF(ISBLANK('S2'!C$28),\" \",'S2'!C$28)","v":" "},{"$f":"IF(ISTEXT('S2'!$D$33),NA(),'S2'!$D$33)","v":{"$error":"#N/A"}},{"$f":"ROUND(AVERAGE(B19:B21),0)","v":{"$error":"#N/A"}},{"$f":"IF(ISTEXT('S2'!$D$34),NA(),'S2'!$D$34)","v":{"$error":"#N/A"}},{"$error":"#N/A"},{"$f":"IF(ISTEXT('S2'!$D$36),NA(),'S2'!$D$36)","v":{"$error":"#N/A"}},{"$error":"#N/A"},{"$f":"IF(ISTEXT('S2'!$D$37),NA(),'S2'!$D$37)","v":{"$error":"#N/A"}},{"$error":"#N/A"},{"$f":"IF(ISTEXT('S2'!$D$38),NA(),'S2'!$D$38)","v":{"$error":"#N/A"}},{"$error":"#N/A"}]
[{"$f":"IF(ISBLANK('S2'!E$28),\" \",'S2'!E$28)","v":" "},{"$f":"IF(ISTEXT('S2'!$F$33),NA(),'S2'!$F$33)","v":{"$error":"#N/A"}},{"$error":"#N/A"},{"$f":"IF(ISTEXT('S2'!$F$34),NA(),'S2'!$F$34)","v":{"$error":"#N/A"}},{"$error":"#N/A"},{"$f":"IF(ISTEXT('S2'!$F$36),NA(),'S2'!$F$36)","v":{"$error":"#N/A"}},{"$error":"#N/A"},{"$f":"IF(ISTEXT('S2'!$F$37),NA(),'S2'!$F$37)","v":{"$error":"#N/A"}},{"$error":"#N/A"},{"$f":"IF(ISTEXT('S2'!$F$38),NA(),'S2'!$F$38)","v":{"$error":"#N/A"}},{"$error":"#N/A"}]
[{"$f":"IF(ISBLANK('S2'!G$28),\" \",'S2'!G$28)","v":" "},{"$f":"IF(ISTEXT('S2'!$H$33),NA(),'S2'!$H$33)","v":{"$error":"#N/A"}},{"$error":"#N/A"},{"$f":"IF(ISTEXT('S2'!$H$34),NA(),'S2'!$H$34)","v":{"$error":"#N/A"}},{"$error":"#N/A"},{"$f":"IF(ISTEXT('S2'!$H$36),NA(),'S2'!$H$36)","v":{"$error":"#N/A"}},{"$error":"#N/A"},{"$f":"IF(ISTEXT('S2'!$H$37),NA(),'S2'!$H$37)","v":{"$error":"#N/A"}},{"$error":"#N/A"},{"$f":"IF(ISTEXT('S2'!$H$38),NA(),'S2'!$H$38)","v":{"$error":"#N/A"}},{"$error":"#N/A"}]
[{"$f":"IF(ISBLANK('S2'!I$28),\" \",'S2'!I$28)","v":" "},{"$f":"IF(ISTEXT('S2'!$J$33),NA(),'S2'!$J$33)","v":{"$error":"#N/A"}},{"$error":"#N/A"},{"$f":"IF(ISTEXT('S2'!$J$34),NA(),'S2'!$J$34)","v":{"$error":"#N/A"}},{"$error":"#N/A"},{"$f":"IF(ISTEXT('S2'!$J$36),NA(),'S2'!$J$36)","v":{"$error":"#N/A"}},{"$error":"#N/A"},{"$f":"IF(ISTEXT('S2'!$J$37),NA(),'S2'!$J$37)","v":{"$error":"#N/A"}},{"$error":"#N/A"},{"$f":"IF(ISTEXT('S2'!$J$38),NA(),'S2'!$J$38)","v":{"$error":"#N/A"}},{"$error":"#N/A"}]
[{"$f":"IF(ISBLANK('S2'!K$28),\" \",'S2'!K$28)","v":" "},{"$f":"IF(ISTEXT('S2'!$L$33),NA(),'S2'!$L$33)","v":{"$error":"#N/A"}},{"$error":"#N/A"},{"$f":"IF(ISTEXT('S2'!$L$34),NA(),'S2'!$L$34)","v":{"$error":"#N/A"}},{"$error":"#N/A"},{"$f":"IF(ISTEXT('S2'!$L$36),NA(),'S2'!$L$36)","v":{"$error":"#N/A"}},{"$error":"#N/A"},{"$f":"IF(ISTEXT('S2'!$L$37),NA(),'S2'!$L$37)","v":{"$error":"#N/A"}},{"$error":"#N/A"},{"$f":"IF(ISTEXT('S2'!$L$38),NA(),'S2'!$L$38)","v":{"$error":"#N/A"}},{"$error":"#N/A"}]
[{"$f":"IF(ISBLANK('S2'!M$28),\" \",'S2'!M$28)","v":" "},{"$f":"IF(ISTEXT('S2'!$N$33),NA(),'S2'!$N$33)","v":{"$error":"#N/A"}},{"$error":"#N/A"},{"$f":"IF(ISTEXT('S2'!$N$34),NA(),'S2'!$N$34)","v":{"$error":"#N/A"}},{"$error":"#N/A"},{"$f":"IF(ISTEXT('S2'!$N$36),NA(),'S2'!$N$36)","v":{"$error":"#N/A"}},{"$error":"#N/A"},{"$f":"IF(ISTEXT('S2'!$N$37),NA(),'S2'!$N$37)","v":{"$error":"#N/A"}},{"$error":"#N/A"},{"$f":"IF(ISTEXT('S2'!$N$38),NA(),'S2'!$N$38)","v":{"$error":"#N/A"}},{"$error":"#N/A"}]
[{"$f":"IF(ISBLANK('S3'!C$8),\" \",'S3'!C$8)","v":" "},{"$f":"IF(ISTEXT('S3'!$D$13),NA(),'S3'!$D$13)","v":{"$error":"#N/A"}},{"$error":"#N/A"},{"$f":"IF(ISTEXT('S3'!$D$14),NA(),'S3'!$D$14)","v":{"$error":"#N/A"}},{"$error":"#N/A"},{"$f":"IF(ISTEXT('S3'!$D$16),NA(),'S3'!$D$16)","v":{"$error":"#N/A"}},{"$error":"#N/A"},{"$f":"IF(ISTEXT('S3'!$D$17),NA(),'S3'!$D$17)","v":{"$error":"#N/A"}},{"$error":"#N/A"},{"$f":"IF(ISTEXT('S3'!$D$18),NA(),'S3'!$D$18)","v":{"$error":"#N/A"}},{"$error":"#N/A"}]
[{"$f":"IF(ISBLANK('S3'!E$8),\" \",'S3'!E$8)","v":" "},{"$f":"IF(ISTEXT('S3'!$F$13),NA(),'S3'!$F$13)","v":{"$error":"#N/A"}},{"$error":"#N/A"},{"$f":"IF(ISTEXT('S3'!$F$14),NA(),'S3'!$F$14)","v":{"$error":"#N/A"}},{"$error":"#N/A"},{"$f":"IF(ISTEXT('S3'!$F$16),NA(),'S3'!$F$16)","v":{"$error":"#N/A"}},{"$error":"#N/A"},{"$f":"IF(ISTEXT('S3'!$F$17),NA(),'S3'!$F$17)","v":{"$error":"#N/A"}},{"$error":"#N/A"},{"$f":"IF(ISTEXT('S3'!$F$18),NA(),'S3'!$F$18)","v":{"$error":"#N/A"}},{"$error":"#N/A"}]
[{"$f":"IF(ISBLANK('S3'!G$8),\" \",'S3'!G$8)","v":" "},{"$f":"IF(ISTEXT('S3'!$H$13),NA(),'S3'!$H$13)","v":{"$error":"#N/A"}},{"$error":"#N/A"},{"$f":"IF(ISTEXT('S3'!$H$14),NA(),'S3'!$H$14)","v":{"$error":"#N/A"}},{"$error":"#N/A"},{"$f":"IF(ISTEXT('S3'!$H$16),NA(),'S3'!$H$16)","v":{"$error":"#N/A"}},{"$error":"#N/A"},{"$f":"IF(ISTEXT('S3'!$H$17),NA(),'S3'!$H$17)","v":{"$error":"#N/A"}},{"$error":"#N/A"},{"$f":"IF(ISTEXT('S3'!$H$18),NA(),'S3'!$H$18)","v":{"$error":"#N/A"}},{"$error":"#N/A"}]
[{"$f":"IF(ISBLANK('S3'!I$8),\" \",'S3'!I$8)","v":" "},{"$f":"IF(ISTEXT('S3'!$J$13),NA(),'S3'!$J$13)","v":{"$error":"#N/A"}},{"$f":"ROUND(AVERAGE(B28:B30),0)","v":{"$error":"#N/A"}},{"$f":"IF(ISTEXT('S3'!$J$14),NA(),'S3'!$J$14)","v":{"$error":"#N/A"}},{"$error":"#N/A"},{"$f":"IF(ISTEXT('S3'!$J$16),NA(),'S3'!$J$16)","v":{"$error":"#N/A"}},{"$error":"#N/A"},{"$f":"IF(ISTEXT('S3'!$J$17),NA(),'S3'!$J$17)","v":{"$error":"#N/A"}},{"$error":"#N/A"},{"$f":"IF(ISTEXT('S3'!$J$18),NA(),'S3'!$J$18)","v":{"$error":"#N/A"}},{"$error":"#N/A"}]
[{"$f":"IF(ISBLANK('S3'!K$8),\" \",'S3'!K$8)","v":" "},{"$f":"IF(ISTEXT('S3'!$L$13),NA(),'S3'!$L$13)","v":{"$error":"#N/A"}},{"$error":"#N/A"},{"$f":"IF(ISTEXT('S3'!$L$14),NA(),'S3'!$L$14)","v":{"$error":"#N/A"}},{"$error":"#N/A"},{"$f":"IF(ISTEXT('S3'!$L$16),NA(),'S3'!$L$16)","v":{"$error":"#N/A"}},{"$error":"#N/A"},{"$f":"IF(ISTEXT('S3'!$L$17),NA(),'S3'!$L$17)","v":{"$error":"#N/A"}},{"$error":"#N/A"},{"$f":"IF(ISTEXT('S3'!$L$18),NA(),'S3'!$L$18)","v":{"$error":"#N/A"}},{"$error":"#N/A"}]
[{"$f":"IF(ISBLANK('S3'!M$8),\" \",'S3'!M$8)","v":" "},{"$f":"IF(ISTEXT('S3'!$N$13),NA(),'S3'!$N$13)","v":{"$error":"#N/A"}},{"$error":"#N/A"},{"$f":"IF(ISTEXT('S3'!$N$14),NA(),'S3'!$N$14)","v":{"$error":"#N/A"}},{"$error":"#N/A"},{"$f":"IF(ISTEXT('S3'!$N$16),NA(),'S3'!$N$16)","v":{"$error":"#N/A"}},{"$error":"#N/A"},{"$f":"IF(ISTEXT('S3'!$N$17),NA(),'S3'!$N$17)","v":{"$error":"#N/A"}},{"$error":"#N/A"},{"$f":"IF(ISTEXT('S3'!$N$18),NA(),'S3'!$N$18)","v":{"$error":"#N/A"}},{"$error":"#N/A"}]
[{"$f":"IF(ISBLANK('S3'!C$28),\" \",'S3'!C$28)","v":" "},{"$f":"IF(ISTEXT('S3'!$D$33),NA(),'S3'!$D$33)","v":{"$error":"#N/A"}},{"$error":"#N/A"},{"$f":"IF(ISTEXT('S3'!$D$34),NA(),'S3'!$D$34)","v":{"$error":"#N/A"}},{"$error":"#N/A"},{"$f":"IF(ISTEXT('S3'!$D$36),NA(),'S3'!$D$36)","v":{"$error":"#N/A"}},{"$error":"#N/A"},{"$f":"IF(ISTEXT('S3'!$D$37),NA(),'S3'!$D$37)","v":{"$error":"#N/A"}},{"$error":"#N/A"},{"$f":"IF(ISTEXT('S3'!$D$38),NA(),'S3'!$D$38)","v":{"$error":"#N/A"}},{"$error":"#N/A"}]
[{"$f":"IF(ISBLANK('S3'!E$28),\" \",'S3'!E$28)","v":" "},{"$f":"IF(ISTEXT('S3'!$F$33),NA(),'S3'!$F$33)","v":{"$error":"#N/A"}},{"$error":"#N/A"},{"$f":"IF(ISTEXT('S3'!$F$34),NA(),'S3'!$F$34)","v":{"$error":"#N/A"}},{"$error":"#N/A"},{"$f":"IF(ISTEXT('S3'!$F$36),NA(),'S3'!$F$36)","v":{"$error":"#N/A"}},{"$error":"#N/A"},{"$f":"IF(ISTEXT('S3'!$F$37),NA(),'S3'!$F$37)","v":{"$error":"#N/A"}},{"$error":"#N/A"},{"$f":"IF(ISTEXT('S3'!$F$38),NA(),'S3'!$F$38)","v":{"$error":"#N/A"}},{"$error":"#N/A"}]
[{"$f":"IF(ISBLANK('S3'!G$28),\" \",'S3'!G$28)","v":" "},{"$f":"IF(ISTEXT('S3'!$H$33),NA(),'S3'!$H$33)","v":{"$error":"#N/A"}},{"$error":"#N/A"},{"$f":"IF(ISTEXT('S3'!$H$34),NA(),'S3'!$H$34)","v":{"$error":"#N/A"}},{"$error":"#N/A"},{"$f":"IF(ISTEXT('S3'!$H$36),NA(),'S3'!$H$36)","v":{"$error":"#N/A"}},{"$error":"#N/A"},{"$f":"IF(ISTEXT('S3'!$H$37),NA(),'S3'!$H$37)","v":{"$error":"#N/A"}},{"$error":"#N/A"},{"$f":"IF(ISTEXT('S3'!$H$38),NA(),'S3'!$H$38)","v":{"$error":"#N/A"}},{"$error":"#N/A"}]
[{"$f":"IF(ISBLANK('S3'!I$28),\" \",'S3'!I$28)","v":" "},{"$f":"IF(ISTEXT('S3'!$J$33),NA(),'S3'!$J$33)","v":{"$error":"#N/A"}},{"$error":"#N/A"},{"$f":"IF(ISTEXT('S3'!$J$34),NA(),'S3'!$J$34)","v":{"$error":"#N/A"}},{"$error":"#N/A"},{"$f":"IF(ISTEXT('S3'!$J$36),NA(),'S3'!$J$36)","v":{"$error":"#N/A"}},{"$error":"#N/A"},{"$f":"IF(ISTEXT('S3'!$J$37),NA(),'S3'!$J$37)","v":{"$error":"#N/A"}},{"$error":"#N/A"},{"$f":"IF(ISTEXT('S3'!$J$38),NA(),'S3'!$J$38)","v":{"$error":"#N/A"}},{"$error":"#N/A"}]
[{"$f":"IF(ISBLANK('S3'!K$28),\" \",'S3'!K$28)","v":" "},{"$f":"IF(ISTEXT('S3'!$L$33),NA(),'S3'!$L$33)","v":{"$error":"#N/A"}},{"$error":"#N/A"},{"$f":"IF(ISTEXT('S3'!$L$34),NA(),'S3'!$L$34)","v":{"$error":"#N/A"}},{"$error":"#N/A"},{"$f":"IF(ISTEXT('S3'!$L$36),NA(),'S3'!$L$36)","v":{"$error":"#N/A"}},{"$error":"#N/A"},{"$f":"IF(ISTEXT('S3'!$L$37),NA(),'S3'!$L$37)","v":{"$error":"#N/A"}},{"$error":"#N/A"},{"$f":"IF(ISTEXT('S3'!$L$38),NA(),'S3'!$L$38)","v":{"$error":"#N/A"}},{"$error":"#N/A"}]
[{"$f":"IF(ISBLANK('S3'!M$28),\" \",'S3'!M$28)","v":" "},{"$f":"IF(ISTEXT('S3'!$N$33),NA(),'S3'!$N$33)","v":{"$error":"#N/A"}},{"$error":"#N/A"},{"$f":"IF(ISTEXT('S3'!$N$34),NA(),'S3'!$N$34)","v":{"$error":"#N/A"}},{"$error":"#N/A"},{"$f":"IF(ISTEXT('S3'!$N$36),NA(),'S3'!$N$36)","v":{"$error":"#N/A"}},{"$error":"#N/A"},{"$f":"IF(ISTEXT('S3'!$N$37),NA(),'S3'!$N$37)","v":{"$error":"#N/A"}},{"$error":"#N/A"},{"$f":"IF(ISTEXT('S3'!$N$38),NA(),'S3'!$N$38)","v":{"$error":"#N/A"}},{"$error":"#N/A"}]
[{"$f":"IF(ISBLANK('S4'!C$8),\" \",'S4'!C$8)","v":" "},{"$f":"IF(ISTEXT('S4'!$D$13),NA(),'S4'!$D$13)","v":{"$error":"#N/A"}},{"$error":"#N/A"},{"$f":"IF(ISTEXT('S4'!$D$14),NA(),'S4'!$D$14)","v":{"$error":"#N/A"}},{"$error":"#N/A"},{"$f":"IF(ISTEXT('S4'!$D$16),NA(),'S4'!$D$16)","v":{"$error":"#N/A"}},{"$error":"#N/A"},{"$f":"IF(ISTEXT('S4'!$D$17),NA(),'S4'!$D$17)","v":{"$error":"#N/A"}},{"$error":"#N/A"},{"$f":"IF(ISTEXT('S4'!$D$18),NA(),'S4'!$D$18)","v":{"$error":"#N/A"}},{"$error":"#N/A"}]
[{"$f":"IF(ISBLANK('S4'!E$8),\" \",'S4'!E$8)","v":" "},{"$f":"IF(ISTEXT('S4'!$F$13),NA(),'S4'!$F$13)","v":{"$error":"#N/A"}},{"$error":"#N/A"},{"$f":"IF(ISTEXT('S4'!$F$14),NA(),'S4'!$F$14)","v":{"$error":"#N/A"}},{"$error":"#N/A"},{"$f":"IF(ISTEXT('S4'!$F$16),NA(),'S4'!$F$16)","v":{"$error":"#N/A"}},{"$error":"#N/A"},{"$f":"IF(ISTEXT('S4'!$F$17),NA(),'S4'!$F$17)","v":{"$error":"#N/A"}},{"$error":"#N/A"},{"$f":"IF(ISTEXT('S4'!$F$18),NA(),'S4'!$F$18)","v":{"$error":"#N/A"}},{"$error":"#N/A"}]
[{"$f":"IF(ISBLANK('S4'!G$8),\" \",'S4'!G$8)","v":" "},{"$f":"IF(ISTEXT('S4'!$H$13),NA(),'S4'!$H$13)","v":{"$error":"#N/A"}},{"$error":"#N/A"},{"$f":"IF(ISTEXT('S4'!$H$14),NA(),'S4'!$H$14)","v":{"$error":"#N/A"}},{"$error":"#N/A"},{"$f":"IF(ISTEXT('S4'!$H$16),NA(),'S4'!$H$16)","v":{"$error":"#N/A"}},{"$error":"#N/A"},{"$f":"IF(ISTEXT('S4'!$H$17),NA(),'S4'!$H$17)","v":{"$error":"#N/A"}},{"$error":"#N/A"},{"$f":"IF(ISTEXT('S4'!$H$18),NA(),'S4'!$H$18)","v":{"$error":"#N/A"}},{"$error":"#N/A"}]
[{"$f":"IF(ISBLANK('S4'!I$8),\" \",'S4'!I$8)","v":" "},{"$f":"IF(ISTEXT('S4'!$J$13),NA(),'S4'!$J$13)","v":{"$error":"#N/A"}},{"$error":"#N/A"},{"$f":"IF(ISTEXT('S4'!$J$14),NA(),'S4'!$J$14)","v":{"$error":"#N/A"}},{"$error":"#N/A"},{"$f":"IF(ISTEXT('S4'!$J$16),NA(),'S4'!$J$16)","v":{"$error":"#N/A"}},{"$error":"#N/A"},{"$f":"IF(ISTEXT('S4'!$J$17),NA(),'S4'!$J$17)","v":{"$error":"#N/A"}},{"$error":"#N/A"},{"$f":"IF(ISTEXT('S4'!$J$18),NA(),'S4'!$J$18)","v":{"$error":"#N/A"}},{"$error":"#N/A"}]
[{"$f":"IF(ISBLANK('S4'!K$8),\" \",'S4'!K$8)","v":" "},{"$f":"IF(ISTEXT('S4'!$L$13),NA(),'S4'!$L$13)","v":{"$error":"#N/A"}},{"$error":"#N/A"},{"$f":"IF(ISTEXT('S4'!$L$14),NA(),'S4'!$L$14)","v":{"$error":"#N/A"}},{"$error":"#N/A"},{"$f":"IF(ISTEXT('S4'!$L$16),NA(),'S4'!$L$16)","v":{"$error":"#N/A"}},{"$error":"#N/A"},{"$f":"IF(ISTEXT('S4'!$L$17),NA(),'S4'!$L$17)","v":{"$error":"#N/A"}},{"$error":"#N/A"},{"$f":"IF(ISTEXT('S4'!$L$18),NA(),'S4'!$L$18)","v":{"$error":"#N/A"}},{"$error":"#N/A"}]
[{"$f":"IF(ISBLANK('S4'!M$8),\" \",'S4'!M$8)","v":" "},{"$f":"IF(ISTEXT('S4'!$N$13),NA(),'S4'!$N$13)","v":{"$error":"#N/A"}},{"$error":"#N/A"},{"$f":"IF(ISTEXT('S4'!$N$14),NA(),'S4'!$N$14)","v":{"$error":"#N/A"}},{"$error":"#N/A"},{"$f":"IF(ISTEXT('S4'!$N$16),NA(),'S4'!$N$16)","v":{"$error":"#N/A"}},{"$error":"#N/A"},{"$f":"IF(ISTEXT('S4'!$N$17),NA(),'S4'!$N$17)","v":{"$error":"#N/A"}},{"$error":"#N/A"},{"$f":"IF(ISTEXT('S4'!$N$18),NA(),'S4'!$N$18)","v":{"$error":"#N/A"}},{"$error":"#N/A"}]
[{"$f":"IF(ISBLANK('S4'!C$28),\" \",'S4'!C$28)","v":" "},{"$f":"IF(ISTEXT('S4'!$D$33),NA(),'S4'!$D$33)","v":{"$error":"#N/A"}},{"$error":"#N/A"},{"$f":"IF(ISTEXT('S4'!$D$34),NA(),'S4'!$D$34)","v":{"$error":"#N/A"}},{"$error":"#N/A"},{"$f":"IF(ISTEXT('S4'!$D$36),NA(),'S4'!$D$36)","v":{"$error":"#N/A"}},{"$error":"#N/A"},{"$f":"IF(ISTEXT('S4'!$D$37),NA(),'S4'!$D$37)","v":{"$error":"#N/A"}},{"$error":"#N/A"},{"$f":"IF(ISTEXT('S4'!$D$38),NA(),'S4'!$D$38)","v":{"$error":"#N/A"}},{"$error":"#N/A"}]
[{"$f":"IF(ISBLANK('S4'!E$28),\" \",'S4'!E$28)","v":" "},{"$f":"IF(ISTEXT('S4'!$F$33),NA(),'S4'!$F$33)","v":{"$error":"#N/A"}},{"$error":"#N/A"},{"$f":"IF(ISTEXT('S4'!$F$34),NA(),'S4'!$F$34)","v":{"$error":"#N/A"}},{"$error":"#N/A"},{"$f":"IF(ISTEXT('S4'!$F$36),NA(),'S4'!$F$36)","v":{"$error":"#N/A"}},{"$error":"#N/A"},{"$f":"IF(ISTEXT('S4'!$F$37),NA(),'S4'!$F$37)","v":{"$error":"#N/A"}},{"$error":"#N/A"},{"$f":"IF(ISTEXT('S4'!$F$38),NA(),'S4'!$F$38)","v":{"$error":"#N/A"}},{"$error":"#N/A"}]
[{"$f":"IF(ISBLANK('S4'!G$28),\" \",'S4'!G$28)","v":" "},{"$f":"IF(ISTEXT('S4'!$H$33),NA(),'S4'!$H$33)","v":{"$error":"#N/A"}},{"$error":"#N/A"},{"$f":"IF(ISTEXT('S4'!$H$34),NA(),'S4'!$H$34)","v":{"$error":"#N/A"}},{"$error":"#N/A"},{"$f":"IF(ISTEXT('S4'!$H$36),NA(),'S4'!$H$36)","v":{"$error":"#N/A"}},{"$error":"#N/A"},{"$f":"IF(ISTEXT('S4'!$H$37),NA(),'S4'!$H$37)","v":{"$error":"#N/A"}},{"$error":"#N/A"},{"$f":"IF(ISTEXT('S4'!$H$38),NA(),'S4'!$H$38)","v":{"$error":"#N/A"}},{"$error":"#N/A"}]
[{"$f":"IF(ISBLANK('S4'!I$28),\" \",'S4'!I$28)","v":" "},{"$f":"IF(ISTEXT('S4'!$J$33),NA(),'S4'!$J$33)","v":{"$error":"#N/A"}},{"$error":"#N/A"},{"$f":"IF(ISTEXT('S4'!$J$34),NA(),'S4'!$J$34)","v":{"$error":"#N/A"}},{"$error":"#N/A"},{"$f":"IF(ISTEXT('S4'!$J$36),NA(),'S4'!$J$36)","v":{"$error":"#N/A"}},{"$error":"#N/A"},{"$f":"IF(ISTEXT('S4'!$J$37),NA(),'S4'!$J$37)","v":{"$error":"#N/A"}},{"$error":"#N/A"},{"$f":"IF(ISTEXT('S4'!$J$38),NA(),'S4'!$J$38)","v":{"$error":"#N/A"}},{"$error":"#N/A"}]
[{"$f":"IF(ISBLANK('S4'!K$28),\" \",'S4'!K$28)","v":" "},{"$f":"IF(ISTEXT('S4'!$L$33),NA(),'S4'!$L$33)","v":{"$error":"#N/A"}},{"$error":"#N/A"},{"$f":"IF(ISTEXT('S4'!$L$34),NA(),'S4'!$L$34)","v":{"$error":"#N/A"}},{"$error":"#N/A"},{"$f":"IF(ISTEXT('S4'!$L$36),NA(),'S4'!$L$36)","v":{"$error":"#N/A"}},{"$error":"#N/A"},{"$f":"IF(ISTEXT('S4'!$L$37),NA(),'S4'!$L$37)","v":{"$error":"#N/A"}},{"$error":"#N/A"},{"$f":"IF(ISTEXT('S4'!$L$38),NA(),'S4'!$L$38)","v":{"$error":"#N/A"}},{"$error":"#N/A"}]
[{"$f":"IF(ISBLANK('S4'!M$28),\" \",'S4'!M$28)","v":" "},{"$f":"IF(ISTEXT('S4'!$N$33),NA(),'S4'!$N$33)","v":{"$error":"#N/A"}},{"$error":"#N/A"},{"$f":"IF(ISTEXT('S4'!$N$34),NA(),'S4'!$N$34)","v":{"$error":"#N/A"}},{"$error":"#N/A"},{"$f":"IF(ISTEXT('S4'!$N$36),NA(),'S4'!$N$36)","v":{"$error":"#N/A"}},{"$error":"#N/A"},{"$f":"IF(ISTEXT('S4'!$N$37),NA(),'S4'!$N$37)","v":{"$error":"#N/A"}},{"$error":"#N/A"},{"$f":"IF(ISTEXT('S4'!$N$38),NA(),'S4'!$N$38)","v":{"$error":"#N/A"}},{"$error":"#N/A"}]
[{"$f":"IF(ISBLANK('S5'!C$8),\" \",'S5'!C$8)","v":" "},{"$f":"IF(ISTEXT('S5'!$D$13),NA(),'S5'!$D$13)","v":{"$error":"#N/A"}},{"$error":"#N/A"},{"$f":"IF(ISTEXT('S5'!$D$14),NA(),'S5'!$D$14)","v":{"$error":"#N/A"}},{"$error":"#N/A"},{"$f":"IF(ISTEXT('S5'!$D$16),NA(),'S5'!$D$16)","v":{"$error":"#N/A"}},{"$error":"#N/A"},{"$f":"IF(ISTEXT('S5'!$D$17),NA(),'S5'!$D$17)","v":{"$error":"#N/A"}},{"$error":"#N/A"},{"$f":"IF(ISTEXT('S5'!$D$18),NA(),'S5'!$D$18)","v":{"$error":"#N/A"}},{"$error":"#N/A"}]
[{"$f":"IF(ISBLANK('S5'!E$8),\" \",'S5'!E$8)","v":" "},{"$f":"IF(ISTEXT('S5'!$F$13),NA(),'S5'!$F$13)","v":{"$error":"#N/A"}},{"$error":"#N/A"},{"$f":"IF(ISTEXT('S5'!$F$14),NA(),'S5'!$F$14)","v":{"$error":"#N/A"}},{"$error":"#N/A"},{"$f":"IF(ISTEXT('S5'!$F$16),NA(),'S5'!$F$16)","v":{"$error":"#N/A"}},{"$error":"#N/A"},{"$f":"IF(ISTEXT('S5'!$F$17),NA(),'S5'!$F$17)","v":{"$error":"#N/A"}},{"$error":"#N/A"},{"$f":"IF(ISTEXT('S5'!$F$18),NA(),'S5'!$F$18)","v":{"$error":"#N/A"}},{"$error":"#N/A"}]
[{"$f":"IF(ISBLANK('S5'!G$8),\" \",'S5'!G$8)","v":" "},{"$f":"IF(ISTEXT('S5'!$H$13),NA(),'S5'!$H$13)","v":{"$error":"#N/A"}},{"$error":"#N/A"},{"$f":"IF(ISTEXT('S5'!$H$14),NA(),'S5'!$H$14)","v":{"$error":"#N/A"}},{"$error":"#N/A"},{"$f":"IF(ISTEXT('S5'!$H$16),NA(),'S5'!$H$16)","v":{"$error":"#N/A"}},{"$error":"#N/A"},{"$f":"IF(ISTEXT('S5'!$H$17),NA(),'S5'!$H$17)","v":{"$error":"#N/A"}},{"$error":"#N/A"},{"$f":"IF(ISTEXT('S5'!$H$18),NA(),'S5'!$H$18)","v":{"$error":"#N/A"}},{"$error":"#N/A"}]
[{"$f":"IF(ISBLANK('S5'!I$8),\" \",'S5'!I$8)","v":" "},{"$f":"IF(ISTEXT('S5'!$J$13),NA(),'S5'!$J$13)","v":{"$error":"#N/A"}},{"$error":"#N/A"},{"$f":"IF(ISTEXT('S5'!$J$14),NA(),'S5'!$J$14)","v":{"$error":"#N/A"}},{"$error":"#N/A"},{"$f":"IF(ISTEXT('S5'!$J$16),NA(),'S5'!$J$16)","v":{"$error":"#N/A"}},{"$error":"#N/A"},{"$f":"IF(ISTEXT('S5'!$J$17),NA(),'S5'!$J$17)","v":{"$error":"#N/A"}},{"$error":"#N/A"},{"$f":"IF(ISTEXT('S5'!$J$18),NA(),'S5'!$J$18)","v":{"$error":"#N/A"}},{"$error":"#N/A"}]
[{"$f":"IF(ISBLANK('S5'!K$8),\" \",'S5'!K$8)","v":" "},{"$f":"IF(ISTEXT('S5'!$L$13),NA(),'S5'!$L$13)","v":{"$error":"#N/A"}},{"$error":"#N/A"},{"$f":"IF(ISTEXT('S5'!$L$14),NA(),'S5'!$L$14)","v":{"$error":"#N/A"}},{"$error":"#N/A"},{"$f":"IF(ISTEXT('S5'!$L$16),NA(),'S5'!$L$16)","v":{"$error":"#N/A"}},{"$error":"#N/A"},{"$f":"IF(ISTEXT('S5'!$L$17),NA(),'S5'!$L$17)","v":{"$error":"#N/A"}},{"$error":"#N/A"},{"$f":"IF(ISTEXT('S5'!$L$18),NA(),'S5'!$L$18)","v":{"$error":"#N/A"}},{"$error":"#N/A"}]
[{"$f":"IF(ISBLANK('S5'!M$8),\" \",'S5'!M$8)","v":" "},{"$f":"IF(ISTEXT('S5'!$N$13),NA(),'S5'!$N$13)","v":{"$error":"#N/A"}},{"$error":"#N/A"},{"$f":"IF(ISTEXT('S5'!$N$14),NA(),'S5'!$N$14)","v":{"$error":"#N/A"}},{"$error":"#N/A"},{"$f":"IF(ISTEXT('S5'!$N$16),NA(),'S5'!$N$16)","v":{"$error":"#N/A"}},{"$error":"#N/A"},{"$f":"IF(ISTEXT('S5'!$N$17),NA(),'S5'!$N$17)","v":{"$error":"#N/A"}},{"$error":"#N/A"},{"$f":"IF(ISTEXT('S5'!$N$18),NA(),'S5'!$N$18)","v":{"$error":"#N/A"}},{"$error":"#N/A"}]
[{"$f":"IF(ISBLANK('S5'!C$28),\" \",'S5'!C$28)","v":" "},{"$f":"IF(ISTEXT('S5'!$D$33),NA(),'S5'!$D$33)","v":{"$error":"#N/A"}},{"$error":"#N/A"},{"$f":"IF(ISTEXT('S5'!$D$34),NA(),'S5'!$D$34)","v":{"$error":"#N/A"}},{"$error":"#N/A"},{"$f":"IF(ISTEXT('S5'!$D$36),NA(),'S5'!$D$36)","v":{"$error":"#N/A"}},{"$error":"#N/A"},{"$f":"IF(ISTEXT('S5'!$D$37),NA(),'S5'!$D$37)","v":{"$error":"#N/A"}},{"$error":"#N/A"},{"$f":"IF(ISTEXT('S5'!$D$38),NA(),'S5'!$D$38)","v":{"$error":"#N/A"}},{"$error":"#N/A"}]
[{"$f":"IF(ISBLANK('S5'!E$28),\" \",'S5'!E$28)","v":" "},{"$f":"IF(ISTEXT('S5'!$F$33),NA(),'S5'!$F$33)","v":{"$error":"#N/A"}},{"$error":"#N/A"},{"$f":"IF(ISTEXT('S5'!$F$34),NA(),'S5'!$F$34)","v":{"$error":"#N/A"}},{"$error":"#N/A"},{"$f":"IF(ISTEXT('S5'!$F$36),NA(),'S5'!$F$36)","v":{"$error":"#N/A"}},{"$error":"#N/A"},{"$f":"IF(ISTEXT('S5'!$F$37),NA(),'S5'!$F$37)","v":{"$error":"#N/A"}},{"$error":"#N/A"},{"$f":"IF(ISTEXT('S5'!$F$38),NA(),'S5'!$F$38)","v":{"$error":"#N/A"}},{"$error":"#N/A"}]
[{"$f":"IF(ISBLANK('S5'!G$28),\" \",'S5'!G$28)","v":" "},{"$f":"IF(ISTEXT('S5'!$H$33),NA(),'S5'!$H$33)","v":{"$error":"#N/A"}},{"$error":"#N/A"},{"$f":"IF(ISTEXT('S5'!$H$34),NA(),'S5'!$H$34)","v":{"$error":"#N/A"}},{"$error":"#N/A"},{"$f":"IF(ISTEXT('S5'!$H$36),NA(),'S5'!$H$36)","v":{"$error":"#N/A"}},{"$error":"#N/A"},{"$f":"IF(ISTEXT('S5'!$H$37),NA(),'S5'!$H$37)","v":{"$error":"#N/A"}},{"$error":"#N/A"},{"$f":"IF(ISTEXT('S5'!$H$38),NA(),'S5'!$H$38)","v":{"$error":"#N/A"}},{"$error":"#N/A"}]
[{"$f":"IF(ISBLANK('S5'!I$28),\" \",'S5'!I$28)","v":" "},{"$f":"IF(ISTEXT('S5'!$J$33),NA(),'S5'!$J$33)","v":{"$error":"#N/A"}},{"$error":"#N/A"},{"$f":"IF(ISTEXT('S5'!$J$34),NA(),'S5'!$J$34)","v":{"$error":"#N/A"}},{"$error":"#N/A"},{"$f":"IF(ISTEXT('S5'!$J$36),NA(),'S5'!$J$36)","v":{"$error":"#N/A"}},{"$error":"#N/A"},{"$f":"IF(ISTEXT('S5'!$J$37),NA(),'S5'!$J$37)","v":{"$error":"#N/A"}},{"$error":"#N/A"},{"$f":"IF(ISTEXT('S5'!$J$38),NA(),'S5'!$J$38)","v":{"$error":"#N/A"}},{"$error":"#N/A"}]
[{"$f":"IF(ISBLANK('S5'!K$28),\" \",'S5'!K$28)","v":" "},{"$f":"IF(ISTEXT('S5'!$L$33),NA(),'S5'!$L$33)","v":{"$error":"#N/A"}},{"$error":"#N/A"},{"$f":"IF(ISTEXT('S5'!$L$34),NA(),'S5'!$L$34)","v":{"$error":"#N/A"}},{"$error":"#N/A"},{"$f":"IF(ISTEXT('S5'!$L$36),NA(),'S5'!$L$36)","v":{"$error":"#N/A"}},{"$error":"#N/A"},{"$f":"IF(ISTEXT('S5'!$L$37),NA(),'S5'!$L$37)","v":{"$error":"#N/A"}},{"$error":"#N/A"},{"$f":"IF(ISTEXT('S5'!$L$38),NA(),'S5'!$L$38)","v":{"$error":"#N/A"}},{"$error":"#N/A"}]
[{"$f":"IF(ISBLANK('S5'!M$28),\" \",'S5'!M$28)","v":" "},{"$f":"IF(ISTEXT('S5'!$N$33),NA(),'S5'!$N$33)","v":{"$error":"#N/A"}},{"$f":"ROUND(AVERAGE(B60:B62),0)","v":{"$error":"#N/A"}},{"$f":"IF(ISTEXT('S5'!$N$34),NA(),'S5'!$N$34)","v":{"$error":"#N/A"}},{"$error":"#N/A"},{"$f":"IF(ISTEXT('S5'!$N$36),NA(),'S5'!$N$36)","v":{"$error":"#N/A"}},{"$error":"#N/A"},{"$f":"IF(ISTEXT('S5'!$N$37),NA(),'S5'!$N$37)","v":{"$error":"#N/A"}},{"$error":"#N/A"},{"$f":"IF(ISTEXT('S5'!$N$38),NA(),'S5'!$N$38)","v":{"$error":"#N/A"}},{"$error":"#N/A"}]
[{"$f":"IF(ISBLANK('S6'!C$8),\" \",'S6'!C$8)","v":" "},{"$f":"IF(ISTEXT('S6'!$D$13),NA(),'S6'!$D$13)","v":{"$error":"#N/A"}},{"$error":"#N/A"},{"$f":"IF(ISTEXT('S6'!$D$14),NA(),'S6'!$D$14)","v":{"$error":"#N/A"}},{"$error":"#N/A"},{"$f":"IF(ISTEXT('S6'!$D$16),NA(),'S6'!$D$16)","v":{"$error":"#N/A"}},{"$error":"#N/A"},{"$f":"IF(ISTEXT('S6'!$D$17),NA(),'S6'!$D$17)","v":{"$error":"#N/A"}},{"$error":"#N/A"},{"$f":"IF(ISTEXT('S6'!$D$18),NA(),'S6'!$D$18)","v":{"$error":"#N/A"}},{"$error":"#N/A"}]
[{"$f":"IF(ISBLANK('S6'!E$8),\" \",'S6'!E$8)","v":" "},{"$f":"IF(ISTEXT('S6'!$F$13),NA(),'S6'!$F$13)","v":{"$error":"#N/A"}},{"$error":"#N/A"},{"$f":"IF(ISTEXT('S6'!$F$14),NA(),'S6'!$F$14)","v":{"$error":"#N/A"}},{"$error":"#N/A"},{"$f":"IF(ISTEXT('S6'!$F$16),NA(),'S6'!$F$16)","v":{"$error":"#N/A"}},{"$error":"#N/A"},{"$f":"IF(ISTEXT('S6'!$F$17),NA(),'S6'!$F$17)","v":{"$error":"#N/A"}},{"$error":"#N/A"},{"$f":"IF(ISTEXT('S6'!$F$18),NA(),'S6'!$F$18)","v":{"$error":"#N/A"}},{"$error":"#N/A"}]
[{"$f":"IF(ISBLANK('S6'!G$8),\" \",'S6'!G$8)","v":" "},{"$f":"IF(ISTEXT('S6'!$H$13),NA(),'S6'!$H$13)","v":{"$error":"#N/A"}},{"$error":"#N/A"},{"$f":"IF(ISTEXT('S6'!$H$14),NA(),'S6'!$H$14)","v":{"$error":"#N/A"}},{"$error":"#N/A"},{"$f":"IF(ISTEXT('S6'!$H$16),NA(),'S6'!$H$16)","v":{"$error":"#N/A"}},{"$error":"#N/A"},{"$f":"IF(ISTEXT('S6'!$H$17),NA(),'S6'!$H$17)","v":{"$error":"#N/A"}},{"$error":"#N/A"},{"$f":"IF(ISTEXT('S6'!$H$18),NA(),'S6'!$H$18)","v":{"$error":"#N/A"}},{"$error":"#N/A"}]
[{"$f":"IF(ISBLANK('S6'!I$8),\" \",'S6'!I$8)","v":" "},{"$f":"IF(ISTEXT('S6'!$J$13),NA(),'S6'!$J$13)","v":{"$error":"#N/A"}},{"$error":"#N/A"},{"$f":"IF(ISTEXT('S6'!$J$14),NA(),'S6'!$J$14)","v":{"$error":"#N/A"}},{"$error":"#N/A"},{"$f":"IF(ISTEXT('S6'!$J$16),NA(),'S6'!$J$16)","v":{"$error":"#N/A"}},{"$error":"#N/A"},{"$f":"IF(ISTEXT('S6'!$J$17),NA(),'S6'!$J$17)","v":{"$error":"#N/A"}},{"$error":"#N/A"},{"$f":"IF(ISTEXT('S6'!$J$18),NA(),'S6'!$J$18)","v":{"$error":"#N/A"}},{"$error":"#N/A"}]
[{"$f":"IF(ISBLANK('S6'!K$8),\" \",'S6'!K$8)","v":" "},{"$f":"IF(ISTEXT('S6'!$L$13),NA(),'S6'!$L$13)","v":{"$error":"#N/A"}},{"$error":"#N/A"},{"$f":"IF(ISTEXT('S6'!$L$14),NA(),'S6'!$L$14)","v":{"$error":"#N/A"}},{"$error":"#N/A"},{"$f":"IF(ISTEXT('S6'!$L$16),NA(),'S6'!$L$16)","v":{"$error":"#N/A"}},{"$error":"#N/A"},{"$f":"IF(ISTEXT('S6'!$L$17),NA(),'S6'!$L$17)","v":{"$error":"#N/A"}},{"$error":"#N/A"},{"$f":"IF(ISTEXT('S6'!$L$18),NA(),'S6'!$L$18)","v":{"$error":"#N/A"}},{"$error":"#N/A"}]
[{"$f":"IF(ISBLANK('S6'!M$8),\" \",'S6'!M$8)","v":" "},{"$f":"IF(ISTEXT('S6'!$N$13),NA(),'S6'!$N$13)","v":{"$error":"#N/A"}},{"$error":"#N/A"},{"$f":"IF(ISTEXT('S6'!$N$14),NA(),'S6'!$N$14)","v":{"$error":"#N/A"}},{"$error":"#N/A"},{"$f":"IF(ISTEXT('S6'!$N$16),NA(),'S6'!$N$16)","v":{"$error":"#N/A"}},{"$error":"#N/A"},{"$f":"IF(ISTEXT('S6'!$N$17),NA(),'S6'!$N$17)","v":{"$error":"#N/A"}},{"$error":"#N/A"},{"$f":"IF(ISTEXT('S6'!$N$18),NA(),'S6'!$N$18)","v":{"$error":"#N/A"}},{"$error":"#N/A"}]
[{"$f":"IF(ISBLANK('S6'!C$28),\" \",'S6'!C$28)","v":" "},{"$f":"IF(ISTEXT('S6'!$D$33),NA(),'S6'!$D$33)","v":{"$error":"#N/A"}},{"$error":"#N/A"},{"$f":"IF(ISTEXT('S6'!$D$34),NA(),'S6'!$D$34)","v":{"$error":"#N/A"}},{"$f":"ROUND(AVERAGE(D67:D69),0)","v":{"$error":"#N/A"}},{"$f":"IF(ISTEXT('S6'!$D$36),NA(),'S6'!$D$36)","v":{"$error":"#N/A"}},{"$f":"ROUND(AVERAGE(F67:F69),0)","v":{"$error":"#N/A"}},{"$f":"IF(ISTEXT('S6'!$D$37),NA(),'S6'!$D$37)","v":{"$error":"#N/A"}},{"$f":"ROUND(AVERAGE(H67:H69),0)","v":{"$error":"#N/A"}},{"$f":"IF(ISTEXT('S6'!$D$38),NA(),'S6'!$D$38)","v":{"$error":"#N/A"}},{"$f":"ROUND(AVERAGE(J67:J69),0)","v":{"$error":"#N/A"}}]
[{"$f":"IF(ISBLANK('S6'!E$28),\" \",'S6'!E$28)","v":" "},{"$f":"IF(ISTEXT('S6'!$F$33),NA(),'S6'!$F$33)","v":{"$error":"#N/A"}},{"$error":"#N/A"},{"$f":"IF(ISTEXT('S6'!$F$34),NA(),'S6'!$F$34)","v":{"$error":"#N/A"}},{"$error":"#N/A"},{"$f":"IF(ISTEXT('S6'!$F$36),NA(),'S6'!$F$36)","v":{"$error":"#N/A"}},{"$error":"#N/A"},{"$f":"IF(ISTEXT('S6'!$F$37),NA(),'S6'!$F$37)","v":{"$error":"#N/A"}},{"$error":"#N/A"},{"$f":"IF(ISTEXT('S6'!$F$38),NA(),'S6'!$F$38)","v":{"$error":"#N/A"}},{"$error":"#N/A"}]
[{"$f":"IF(ISBLANK('S6'!G$28),\" \",'S6'!G$28)","v":" "},{"$f":"IF(ISTEXT('S6'!$H$33),NA(),'S6'!$H$33)","v":{"$error":"#N/A"}},{"$error":"#N/A"},{"$f":"IF(ISTEXT('S6'!$H$34),NA(),'S6'!$H$34)","v":{"$error":"#N/A"}},{"$error":"#N/A"},{"$f":"IF(ISTEXT('S6'!$H$36),NA(),'S6'!$H$36)","v":{"$error":"#N/A"}},{"$error":"#N/A"},{"$f":"IF(ISTEXT('S6'!$H$37),NA(),'S6'!$H$37)","v":{"$error":"#N/A"}},{"$error":"#N/A"},{"$f":"IF(ISTEXT('S6'!$H$38),NA(),'S6'!$H$38)","v":{"$error":"#N/A"}},{"$error":"#N/A"}]
[{"$f":"IF(ISBLANK('S6'!I$28),\" \",'S6'!I$28)","v":" "},{"$f":"IF(ISTEXT('S6'!$J$33),NA(),'S6'!$J$33)","v":{"$error":"#N/A"}},{"$error":"#N/A"},{"$f":"IF(ISTEXT('S6'!$J$34),NA(),'S6'!$J$34)","v":{"$error":"#N/A"}},{"$error":"#N/A"},{"$f":"IF(ISTEXT('S6'!$J$36),NA(),'S6'!$J$36)","v":{"$error":"#N/A"}},{"$error":"#N/A"},{"$f":"IF(ISTEXT('S6'!$J$37),NA(),'S6'!$J$37)","v":{"$error":"#N/A"}},{"$error":"#N/A"},{"$f":"IF(ISTEXT('S6'!$J$38),NA(),'S6'!$J$38)","v":{"$error":"#N/A"}},{"$error":"#N/A"}]
[{"$f":"IF(ISBLANK('S6'!K$28),\" \",'S6'!K$28)","v":" "},{"$f":"IF(ISTEXT('S6'!$L$33),NA(),'S6'!$L$33)","v":{"$error":"#N/A"}},{"$error":"#N/A"},{"$f":"IF(ISTEXT('S6'!$L$34),NA(),'S6'!$L$34)","v":{"$error":"#N/A"}},{"$error":"#N/A"},{"$f":"IF(ISTEXT('S6'!$L$36),NA(),'S6'!$L$36)","v":{"$error":"#N/A"}},{"$error":"#N/A"},{"$f":"IF(ISTEXT('S6'!$L$37),NA(),'S6'!$L$37)","v":{"$error":"#N/A"}},{"$error":"#N/A"},{"$f":"IF(ISTEXT('S6'!$L$38),NA(),'S6'!$L$38)","v":{"$error":"#N/A"}},{"$error":"#N/A"}]
[{"$f":"IF(ISBLANK('S6'!M$28),\" \",'S6'!M$28)","v":" "},{"$f":"IF(ISTEXT('S6'!$N$33),NA(),'S6'!$N$33)","v":{"$error":"#N/A"}},{"$error":"#N/A"},{"$f":"IF(ISTEXT('S6'!$N$34),NA(),'S6'!$N$34)","v":{"$error":"#N/A"}},{"$error":"#N/A"},{"$f":"IF(ISTEXT('S6'!$N$36),NA(),'S6'!$N$36)","v":{"$error":"#N/A"}},{"$error":"#N/A"},{"$f":"IF(ISTEXT('S6'!$N$37),NA(),'S6'!$N$37)","v":{"$error":"#N/A"}},{"$error":"#N/A"},{"$f":"IF(ISTEXT('S6'!$N$38),NA(),'S6'!$N$38)","v":{"$error":"#N/A"}},{"$error":"#N/A"}]
[{"$f":"IF(ISBLANK('S7'!C$8),\" \",'S7'!C$8)","v":" "},{"$f":"IF(ISTEXT('S7'!$D$13),NA(),'S7'!$D$13)","v":{"$error":"#N/A"}},{"$error":"#N/A"},{"$f":"IF(ISTEXT('S7'!$D$14),NA(),'S7'!$D$14)","v":{"$error":"#N/A"}},{"$error":"#N/A"},{"$f":"IF(ISTEXT('S7'!$D$16),NA(),'S7'!$D$16)","v":{"$error":"#N/A"}},{"$error":"#N/A"},{"$f":"IF(ISTEXT('S7'!$D$17),NA(),'S7'!$D$17)","v":{"$error":"#N/A"}},{"$error":"#N/A"},{"$f":"IF(ISTEXT('S7'!$D$18),NA(),'S7'!$D$18)","v":{"$error":"#N/A"}},{"$error":"#N/A"}]
[{"$f":"IF(ISBLANK('S7'!E$8),\" \",'S7'!E$8)","v":" "},{"$f":"IF(ISTEXT('S7'!$F$13),NA(),'S7'!$F$13)","v":{"$error":"#N/A"}},{"$error":"#N/A"},{"$f":"IF(ISTEXT('S7'!$F$14),NA(),'S7'!$F$14)","v":{"$error":"#N/A"}},{"$error":"#N/A"},{"$f":"IF(ISTEXT('S7'!$F$16),NA(),'S7'!$F$16)","v":{"$error":"#N/A"}},{"$error":"#N/A"},{"$f":"IF(ISTEXT('S7'!$F$17),NA(),'S7'!$F$17)","v":{"$error":"#N/A"}},{"$error":"#N/A"},{"$f":"IF(ISTEXT('S7'!$F$18),NA(),'S7'!$F$18)","v":{"$error":"#N/A"}},{"$error":"#N/A"}]
[{"$f":"IF(ISBLANK('S7'!G$8),\" \",'S7'!G$8)","v":" "},{"$f":"IF(ISTEXT('S7'!$H$13),NA(),'S7'!$H$13)","v":{"$error":"#N/A"}},{"$error":"#N/A"},{"$f":"IF(ISTEXT('S7'!$H$14),NA(),'S7'!$H$14)","v":{"$error":"#N/A"}},{"$error":"#N/A"},{"$f":"IF(ISTEXT('S7'!$H$16),NA(),'S7'!$H$16)","v":{"$error":"#N/A"}},{"$error":"#N/A"},{"$f":"IF(ISTEXT('S7'!$H$17),NA(),'S7'!$H$17)","v":{"$error":"#N/A"}},{"$error":"#N/A"},{"$f":"IF(ISTEXT('S7'!$H$18),NA(),'S7'!$H$18)","v":{"$error":"#N/A"}},{"$error":"#N/A"}]
[{"$f":"IF(ISBLANK('S7'!I$8),\" \",'S7'!I$8)","v":" "},{"$f":"IF(ISTEXT('S7'!$J$13),NA(),'S7'!$J$13)","v":{"$error":"#N/A"}},{"$error":"#N/A"},{"$f":"IF(ISTEXT('S7'!$J$14),NA(),'S7'!$J$14)","v":{"$error":"#N/A"}},{"$error":"#N/A"},{"$f":"IF(ISTEXT('S7'!$J$16),NA(),'S7'!$J$16)","v":{"$error":"#N/A"}},{"$error":"#N/A"},{"$f":"IF(ISTEXT('S7'!$J$17),NA(),'S7'!$J$17)","v":{"$error":"#N/A"}},{"$error":"#N/A"},{"$f":"IF(ISTEXT('S7'!$J$18),NA(),'S7'!$J$18)","v":{"$error":"#N/A"}},{"$error":"#N/A"}]
[{"$f":"IF(ISBLANK('S7'!K$8),\" \",'S7'!K$8)","v":" "},{"$f":"IF(ISTEXT('S7'!$L$13),NA(),'S7'!$L$13)","v":{"$error":"#N/A"}},{"$error":"#N/A"},{"$f":"IF(ISTEXT('S7'!$L$14),NA(),'S7'!$L$14)","v":{"$error":"#N/A"}},{"$error":"#N/A"},{"$f":"IF(ISTEXT('S7'!$L$16),NA(),'S7'!$L$16)","v":{"$error":"#N/A"}},{"$error":"#N/A"},{"$f":"IF(ISTEXT('S7'!$L$17),NA(),'S7'!$L$17)","v":{"$error":"#N/A"}},{"$error":"#N/A"},{"$f":"IF(ISTEXT('S7'!$L$18),NA(),'S7'!$L$18)","v":{"$error":"#N/A"}},{"$error":"#N/A"}]
[{"$f":"IF(ISBLANK('S7'!M$8),\" \",'S7'!M$8)","v":" "},{"$f":"IF(ISTEXT('S7'!$N$13),NA(),'S7'!$N$13)","v":{"$error":"#N/A"}},{"$error":"#N/A"},{"$f":"IF(ISTEXT('S7'!$N$14),NA(),'S7'!$N$14)","v":{"$error":"#N/A"}},{"$error":"#N/A"},{"$f":"IF(ISTEXT('S7'!$N$16),NA(),'S7'!$N$16)","v":{"$error":"#N/A"}},{"$error":"#N/A"},{"$f":"IF(ISTEXT('S7'!$N$17),NA(),'S7'!$N$17)","v":{"$error":"#N/A"}},{"$error":"#N/A"},{"$f":"IF(ISTEXT('S7'!$N$18),NA(),'S7'!$N$18)","v":{"$error":"#N/A"}},{"$error":"#N/A"}]
[{"$f":"IF(ISBLANK('S7'!C$28),\" \",'S7'!C$28)","v":" "},{"$f":"IF(ISTEXT('S7'!$D$33),NA(),'S7'!$D$33)","v":{"$error":"#N/A"}},{"$error":"#N/A"},{"$f":"IF(ISTEXT('S7'!$D$34),NA(),'S7'!$D$34)","v":{"$error":"#N/A"}},{"$error":"#N/A"},{"$f":"IF(ISTEXT('S7'!$D$36),NA(),'S7'!$D$36)","v":{"$error":"#N/A"}},{"$error":"#N/A"},{"$f":"IF(ISTEXT('S7'!$D$37),NA(),'S7'!$D$37)","v":{"$error":"#N/A"}},{"$error":"#N/A"},{"$f":"IF(ISTEXT('S7'!$D$38),NA(),'S7'!$D$38)","v":{"$error":"#N/A"}},{"$error":"#N/A"}]
[{"$f":"IF(ISBLANK('S7'!E$28),\" \",'S7'!E$28)","v":" "},{"$f":"IF(ISTEXT('S7'!$F$33),NA(),'S7'!$F$33)","v":{"$error":"#N/A"}},{"$error":"#N/A"},{"$f":"IF(ISTEXT('S7'!$F$34),NA(),'S7'!$F$34)","v":{"$error":"#N/A"}},{"$error":"#N/A"},{"$f":"IF(ISTEXT('S7'!$F$36),NA(),'S7'!$F$36)","v":{"$error":"#N/A"}},{"$error":"#N/A"},{"$f":"IF(ISTEXT('S7'!$F$37),NA(),'S7'!$F$37)","v":{"$error":"#N/A"}},{"$error":"#N/A"},{"$f":"IF(ISTEXT('S7'!$F$38),NA(),'S7'!$F$38)","v":{"$error":"#N/A"}},{"$error":"#N/A"}]
[{"$f":"IF(ISBLANK('S7'!G$28),\" \",'S7'!G$28)","v":" "},{"$f":"IF(ISTEXT('S7'!$H$33),NA(),'S7'!$H$33)","v":{"$error":"#N/A"}},{"$error":"#N/A"},{"$f":"IF(ISTEXT('S7'!$H$34),NA(),'S7'!$H$34)","v":{"$error":"#N/A"}},{"$error":"#N/A"},{"$f":"IF(ISTEXT('S7'!$H$36),NA(),'S7'!$H$36)","v":{"$error":"#N/A"}},{"$error":"#N/A"},{"$f":"IF(ISTEXT('S7'!$H$37),NA(),'S7'!$H$37)","v":{"$error":"#N/A"}},{"$error":"#N/A"},{"$f":"IF(ISTEXT('S7'!$H$38),NA(),'S7'!$H$38)","v":{"$error":"#N/A"}},{"$error":"#N/A"}]
[{"$f":"IF(ISBLANK('S7'!I$28),\" \",'S7'!I$28)","v":" "},{"$f":"IF(ISTEXT('S7'!$J$33),NA(),'S7'!$J$33)","v":{"$error":"#N/A"}},{"$error":"#N/A"},{"$f":"IF(ISTEXT('S7'!$J$34),NA(),'S7'!$J$34)","v":{"$error":"#N/A"}},{"$error":"#N/A"},{"$f":"IF(ISTEXT('S7'!$J$36),NA(),'S7'!$J$36)","v":{"$error":"#N/A"}},{"$error":"#N/A"},{"$f":"IF(ISTEXT('S7'!$J$37),NA(),'S7'!$J$37)","v":{"$error":"#N/A"}},{"$error":"#N/A"},{"$f":"IF(ISTEXT('S7'!$J$38),NA(),'S7'!$J$38)","v":{"$error":"#N/A"}},{"$error":"#N/A"}]
[{"$f":"IF(ISBLANK('S7'!K$28),\" \",'S7'!K$28)","v":" "},{"$f":"IF(ISTEXT('S7'!$L$33),NA(),'S7'!$L$33)","v":{"$error":"#N/A"}},{"$error":"#N/A"},{"$f":"IF(ISTEXT('S7'!$L$34),NA(),'S7'!$L$34)","v":{"$error":"#N/A"}},{"$error":"#N/A"},{"$f":"IF(ISTEXT('S7'!$L$36),NA(),'S7'!$L$36)","v":{"$error":"#N/A"}},{"$error":"#N/A"},{"$f":"IF(ISTEXT('S7'!$L$37),NA(),'S7'!$L$37)","v":{"$error":"#N/A"}},{"$error":"#N/A"},{"$f":"IF(ISTEXT('S7'!$L$38),NA(),'S7'!$L$38)","v":{"$error":"#N/A"}},{"$error":"#N/A"}]
[{"$f":"IF(ISBLANK('S7'!M$28),\" \",'S7'!M$28)","v":" "},{"$f":"IF(ISTEXT('S7'!$N$33),NA(),'S7'!$N$33)","v":{"$error":"#N/A"}},{"$error":"#N/A"},{"$f":"IF(ISTEXT('S7'!$N$34),NA(),'S7'!$N$34)","v":{"$error":"#N/A"}},{"$error":"#N/A"},{"$f":"IF(ISTEXT('S7'!$N$36),NA(),'S7'!$N$36)","v":{"$error":"#N/A"}},{"$error":"#N/A"},{"$f":"IF(ISTEXT('S7'!$N$37),NA(),'S7'!$N$37)","v":{"$error":"#N/A"}},{"$error":"#N/A"},{"$f":"IF(ISTEXT('S7'!$N$38),NA(),'S7'!$N$38)","v":{"$error":"#N/A"}},{"$error":"#N/A"}]
[{"$f":"IF(ISBLANK('S8'!C$8),\" \",'S8'!C$8)","v":" "},{"$f":"IF(ISTEXT('S8'!$D$13),NA(),'S8'!$D$13)","v":{"$error":"#N/A"}},{"$error":"#N/A"},{"$f":"IF(ISTEXT('S8'!$D$14),NA(),'S8'!$D$14)","v":{"$error":"#N/A"}},{"$error":"#N/A"},{"$f":"IF(ISTEXT('S8'!$D$16),NA(),'S8'!$D$16)","v":{"$error":"#N/A"}},{"$error":"#N/A"},{"$f":"IF(ISTEXT('S8'!$D$17),NA(),'S8'!$D$17)","v":{"$error":"#N/A"}},{"$error":"#N/A"},{"$f":"IF(ISTEXT('S8'!$D$18),NA(),'S8'!$D$18)","v":{"$error":"#N/A"}},{"$error":"#N/A"}]
[{"$f":"IF(ISBLANK('S8'!E$8),\" \",'S8'!E$8)","v":" "},{"$f":"IF(ISTEXT('S8'!$F$13),NA(),'S8'!$F$13)","v":{"$error":"#N/A"}},{"$error":"#N/A"},{"$f":"IF(ISTEXT('S8'!$F$14),NA(),'S8'!$F$14)","v":{"$error":"#N/A"}},{"$error":"#N/A"},{"$f":"IF(ISTEXT('S8'!$F$16),NA(),'S8'!$F$16)","v":{"$error":"#N/A"}},{"$error":"#N/A"},{"$f":"IF(ISTEXT('S8'!$F$17),NA(),'S8'!$F$17)","v":{"$error":"#N/A"}},{"$error":"#N/A"},{"$f":"IF(ISTEXT('S8'!$F$18),NA(),'S8'!$F$18)","v":{"$error":"#N/A"}},{"$error":"#N/A"}]
[{"$f":"IF(ISBLANK('S8'!G$8),\" \",'S8'!G$8)","v":" "},{"$f":"IF(ISTEXT('S8'!$H$13),NA(),'S8'!$H$13)","v":{"$error":"#N/A"}},{"$error":"#N/A"},{"$f":"IF(ISTEXT('S8'!$H$14),NA(),'S8'!$H$14)","v":{"$error":"#N/A"}},{"$error":"#N/A"},{"$f":"IF(ISTEXT('S8'!$H$16),NA(),'S8'!$H$16)","v":{"$error":"#N/A"}},{"$error":"#N/A"},{"$f":"IF(ISTEXT('S8'!$H$17),NA(),'S8'!$H$17)","v":{"$error":"#N/A"}},{"$error":"#N/A"},{"$f":"IF(ISTEXT('S8'!$H$18),NA(),'S8'!$H$18)","v":{"$error":"#N/A"}},{"$error":"#N/A"}]
[{"$f":"IF(ISBLANK('S8'!I$8),\" \",'S8'!I$8)","v":" "},{"$f":"IF(ISTEXT('S8'!$J$13),NA(),'S8'!$J$13)","v":{"$error":"#N/A"}},{"$error":"#N/A"},{"$f":"IF(ISTEXT('S8'!$J$14),NA(),'S8'!$J$14)","v":{"$error":"#N/A"}},{"$error":"#N/A"},{"$f":"IF(ISTEXT('S8'!$J$16),NA(),'S8'!$J$16)","v":{"$error":"#N/A"}},{"$error":"#N/A"},{"$f":"IF(ISTEXT('S8'!$J$17),NA(),'S8'!$J$17)","v":{"$error":"#N/A"}},{"$error":"#N/A"},{"$f":"IF(ISTEXT('S8'!$J$18),NA(),'S8'!$J$18)","v":{"$error":"#N/A"}},{"$error":"#N/A"}]
[{"$f":"IF(ISBLANK('S8'!K$8),\" \",'S8'!K$8)","v":" "},{"$f":"IF(ISTEXT('S8'!$L$13),NA(),'S8'!$L$13)","v":{"$error":"#N/A"}},{"$error":"#N/A"},{"$f":"IF(ISTEXT('S8'!$L$14),NA(),'S8'!$L$14)","v":{"$error":"#N/A"}},{"$error":"#N/A"},{"$f":"IF(ISTEXT('S8'!$L$16),NA(),'S8'!$L$16)","v":{"$error":"#N/A"}},{"$error":"#N/A"},{"$f":"IF(ISTEXT('S8'!$L$17),NA(),'S8'!$L$17)","v":{"$error":"#N/A"}},{"$error":"#N/A"},{"$f":"IF(ISTEXT('S8'!$L$18),NA(),'S8'!$L$18)","v":{"$error":"#N/A"}},{"$error":"#N/A"}]
[{"$f":"IF(ISBLANK('S8'!M$8),\" \",'S8'!M$8)","v":" "},{"$f":"IF(ISTEXT('S8'!$N$13),NA(),'S8'!$N$13)","v":{"$error":"#N/A"}},{"$error":"#N/A"},{"$f":"IF(ISTEXT('S8'!$N$14),NA(),'S8'!$N$14)","v":{"$error":"#N/A"}},{"$error":"#N/A"},{"$f":"IF(ISTEXT('S8'!$N$16),NA(),'S8'!$N$16)","v":{"$error":"#N/A"}},{"$error":"#N/A"},{"$f":"IF(ISTEXT('S8'!$N$17),NA(),'S8'!$N$17)","v":{"$error":"#N/A"}},{"$error":"#N/A"},{"$f":"IF(ISTEXT('S8'!$N$18),NA(),'S8'!$N$18)","v":{"$error":"#N/A"}},{"$error":"#N/A"}]
[{"$f":"IF(ISBLANK('S8'!C$28),\" \",'S8'!C$28)","v":" "},{"$f":"IF(ISTEXT('S8'!$D$33),NA(),'S8'!$D$33)","v":{"$error":"#N/A"}},{"$error":"#N/A"},{"$f":"IF(ISTEXT('S8'!$D$34),NA(),'S8'!$D$34)","v":{"$error":"#N/A"}},{"$error":"#N/A"},{"$f":"IF(ISTEXT('S8'!$D$36),NA(),'S8'!$D$36)","v":{"$error":"#N/A"}},{"$error":"#N/A"},{"$f":"IF(ISTEXT('S8'!$D$37),NA(),'S8'!$D$37)","v":{"$error":"#N/A"}},{"$error":"#N/A"},{"$f":"IF(ISTEXT('S8'!$D$38),NA(),'S8'!$D$38)","v":{"$error":"#N/A"}},{"$error":"#N/A"}]
[{"$f":"IF(ISBLANK('S8'!E$28),\" \",'S8'!E$28)","v":" "},{"$f":"IF(ISTEXT('S8'!$F$33),NA(),'S8'!$F$33)","v":{"$error":"#N/A"}},{"$f":"ROUND(AVERAGE(B92:B94),0)","v":{"$error":"#N/A"}},{"$f":"IF(ISTEXT('S8'!$F$34),NA(),'S8'!$F$34)","v":{"$error":"#N/A"}},{"$error":"#N/A"},{"$f":"IF(ISTEXT('S8'!$F$36),NA(),'S8'!$F$36)","v":{"$error":"#N/A"}},{"$error":"#N/A"},{"$f":"IF(ISTEXT('S8'!$F$37),NA(),'S8'!$F$37)","v":{"$error":"#N/A"}},{"$error":"#N/A"},{"$f":"IF(ISTEXT('S8'!$F$38),NA(),'S8'!$F$38)","v":{"$error":"#N/A"}},{"$error":"#N/A"}]
[{"$f":"IF(ISBLANK('S8'!G$28),\" \",'S8'!G$28)","v":" "},{"$f":"IF(ISTEXT('S8'!$H$33),NA(),'S8'!$H$33)","v":{"$error":"#N/A"}},{"$error":"#N/A"},{"$f":"IF(ISTEXT('S8'!$H$34),NA(),'S8'!$H$34)","v":{"$error":"#N/A"}},{"$error":"#N/A"},{"$f":"IF(ISTEXT('S8'!$H$36),NA(),'S8'!$H$36)","v":{"$error":"#N/A"}},{"$error":"#N/A"},{"$f":"IF(ISTEXT('S8'!$H$37),NA(),'S8'!$H$37)","v":{"$error":"#N/A"}},{"$error":"#N/A"},{"$f":"IF(ISTEXT('S8'!$H$38),NA(),'S8'!$H$38)","v":{"$error":"#N/A"}},{"$error":"#N/A"}]
[{"$f":"IF(ISBLANK('S8'!I$28),\" \",'S8'!I$28)","v":" "},{"$f":"IF(ISTEXT('S8'!$J$33),NA(),'S8'!$J$33)","v":{"$error":"#N/A"}},{"$error":"#N/A"},{"$f":"IF(ISTEXT('S8'!$J$34),NA(),'S8'!$J$34)","v":{"$error":"#N/A"}},{"$error":"#N/A"},{"$f":"IF(ISTEXT('S8'!$J$36),NA(),'S8'!$J$36)","v":{"$error":"#N/A"}},{"$error":"#N/A"},{"$f":"IF(ISTEXT('S8'!$J$37),NA(),'S8'!$J$37)","v":{"$error":"#N/A"}},{"$error":"#N/A"},{"$f":"IF(ISTEXT('S8'!$J$38),NA(),'S8'!$J$38)","v":{"$error":"#N/A"}},{"$error":"#N/A"}]
[{"$f":"IF(ISBLANK('S8'!K$28),\" \",'S8'!K$28)","v":" "},{"$f":"IF(ISTEXT('S8'!$L$33),NA(),'S8'!$L$33)","v":{"$error":"#N/A"}},{"$error":"#N/A"},{"$f":"IF(ISTEXT('S8'!$L$34),NA(),'S8'!$L$34)","v":{"$error":"#N/A"}},{"$error":"#N/A"},{"$f":"IF(ISTEXT('S8'!$L$36),NA(),'S8'!$L$36)","v":{"$error":"#N/A"}},{"$error":"#N/A"},{"$f":"IF(ISTEXT('S8'!$L$37),NA(),'S8'!$L$37)","v":{"$error":"#N/A"}},{"$error":"#N/A"},{"$f":"IF(ISTEXT('S8'!$L$38),NA(),'S8'!$L$38)","v":{"$error":"#N/A"}},{"$error":"#N/A"}]
[{"$f":"IF(ISBLANK('S8'!M$28),\" \",'S8'!M$28)","v":" "},{"$f":"IF(ISTEXT('S8'!$N$33),NA(),'S8'!$N$33)","v":{"$error":"#N/A"}},{"$error":"#N/A"},{"$f":"IF(ISTEXT('S8'!$N$34),NA(),'S8'!$N$34)","v":{"$error":"#N/A"}},{"$error":"#N/A"},{"$f":"IF(ISTEXT('S8'!$N$36),NA(),'S8'!$N$36)","v":{"$error":"#N/A"}},{"$error":"#N/A"},{"$f":"IF(ISTEXT('S8'!$N$37),NA(),'S8'!$N$37)","v":{"$error":"#N/A"}},{"$error":"#N/A"},{"$f":"IF(ISTEXT('S8'!$N$38),NA(),'S8'!$N$38)","v":{"$error":"#N/A"}},{"$error":"#N/A"}]
[{"$f":"IF(ISBLANK('S9'!C$8),\" \",'S9'!C$8)","v":" "},{"$f":"IF(ISTEXT('S9'!$D$13),NA(),'S9'!$D$13)","v":{"$error":"#N/A"}},{"$error":"#N/A"},{"$f":"IF(ISTEXT('S9'!$D$14),NA(),'S9'!$D$14)","v":{"$error":"#N/A"}},{"$error":"#N/A"},{"$f":"IF(ISTEXT('S9'!$D$16),NA(),'S9'!$D$16)","v":{"$error":"#N/A"}},{"$error":"#N/A"},{"$f":"IF(ISTEXT('S9'!$D$17),NA(),'S9'!$D$17)","v":{"$error":"#N/A"}},{"$error":"#N/A"},{"$f":"IF(ISTEXT('S9'!$D$18),NA(),'S9'!$D$18)","v":{"$error":"#N/A"}},{"$error":"#N/A"}]
[{"$f":"IF(ISBLANK('S9'!E$8),\" \",'S9'!E$8)","v":" "},{"$f":"IF(ISTEXT('S9'!$F$13),NA(),'S9'!$F$13)","v":{"$error":"#N/A"}},{"$error":"#N/A"},{"$f":"IF(ISTEXT('S9'!$F$14),NA(),'S9'!$F$14)","v":{"$error":"#N/A"}},{"$error":"#N/A"},{"$f":"IF(ISTEXT('S9'!$F$16),NA(),'S9'!$F$16)","v":{"$error":"#N/A"}},{"$error":"#N/A"},{"$f":"IF(ISTEXT('S9'!$F$17),NA(),'S9'!$F$17)","v":{"$error":"#N/A"}},{"$error":"#N/A"},{"$f":"IF(ISTEXT('S9'!$F$18),NA(),'S9'!$F$18)","v":{"$error":"#N/A"}},{"$error":"#N/A"}]
[{"$f":"IF(ISBLANK('S9'!G$8),\" \",'S9'!G$8)","v":" "},{"$f":"IF(ISTEXT('S9'!$H$13),NA(),'S9'!$H$13)","v":{"$error":"#N/A"}},{"$error":"#N/A"},{"$f":"IF(ISTEXT('S9'!$H$14),NA(),'S9'!$H$14)","v":{"$error":"#N/A"}},{"$error":"#N/A"},{"$f":"IF(ISTEXT('S9'!$H$16),NA(),'S9'!$H$16)","v":{"$error":"#N/A"}},{"$error":"#N/A"},{"$f":"IF(ISTEXT('S9'!$H$17),NA(),'S9'!$H$17)","v":{"$error":"#N/A"}},{"$error":"#N/A"},{"$f":"IF(ISTEXT('S9'!$H$18),NA(),'S9'!$H$18)","v":{"$error":"#N/A"}},{"$error":"#N/A"}]
[{"$f":"IF(ISBLANK('S9'!I$8),\" \",'S9'!I$8)","v":" "},{"$f":"IF(ISTEXT('S9'!$J$13),NA(),'S9'!$J$13)","v":{"$error":"#N/A"}},{"$error":"#N/A"},{"$f":"IF(ISTEXT('S9'!$J$14),NA(),'S9'!$J$14)","v":{"$error":"#N/A"}},{"$error":"#N/A"},{"$f":"IF(ISTEXT('S9'!$J$16),NA(),'S9'!$J$16)","v":{"$error":"#N/A"}},{"$error":"#N/A"},{"$f":"IF(ISTEXT('S9'!$J$17),NA(),'S9'!$J$17)","v":{"$error":"#N/A"}},{"$error":"#N/A"},{"$f":"IF(ISTEXT('S9'!$J$18),NA(),'S9'!$J$18)","v":{"$error":"#N/A"}},{"$error":"#N/A"}]
[{"$f":"IF(ISBLANK('S9'!K$8),\" \",'S9'!K$8)","v":" "},{"$f":"IF(ISTEXT('S9'!$L$13),NA(),'S9'!$L$13)","v":{"$error":"#N/A"}},{"$error":"#N/A"},{"$f":"IF(ISTEXT('S9'!$L$14),NA(),'S9'!$L$14)","v":{"$error":"#N/A"}},{"$error":"#N/A"},{"$f":"IF(ISTEXT('S9'!$L$16),NA(),'S9'!$L$16)","v":{"$error":"#N/A"}},{"$error":"#N/A"},{"$f":"IF(ISTEXT('S9'!$L$17),NA(),'S9'!$L$17)","v":{"$error":"#N/A"}},{"$error":"#N/A"},{"$f":"IF(ISTEXT('S9'!$L$18),NA(),'S9'!$L$18)","v":{"$error":"#N/A"}},{"$error":"#N/A"}]
[{"$f":"IF(ISBLANK('S9'!M$8),\" \",'S9'!M$8)","v":" "},{"$f":"IF(ISTEXT('S9'!$N$13),NA(),'S9'!$N$13)","v":{"$error":"#N/A"}},{"$error":"#N/A"},{"$f":"IF(ISTEXT('S9'!$N$14),NA(),'S9'!$N$14)","v":{"$error":"#N/A"}},{"$error":"#N/A"},{"$f":"IF(ISTEXT('S9'!$N$16),NA(),'S9'!$N$16)","v":{"$error":"#N/A"}},{"$error":"#N/A"},{"$f":"IF(ISTEXT('S9'!$N$17),NA(),'S9'!$N$17)","v":{"$error":"#N/A"}},{"$error":"#N/A"},{"$f":"IF(ISTEXT('S9'!$N$18),NA(),'S9'!$N$18)","v":{"$error":"#N/A"}},{"$error":"#N/A"}]
[{"$f":"IF(ISBLANK('S9'!C$28),\" \",'S9'!C$28)","v":" "},{"$f":"IF(ISTEXT('S9'!$D$33),NA(),'S9'!$D$33)","v":{"$error":"#N/A"}},{"$error":"#N/A"},{"$f":"IF(ISTEXT('S9'!$D$34),NA(),'S9'!$D$34)","v":{"$error":"#N/A"}},{"$error":"#N/A"},{"$f":"IF(ISTEXT('S9'!$D$36),NA(),'S9'!$D$36)","v":{"$error":"#N/A"}},{"$error":"#N/A"},{"$f":"IF(ISTEXT('S9'!$D$37),NA(),'S9'!$D$37)","v":{"$error":"#N/A"}},{"$error":"#N/A"},{"$f":"IF(ISTEXT('S9'!$D$38),NA(),'S9'!$D$38)","v":{"$error":"#N/A"}},{"$error":"#N/A"}]
[{"$f":"IF(ISBLANK('S9'!E$28),\" \",'S9'!E$28)","v":" "},{"$f":"IF(ISTEXT('S9'!$F$33),NA(),'S9'!$F$33)","v":{"$error":"#N/A"}},{"$error":"#N/A"},{"$f":"IF(ISTEXT('S9'!$F$34),NA(),'S9'!$F$34)","v":{"$error":"#N/A"}},{"$error":"#N/A"},{"$f":"IF(ISTEXT('S9'!$F$36),NA(),'S9'!$F$36)","v":{"$error":"#N/A"}},{"$error":"#N/A"},{"$f":"IF(ISTEXT('S9'!$F$37),NA(),'S9'!$F$37)","v":{"$error":"#N/A"}},{"$error":"#N/A"},{"$f":"IF(ISTEXT('S9'!$F$38),NA(),'S9'!$F$38)","v":{"$error":"#N/A"}},{"$error":"#N/A"}]
[{"$f":"IF(ISBLANK('S9'!G$28),\" \",'S9'!G$28)","v":" "},{"$f":"IF(ISTEXT('S9'!$H$33),NA(),'S9'!$H$33)","v":{"$error":"#N/A"}},{"$error":"#N/A"},{"$f":"IF(ISTEXT('S9'!$H$34),NA(),'S9'!$H$34)","v":{"$error":"#N/A"}},{"$error":"#N/A"},{"$f":"IF(ISTEXT('S9'!$H$36),NA(),'S9'!$H$36)","v":{"$error":"#N/A"}},{"$error":"#N/A"},{"$f":"IF(ISTEXT('S9'!$H$37),NA(),'S9'!$H$37)","v":{"$error":"#N/A"}},{"$error":"#N/A"},{"$f":"IF(ISTEXT('S9'!$H$38),NA(),'S9'!$H$38)","v":{"$error":"#N/A"}},{"$error":"#N/A"}]
[{"$f":"IF(ISBLANK('S9'!I$28),\" \",'S9'!I$28)","v":" "},{"$f":"IF(ISTEXT('S9'!$J$33),NA(),'S9'!$J$33)","v":{"$error":"#N/A"}},{"$error":"#N/A"},{"$f":"IF(ISTEXT('S9'!$J$34),NA(),'S9'!$J$34)","v":{"$error":"#N/A"}},{"$error":"#N/A"},{"$f":"IF(ISTEXT('S9'!$J$36),NA(),'S9'!$J$36)","v":{"$error":"#N/A"}},{"$error":"#N/A"},{"$f":"IF(ISTEXT('S9'!$J$37),NA(),'S9'!$J$37)","v":{"$error":"#N/A"}},{"$error":"#N/A"},{"$f":"IF(ISTEXT('S9'!$J$38),NA(),'S9'!$J$38)","v":{"$error":"#N/A"}},{"$error":"#N/A"}]
[{"$f":"IF(ISBLANK('S9'!K$28),\" \",'S9'!K$28)","v":" "},{"$f":"IF(ISTEXT('S9'!$L$33),NA(),'S9'!$L$33)","v":{"$error":"#N/A"}},{"$error":"#N/A"},{"$f":"IF(ISTEXT('S9'!$L$34),NA(),'S9'!$L$34)","v":{"$error":"#N/A"}},{"$error":"#N/A"},{"$f":"IF(ISTEXT('S9'!$L$36),NA(),'S9'!$L$36)","v":{"$error":"#N/A"}},{"$error":"#N/A"},{"$f":"IF(ISTEXT('S9'!$L$37),NA(),'S9'!$L$37)","v":{"$error":"#N/A"}},{"$error":"#N/A"},{"$f":"IF(ISTEXT('S9'!$L$38),NA(),'S9'!$L$38)","v":{"$error":"#N/A"}},{"$error":"#N/A"}]
[{"$f":"IF(ISBLANK('S9'!M$28),\" \",'S9'!M$28)","v":" "},{"$f":"IF(ISTEXT('S9'!$N$33),NA(),'S9'!$N$33)","v":{"$error":"#N/A"}},{"$error":"#N/A"},{"$f":"IF(ISTEXT('S9'!$N$34),NA(),'S9'!$N$34)","v":{"$error":"#N/A"}},{"$error":"#N/A"},{"$f":"IF(ISTEXT('S9'!$N$36),NA(),'S9'!$N$36)","v":{"$error":"#N/A"}},{"$error":"#N/A"},{"$f":"IF(ISTEXT('S9'!$N$37),NA(),'S9'!$N$37)","v":{"$error":"#N/A"}},{"$error":"#N/A"},{"$f":"IF(ISTEXT('S9'!$N$38),NA(),'S9'!$N$38)","v":{"$error":"#N/A"}},{"$error":"#N/A"}]
[{"$f":"IF(ISBLANK('S10'!C$8),\" \",'S10'!C$8)","v":" "},{"$f":"IF(ISTEXT('S10'!$D$13),NA(),'S10'!$D$13)","v":{"$error":"#N/A"}},{"$error":"#N/A"},{"$f":"IF(ISTEXT('S10'!$D$14),NA(),'S10'!$D$14)","v":{"$error":"#N/A"}},{"$error":"#N/A"},{"$f":"IF(ISTEXT('S10'!$D$16),NA(),'S10'!$D$16)","v":{"$error":"#N/A"}},{"$error":"#N/A"},{"$f":"IF(ISTEXT('S10'!$D$17),NA(),'S10'!$D$17)","v":{"$error":"#N/A"}},{"$error":"#N/A"},{"$f":"IF(ISTEXT('S10'!$D$18),NA(),'S10'!$D$18)","v":{"$error":"#N/A"}},{"$error":"#N/A"}]
[{"$f":"IF(ISBLANK('S10'!E$8),\" \",'S10'!E$8)","v":" "},{"$f":"IF(ISTEXT('S10'!$F$13),NA(),'S10'!$F$13)","v":{"$error":"#N/A"}},{"$error":"#N/A"},{"$f":"IF(ISTEXT('S10'!$F$14),NA(),'S10'!$F$14)","v":{"$error":"#N/A"}},{"$error":"#N/A"},{"$f":"IF(ISTEXT('S10'!$F$16),NA(),'S10'!$F$16)","v":{"$error":"#N/A"}},{"$error":"#N/A"},{"$f":"IF(ISTEXT('S10'!$F$17),NA(),'S10'!$F$17)","v":{"$error":"#N/A"}},{"$error":"#N/A"},{"$f":"IF(ISTEXT('S10'!$F$18),NA(),'S10'!$F$18)","v":{"$error":"#N/A"}},{"$error":"#N/A"}]
[{"$f":"IF(ISBLANK('S10'!G$8),\" \",'S10'!G$8)","v":" "},{"$f":"IF(ISTEXT('S10'!$H$13),NA(),'S10'!$H$13)","v":{"$error":"#N/A"}},{"$error":"#N/A"},{"$f":"IF(ISTEXT('S10'!$H$14),NA(),'S10'!$H$14)","v":{"$error":"#N/A"}},{"$error":"#N/A"},{"$f":"IF(ISTEXT('S10'!$H$16),NA(),'S10'!$H$16)","v":{"$error":"#N/A"}},{"$error":"#N/A"},{"$f":"IF(ISTEXT('S10'!$H$17),NA(),'S10'!$H$17)","v":{"$error":"#N/A"}},{"$error":"#N/A"},{"$f":"IF(ISTEXT('S10'!$H$18),NA(),'S10'!$H$18)","v":{"$error":"#N/A"}},{"$error":"#N/A"}]
[{"$f":"IF(ISBLANK('S10'!I$8),\" \",'S10'!I$8)","v":" "},{"$f":"IF(ISTEXT('S10'!$J$13),NA(),'S10'!$J$13)","v":{"$error":"#N/A"}},{"$error":"#N/A"},{"$f":"IF(ISTEXT('S10'!$J$14),NA(),'S10'!$J$14)","v":{"$error":"#N/A"}},{"$error":"#N/A"},{"$f":"IF(ISTEXT('S10'!$J$16),NA(),'S10'!$J$16)","v":{"$error":"#N/A"}},{"$error":"#N/A"},{"$f":"IF(ISTEXT('S10'!$J$17),NA(),'S10'!$J$17)","v":{"$error":"#N/A"}},{"$error":"#N/A"},{"$f":"IF(ISTEXT('S10'!$J$18),NA(),'S10'!$J$18)","v":{"$error":"#N/A"}},{"$error":"#N/A"}]
[{"$f":"IF(ISBLANK('S10'!K$8),\" \",'S10'!K$8)","v":" "},{"$f":"IF(ISTEXT('S10'!$L$13),NA(),'S10'!$L$13)","v":{"$error":"#N/A"}},{"$error":"#N/A"},{"$f":"IF(ISTEXT('S10'!$L$14),NA(),'S10'!$L$14)","v":{"$error":"#N/A"}},{"$error":"#N/A"},{"$f":"IF(ISTEXT('S10'!$L$16),NA(),'S10'!$L$16)","v":{"$error":"#N/A"}},{"$error":"#N/A"},{"$f":"IF(ISTEXT('S10'!$L$17),NA(),'S10'!$L$17)","v":{"$error":"#N/A"}},{"$error":"#N/A"},{"$f":"IF(ISTEXT('S10'!$L$18),NA(),'S10'!$L$18)","v":{"$error":"#N/A"}},{"$error":"#N/A"}]
[{"$f":"IF(ISBLANK('S10'!M$8),\" \",'S10'!M$8)","v":" "},{"$f":"IF(ISTEXT('S10'!$N$13),NA(),'S10'!$N$13)","v":{"$error":"#N/A"}},{"$error":"#N/A"},{"$f":"IF(ISTEXT('S10'!$N$14),NA(),'S10'!$N$14)","v":{"$error":"#N/A"}},{"$error":"#N/A"},{"$f":"IF(ISTEXT('S10'!$N$16),NA(),'S10'!$N$16)","v":{"$error":"#N/A"}},{"$error":"#N/A"},{"$f":"IF(ISTEXT('S10'!$N$17),NA(),'S10'!$N$17)","v":{"$error":"#N/A"}},{"$error":"#N/A"},{"$f":"IF(ISTEXT('S10'!$N$18),NA(),'S10'!$N$18)","v":{"$error":"#N/A"}},{"$error":"#N/A"}]
[{"$f":"IF(ISBLANK('S10'!C$28),\" \",'S10'!C$28)","v":" "},{"$f":"IF(ISTEXT('S10'!$D$33),NA(),'S10'!$D$33)","v":{"$error":"#N/A"}},{"$error":"#N/A"},{"$f":"IF(ISTEXT('S10'!$D$34),NA(),'S10'!$D$34)","v":{"$error":"#N/A"}},{"$error":"#N/A"},{"$f":"IF(ISTEXT('S10'!$D$36),NA(),'S10'!$D$36)","v":{"$error":"#N/A"}},{"$error":"#N/A"},{"$f":"IF(ISTEXT('S10'!$D$37),NA(),'S10'!$D$37)","v":{"$error":"#N/A"}},{"$error":"#N/A"},{"$f":"IF(ISTEXT('S10'!$D$38),NA(),'S10'!$D$38)","v":{"$error":"#N/A"}},{"$error":"#N/A"}]
[{"$f":"IF(ISBLANK('S10'!E$28),\" \",'S10'!E$28)","v":" "},{"$f":"IF(ISTEXT('S10'!$F$33),NA(),'S10'!$F$33)","v":{"$error":"#N/A"}},{"$error":"#N/A"},{"$f":"IF(ISTEXT('S10'!$F$34),NA(),'S10'!$F$34)","v":{"$error":"#N/A"}},{"$error":"#N/A"},{"$f":"IF(ISTEXT('S10'!$F$36),NA(),'S10'!$F$36)","v":{"$error":"#N/A"}},{"$error":"#N/A"},{"$f":"IF(ISTEXT('S10'!$F$37),NA(),'S10'!$F$37)","v":{"$error":"#N/A"}},{"$error":"#N/A"},{"$f":"IF(ISTEXT('S10'!$F$38),NA(),'S10'!$F$38)","v":{"$error":"#N/A"}},{"$error":"#N/A"}]
[{"$f":"IF(ISBLANK('S10'!G$28),\" \",'S10'!G$28)","v":" "},{"$f":"IF(ISTEXT('S10'!$H$33),NA(),'S10'!$H$33)","v":{"$error":"#N/A"}},{"$error":"#N/A"},{"$f":"IF(ISTEXT('S10'!$H$34),NA(),'S10'!$H$34)","v":{"$error":"#N/A"}},{"$error":"#N/A"},{"$f":"IF(ISTEXT('S10'!$H$36),NA(),'S10'!$H$36)","v":{"$error":"#N/A"}},{"$error":"#N/A"},{"$f":"IF(ISTEXT('S10'!$H$37),NA(),'S10'!$H$37)","v":{"$error":"#N/A"}},{"$error":"#N/A"},{"$f":"IF(ISTEXT('S10'!$H$38),NA(),'S10'!$H$38)","v":{"$error":"#N/A"}},{"$error":"#N/A"}]
[{"$f":"IF(ISBLANK('S10'!I$28),\" \",'S10'!I$28)","v":" "},{"$f":"IF(ISTEXT('S10'!$J$33),NA(),'S10'!$J$33)","v":{"$error":"#N/A"}},{"$error":"#N/A"},{"$f":"IF(ISTEXT('S10'!$J$34),NA(),'S10'!$J$34)","v":{"$error":"#N/A"}},{"$error":"#N/A"},{"$f":"IF(ISTEXT('S10'!$J$36),NA(),'S10'!$J$36)","v":{"$error":"#N/A"}},{"$error":"#N/A"},{"$f":"IF(ISTEXT('S10'!$J$37),NA(),'S10'!$J$37)","v":{"$error":"#N/A"}},{"$error":"#N/A"},{"$f":"IF(ISTEXT('S10'!$J$38),NA(),'S10'!$J$38)","v":{"$error":"#N/A"}},{"$error":"#N/A"}]
[{"$f":"IF(ISBLANK('S10'!K$28),\" \",'S10'!K$28)","v":" "},{"$f":"IF(ISTEXT('S10'!$L$33),NA(),'S10'!$L$33)","v":{"$error":"#N/A"}},{"$error":"#N/A"},{"$f":"IF(ISTEXT('S10'!$L$34),NA(),'S10'!$L$34)","v":{"$error":"#N/A"}},{"$error":"#N/A"},{"$f":"IF(ISTEXT('S10'!$L$36),NA(),'S10'!$L$36)","v":{"$error":"#N/A"}},{"$error":"#N/A"},{"$f":"IF(ISTEXT('S10'!$L$37),NA(),'S10'!$L$37)","v":{"$error":"#N/A"}},{"$error":"#N/A"},{"$f":"IF(ISTEXT('S10'!$L$38),NA(),'S10'!$L$38)","v":{"$error":"#N/A"}},{"$error":"#N/A"}]
[{"$f":"IF(ISBLANK('S10'!M$28),\" \",'S10'!M$28)","v":" "},{"$f":"IF(ISTEXT('S10'!$N$33),NA(),'S10'!$N$33)","v":{"$error":"#N/A"}},{"$error":"#N/A"},{"$f":"IF(ISTEXT('S10'!$N$34),NA(),'S10'!$N$34)","v":{"$error":"#N/A"}},{"$error":"#N/A"},{"$f":"IF(ISTEXT('S10'!$N$36),NA(),'S10'!$N$36)","v":{"$error":"#N/A"}},{"$error":"#N/A"},{"$f":"IF(ISTEXT('S10'!$N$37),NA(),'S10'!$N$37)","v":{"$error":"#N/A"}},{"$error":"#N/A"},{"$f":"IF(ISTEXT('S10'!$N$38),NA(),'S10'!$N$38)","v":{"$error":"#N/A"}},{"$error":"#N/A"}]
[{"$f":"IF(ISBLANK('S11'!C$8),\" \",'S11'!C$8)","v":" "},{"$f":"IF(ISTEXT('S11'!$D$13),NA(),'S11'!$D$13)","v":{"$error":"#N/A"}},{"$error":"#N/A"},{"$f":"IF(ISTEXT('S11'!$D$14),NA(),'S11'!$D$14)","v":{"$error":"#N/A"}},{"$error":"#N/A"},{"$f":"IF(ISTEXT('S11'!$D$16),NA(),'S11'!$D$16)","v":{"$error":"#N/A"}},{"$error":"#N/A"},{"$f":"IF(ISTEXT('S11'!$D$17),NA(),'S11'!$D$17)","v":{"$error":"#N/A"}},{"$error":"#N/A"},{"$f":"IF(ISTEXT('S11'!$D$18),NA(),'S11'!$D$18)","v":{"$error":"#N/A"}},{"$error":"#N/A"}]
[{"$f":"IF(ISBLANK('S11'!E$8),\" \",'S11'!E$8)","v":" "},{"$f":"IF(ISTEXT('S11'!$F$13),NA(),'S11'!$F$13)","v":{"$error":"#N/A"}},{"$error":"#N/A"},{"$f":"IF(ISTEXT('S11'!$F$14),NA(),'S11'!$F$14)","v":{"$error":"#N/A"}},{"$error":"#N/A"},{"$f":"IF(ISTEXT('S11'!$F$16),NA(),'S11'!$F$16)","v":{"$error":"#N/A"}},{"$error":"#N/A"},{"$f":"IF(ISTEXT('S11'!$F$17),NA(),'S11'!$F$17)","v":{"$error":"#N/A"}},{"$error":"#N/A"},{"$f":"IF(ISTEXT('S11'!$F$18),NA(),'S11'!$F$18)","v":{"$error":"#N/A"}},{"$error":"#N/A"}]
[{"$f":"IF(ISBLANK('S11'!G$8),\" \",'S11'!G$8)","v":" "},{"$f":"IF(ISTEXT('S11'!$H$13),NA(),'S11'!$H$13)","v":{"$error":"#N/A"}},{"$error":"#N/A"},{"$f":"IF(ISTEXT('S11'!$H$14),NA(),'S11'!$H$14)","v":{"$error":"#N/A"}},{"$error":"#N/A"},{"$f":"IF(ISTEXT('S11'!$H$16),NA(),'S11'!$H$16)","v":{"$error":"#N/A"}},{"$error":"#N/A"},{"$f":"IF(ISTEXT('S11'!$H$17),NA(),'S11'!$H$17)","v":{"$error":"#N/A"}},{"$error":"#N/A"},{"$f":"IF(ISTEXT('S11'!$H$18),NA(),'S11'!$H$18)","v":{"$error":"#N/A"}},{"$error":"#N/A"}]
[{"$f":"IF(ISBLANK('S11'!I$8),\" \",'S11'!I$8)","v":" "},{"$f":"IF(ISTEXT('S11'!$J$13),NA(),'S11'!$J$13)","v":{"$error":"#N/A"}},{"$f":"ROUND(AVERAGE(B124:B126),0)","v":{"$error":"#N/A"}},{"$f":"IF(ISTEXT('S11'!$J$14),NA(),'S11'!$J$14)","v":{"$error":"#N/A"}},{"$error":"#N/A"},{"$f":"IF(ISTEXT('S11'!$J$16),NA(),'S11'!$J$16)","v":{"$error":"#N/A"}},{"$error":"#N/A"},{"$f":"IF(ISTEXT('S11'!$J$17),NA(),'S11'!$J$17)","v":{"$error":"#N/A"}},{"$error":"#N/A"},{"$f":"IF(ISTEXT('S11'!$J$18),NA(),'S11'!$J$18)","v":{"$error":"#N/A"}},{"$error":"#N/A"}]
[{"$f":"IF(ISBLANK('S11'!K$8),\" \",'S11'!K$8)","v":" "},{"$f":"IF(ISTEXT('S11'!$L$13),NA(),'S11'!$L$13)","v":{"$error":"#N/A"}},{"$error":"#N/A"},{"$f":"IF(ISTEXT('S11'!$L$14),NA(),'S11'!$L$14)","v":{"$error":"#N/A"}},{"$error":"#N/A"},{"$f":"IF(ISTEXT('S11'!$L$16),NA(),'S11'!$L$16)","v":{"$error":"#N/A"}},{"$error":"#N/A"},{"$f":"IF(ISTEXT('S11'!$L$17),NA(),'S11'!$L$17)","v":{"$error":"#N/A"}},{"$error":"#N/A"},{"$f":"IF(ISTEXT('S11'!$L$18),NA(),'S11'!$L$18)","v":{"$error":"#N/A"}},{"$error":"#N/A"}]
[{"$f":"IF(ISBLANK('S11'!M$8),\" \",'S11'!M$8)","v":" "},{"$f":"IF(ISTEXT('S11'!$N$13),NA(),'S11'!$N$13)","v":{"$error":"#N/A"}},{"$error":"#N/A"},{"$f":"IF(ISTEXT('S11'!$N$14),NA(),'S11'!$N$14)","v":{"$error":"#N/A"}},{"$error":"#N/A"},{"$f":"IF(ISTEXT('S11'!$N$16),NA(),'S11'!$N$16)","v":{"$error":"#N/A"}},{"$error":"#N/A"},{"$f":"IF(ISTEXT('S11'!$N$17),NA(),'S11'!$N$17)","v":{"$error":"#N/A"}},{"$error":"#N/A"},{"$f":"IF(ISTEXT('S11'!$N$18),NA(),'S11'!$N$18)","v":{"$error":"#N/A"}},{"$error":"#N/A"}]
[{"$f":"IF(ISBLANK('S11'!C$28),\" \",'S11'!C$28)","v":" "},{"$f":"IF(ISTEXT('S11'!$D$33),NA(),'S11'!$D$33)","v":{"$error":"#N/A"}},{"$error":"#N/A"},{"$f":"IF(ISTEXT('S11'!$D$34),NA(),'S11'!$D$34)","v":{"$error":"#N/A"}},{"$error":"#N/A"},{"$f":"IF(ISTEXT('S11'!$D$36),NA(),'S11'!$D$36)","v":{"$error":"#N/A"}},{"$error":"#N/A"},{"$f":"IF(ISTEXT('S11'!$D$37),NA(),'S11'!$D$37)","v":{"$error":"#N/A"}},{"$error":"#N/A"},{"$f":"IF(ISTEXT('S11'!$D$38),NA(),'S11'!$D$38)","v":{"$error":"#N/A"}},{"$error":"#N/A"}]
[{"$f":"IF(ISBLANK('S11'!E$28),\" \",'S11'!E$28)","v":" "},{"$f":"IF(ISTEXT('S11'!$F$33),NA(),'S11'!$F$33)","v":{"$error":"#N/A"}},{"$error":"#N/A"},{"$f":"IF(ISTEXT('S11'!$F$34),NA(),'S11'!$F$34)","v":{"$error":"#N/A"}},{"$error":"#N/A"},{"$f":"IF(ISTEXT('S11'!$F$36),NA(),'S11'!$F$36)","v":{"$error":"#N/A"}},{"$error":"#N/A"},{"$f":"IF(ISTEXT('S11'!$F$37),NA(),'S11'!$F$37)","v":{"$error":"#N/A"}},{"$error":"#N/A"},{"$f":"IF(ISTEXT('S11'!$F$38),NA(),'S11'!$F$38)","v":{"$error":"#N/A"}},{"$error":"#N/A"}]
[{"$f":"IF(ISBLANK('S11'!G$28),\" \",'S11'!G$28)","v":" "},{"$f":"IF(ISTEXT('S11'!$H$33),NA(),'S11'!$H$33)","v":{"$error":"#N/A"}},{"$error":"#N/A"},{"$f":"IF(ISTEXT('S11'!$H$34),NA(),'S11'!$H$34)","v":{"$error":"#N/A"}},{"$error":"#N/A"},{"$f":"IF(ISTEXT('S11'!$H$36),NA(),'S11'!$H$36)","v":{"$error":"#N/A"}},{"$error":"#N/A"},{"$f":"IF(ISTEXT('S11'!$H$37),NA(),'S11'!$H$37)","v":{"$error":"#N/A"}},{"$error":"#N/A"},{"$f":"IF(ISTEXT('S11'!$H$38),NA(),'S11'!$H$38)","v":{"$error":"#N/A"}},{"$error":"#N/A"}]
[{"$f":"IF(ISBLANK('S11'!I$28),\" \",'S11'!I$28)","v":" "},{"$f":"IF(ISTEXT('S11'!$J$33),NA(),'S11'!$J$33)","v":{"$error":"#N/A"}},{"$error":"#N/A"},{"$f":"IF(ISTEXT('S11'!$J$34),NA(),'S11'!$J$34)","v":{"$error":"#N/A"}},{"$error":"#N/A"},{"$f":"IF(ISTEXT('S11'!$J$36),NA(),'S11'!$J$36)","v":{"$error":"#N/A"}},{"$error":"#N/A"},{"$f":"IF(ISTEXT('S11'!$J$37),NA(),'S11'!$J$37)","v":{"$error":"#N/A"}},{"$error":"#N/A"},{"$f":"IF(ISTEXT('S11'!$J$38),NA(),'S11'!$J$38)","v":{"$error":"#N/A"}},{"$error":"#N/A"}]
[{"$f":"IF(ISBLANK('S11'!K$28),\" \",'S11'!K$28)","v":" "},{"$f":"IF(ISTEXT('S11'!$L$33),NA(),'S11'!$L$33)","v":{"$error":"#N/A"}},{"$error":"#N/A"},{"$f":"IF(ISTEXT('S11'!$L$34),NA(),'S11'!$L$34)","v":{"$error":"#N/A"}},{"$f":"ROUND(AVERAGE(D131:D133),0)","v":{"$error":"#N/A"}},{"$f":"IF(ISTEXT('S11'!$L$36),NA(),'S11'!$L$36)","v":{"$error":"#N/A"}},{"$f":"ROUND(AVERAGE(F131:F133),0)","v":{"$error":"#N/A"}},{"$f":"IF(ISTEXT('S11'!$L$37),NA(),'S11'!$L$37)","v":{"$error":"#N/A"}},{"$f":"ROUND(AVERAGE(H131:H133),0)","v":{"$error":"#N/A"}},{"$f":"IF(ISTEXT('S11'!$L$38),NA(),'S11'!$L$38)","v":{"$error":"#N/A"}},{"$f":"ROUND(AVERAGE(J131:J133),0)","v":{"$error":"#N/A"}}]
[{"$f":"IF(ISBLANK('S11'!M$28),\" \",'S11'!M$28)","v":" "},{"$f":"IF(ISTEXT('S11'!$N$33),NA(),'S11'!$N$33)","v":{"$error":"#N/A"}},{"$error":"#N/A"},{"$f":"IF(ISTEXT('S11'!$N$34),NA(),'S11'!$N$34)","v":{"$error":"#N/A"}},{"$error":"#N/A"},{"$f":"IF(ISTEXT('S11'!$N$36),NA(),'S11'!$N$36)","v":{"$error":"#N/A"}},{"$error":"#N/A"},{"$f":"IF(ISTEXT('S11'!$N$37),NA(),'S11'!$N$37)","v":{"$error":"#N/A"}},{"$error":"#N/A"},{"$f":"IF(ISTEXT('S11'!$N$38),NA(),'S11'!$N$38)","v":{"$error":"#N/A"}},{"$error":"#N/A"}]
[{"$f":"IF(ISBLANK('S12'!C$8),\" \",'S12'!C$8)","v":" "},{"$f":"IF(ISTEXT('S12'!$D$13),NA(),'S12'!$D$13)","v":{"$error":"#N/A"}},{"$error":"#N/A"},{"$f":"IF(ISTEXT('S12'!$D$14),NA(),'S12'!$D$14)","v":{"$error":"#N/A"}},{"$error":"#N/A"},{"$f":"IF(ISTEXT('S12'!$D$16),NA(),'S12'!$D$16)","v":{"$error":"#N/A"}},{"$error":"#N/A"},{"$f":"IF(ISTEXT('S12'!$D$17),NA(),'S12'!$D$17)","v":{"$error":"#N/A"}},{"$error":"#N/A"},{"$f":"IF(ISTEXT('S12'!$D$18),NA(),'S12'!$D$18)","v":{"$error":"#N/A"}},{"$error":"#N/A"}]
[{"$f":"IF(ISBLANK('S12'!E$8),\" \",'S12'!E$8)","v":" "},{"$f":"IF(ISTEXT('S12'!$F$13),NA(),'S12'!$F$13)","v":{"$error":"#N/A"}},{"$error":"#N/A"},{"$f":"IF(ISTEXT('S12'!$F$14),NA(),'S12'!$F$14)","v":{"$error":"#N/A"}},{"$error":"#N/A"},{"$f":"IF(ISTEXT('S12'!$F$16),NA(),'S12'!$F$16)","v":{"$error":"#N/A"}},{"$error":"#N/A"},{"$f":"IF(ISTEXT('S12'!$F$17),NA(),'S12'!$F$17)","v":{"$error":"#N/A"}},{"$error":"#N/A"},{"$f":"IF(ISTEXT('S12'!$F$18),NA(),'S12'!$F$18)","v":{"$error":"#N/A"}},{"$error":"#N/A"}]
[{"$f":"IF(ISBLANK('S12'!G$8),\" \",'S12'!G$8)","v":" "},{"$f":"IF(ISTEXT('S12'!$H$13),NA(),'S12'!$H$13)","v":{"$error":"#N/A"}},{"$error":"#N/A"},{"$f":"IF(ISTEXT('S12'!$H$14),NA(),'S12'!$H$14)","v":{"$error":"#N/A"}},{"$error":"#N/A"},{"$f":"IF(ISTEXT('S12'!$H$16),NA(),'S12'!$H$16)","v":{"$error":"#N/A"}},{"$error":"#N/A"},{"$f":"IF(ISTEXT('S12'!$H$17),NA(),'S12'!$H$17)","v":{"$error":"#N/A"}},{"$error":"#N/A"},{"$f":"IF(ISTEXT('S12'!$H$18),NA(),'S12'!$H$18)","v":{"$error":"#N/A"}},{"$error":"#N/A"}]
[{"$f":"IF(ISBLANK('S12'!I$8),\" \",'S12'!I$8)","v":" "},{"$f":"IF(ISTEXT('S12'!$J$13),NA(),'S12'!$J$13)","v":{"$error":"#N/A"}},{"$error":"#N/A"},{"$f":"IF(ISTEXT('S12'!$J$14),NA(),'S12'!$J$14)","v":{"$error":"#N/A"}},{"$error":"#N/A"},{"$f":"IF(ISTEXT('S12'!$J$16),NA(),'S12'!$J$16)","v":{"$error":"#N/A"}},{"$error":"#N/A"},{"$f":"IF(ISTEXT('S12'!$J$17),NA(),'S12'!$J$17)","v":{"$error":"#N/A"}},{"$error":"#N/A"},{"$f":"IF(ISTEXT('S12'!$J$18),NA(),'S12'!$J$18)","v":{"$error":"#N/A"}},{"$error":"#N/A"}]
[{"$f":"IF(ISBLANK('S12'!K$8),\" \",'S12'!K$8)","v":" "},{"$f":"IF(ISTEXT('S12'!$L$13),NA(),'S12'!$L$13)","v":{"$error":"#N/A"}},{"$error":"#N/A"},{"$f":"IF(ISTEXT('S12'!$L$14),NA(),'S12'!$L$14)","v":{"$error":"#N/A"}},{"$error":"#N/A"},{"$f":"IF(ISTEXT('S12'!$L$16),NA(),'S12'!$L$16)","v":{"$error":"#N/A"}},{"$error":"#N/A"},{"$f":"IF(ISTEXT('S12'!$L$17),NA(),'S12'!$L$17)","v":{"$error":"#N/A"}},{"$error":"#N/A"},{"$f":"IF(ISTEXT('S12'!$L$18),NA(),'S12'!$L$18)","v":{"$error":"#N/A"}},{"$error":"#N/A"}]
[{"$f":"IF(ISBLANK('S12'!M$8),\" \",'S12'!M$8)","v":" "},{"$f":"IF(ISTEXT('S12'!$N$13),NA(),'S12'!$N$13)","v":{"$error":"#N/A"}},{"$error":"#N/A"},{"$f":"IF(ISTEXT('S12'!$N$14),NA(),'S12'!$N$14)","v":{"$error":"#N/A"}},{"$error":"#N/A"},{"$f":"IF(ISTEXT('S12'!$N$16),NA(),'S12'!$N$16)","v":{"$error":"#N/A"}},{"$error":"#N/A"},{"$f":"IF(ISTEXT('S12'!$N$17),NA(),'S12'!$N$17)","v":{"$error":"#N/A"}},{"$error":"#N/A"},{"$f":"IF(ISTEXT('S12'!$N$18),NA(),'S12'!$N$18)","v":{"$error":"#N/A"}},{"$error":"#N/A"}]
[{"$f":"IF(ISBLANK('S12'!C$28),\" \",'S12'!C$28)","v":" "},{"$f":"IF(ISTEXT('S12'!$D$33),NA(),'S12'!$D$33)","v":{"$error":"#N/A"}},{"$error":"#N/A"},{"$f":"IF(ISTEXT('S12'!$D$34),NA(),'S12'!$D$34)","v":{"$error":"#N/A"}},{"$error":"#N/A"},{"$f":"IF(ISTEXT('S12'!$D$36),NA(),'S12'!$D$36)","v":{"$error":"#N/A"}},{"$error":"#N/A"},{"$f":"IF(ISTEXT('S12'!$D$37),NA(),'S12'!$D$37)","v":{"$error":"#N/A"}},{"$error":"#N/A"},{"$f":"IF(ISTEXT('S12'!$D$38),NA(),'S12'!$D$38)","v":{"$error":"#N/A"}},{"$error":"#N/A"}]
[{"$f":"IF(ISBLANK('S12'!E$28),\" \",'S12'!E$28)","v":" "},{"$f":"IF(ISTEXT('S12'!$F$33),NA(),'S12'!$F$33)","v":{"$error":"#N/A"}},{"$error":"#N/A"},{"$f":"IF(ISTEXT('S12'!$F$34),NA(),'S12'!$F$34)","v":{"$error":"#N/A"}},{"$error":"#N/A"},{"$f":"IF(ISTEXT('S12'!$F$36),NA(),'S12'!$F$36)","v":{"$error":"#N/A"}},{"$error":"#N/A"},{"$f":"IF(ISTEXT('S12'!$F$37),NA(),'S12'!$F$37)","v":{"$error":"#N/A"}},{"$error":"#N/A"},{"$f":"IF(ISTEXT('S12'!$F$38),NA(),'S12'!$F$38)","v":{"$error":"#N/A"}},{"$error":"#N/A"}]
[{"$f":"IF(ISBLANK('S12'!G$28),\" \",'S12'!G$28)","v":" "},{"$f":"IF(ISTEXT('S12'!$H$33),NA(),'S12'!$H$33)","v":{"$error":"#N/A"}},{"$error":"#N/A"},{"$f":"IF(ISTEXT('S12'!$H$34),NA(),'S12'!$H$34)","v":{"$error":"#N/A"}},{"$error":"#N/A"},{"$f":"IF(ISTEXT('S12'!$H$36),NA(),'S12'!$H$36)","v":{"$error":"#N/A"}},{"$error":"#N/A"},{"$f":"IF(ISTEXT('S12'!$H$37),NA(),'S12'!$H$37)","v":{"$error":"#N/A"}},{"$error":"#N/A"},{"$f":"IF(ISTEXT('S12'!$H$38),NA(),'S12'!$H$38)","v":{"$error":"#N/A"}},{"$error":"#N/A"}]
[{"$f":"IF(ISBLANK('S12'!I$28),\" \",'S12'!I$28)","v":" "},{"$f":"IF(ISTEXT('S12'!$J$33),NA(),'S12'!$J$33)","v":{"$error":"#N/A"}},{"$error":"#N/A"},{"$f":"IF(ISTEXT('S12'!$J$34),NA(),'S12'!$J$34)","v":{"$error":"#N/A"}},{"$error":"#N/A"},{"$f":"IF(ISTEXT('S12'!$J$36),NA(),'S12'!$J$36)","v":{"$error":"#N/A"}},{"$error":"#N/A"},{"$f":"IF(ISTEXT('S12'!$J$37),NA(),'S12'!$J$37)","v":{"$error":"#N/A"}},{"$error":"#N/A"},{"$f":"IF(ISTEXT('S12'!$J$38),NA(),'S12'!$J$38)","v":{"$error":"#N/A"}},{"$error":"#N/A"}]
[{"$f":"IF(ISBLANK('S12'!K$28),\" \",'S12'!K$28)","v":" "},{"$f":"IF(ISTEXT('S12'!$L$33),NA(),'S12'!$L$33)","v":{"$error":"#N/A"}},{"$error":"#N/A"},{"$f":"IF(ISTEXT('S12'!$L$34),NA(),'S12'!$L$34)","v":{"$error":"#N/A"}},{"$error":"#N/A"},{"$f":"IF(ISTEXT('S12'!$L$36),NA(),'S12'!$L$36)","v":{"$error":"#N/A"}},{"$error":"#N/A"},{"$f":"IF(ISTEXT('S12'!$L$37),NA(),'S12'!$L$37)","v":{"$error":"#N/A"}},{"$error":"#N/A"},{"$f":"IF(ISTEXT('S12'!$L$38),NA(),'S12'!$L$38)","v":{"$error":"#N/A"}},{"$error":"#N/A"}]
[{"$f":"IF(ISBLANK('S12'!M$28),\" \",'S12'!M$28)","v":" "},{"$f":"IF(ISTEXT('S12'!$N$33),NA(),'S12'!$N$33)","v":{"$error":"#N/A"}},{"$error":"#N/A"},{"$f":"IF(ISTEXT('S12'!$N$34),NA(),'S12'!$N$34)","v":{"$error":"#N/A"}},{"$error":"#N/A"},{"$f":"IF(ISTEXT('S12'!$N$36),NA(),'S12'!$N$36)","v":{"$error":"#N/A"}},{"$error":"#N/A"},{"$f":"IF(ISTEXT('S12'!$N$37),NA(),'S12'!$N$37)","v":{"$error":"#N/A"}},{"$error":"#N/A"},{"$f":"IF(ISTEXT('S12'!$N$38),NA(),'S12'!$N$38)","v":{"$error":"#N/A"}},{"$error":"#N/A"}]

{"sheet":"AP","index":21,"n_rows":26,"n_cols":14,"rows_kept":26,"cut":false,"hidden":true,"merged":[[16,7,18,7],[20,7,22,7],[0,6,1,6],[0,1,0,3],[4,7,6,7],[8,7,10,7],[12,7,14,7]]}
[null,0.375,null,null,null,null,"200 Top Action"]
[null,"Top","Bottom","Target"]
[null,{"$f":"'S1'!L$5+'Critical screen tolerances'!C9","v":42},{"$f":"'S1'!L$5-'Critical screen tolerances'!C10","v":28},{"$f":"'S1'!$L$5","v":35},"Min",0,{"$f":"IF('S1'!L6=\"0-1.0\",'Critical screen tolerances'!D14,IF('S1'!L6=\"0-1\",'Critical screen tolerances'!D13,IF('S1'!L6=\"0-2\",'Critical screen tolerances'!D15,IF('S1'!L6=\"0-2.0\",'Critical screen tolerances'!D16,IF('S1'!L6,\" \",\" \")))))","v":" "}]
[null,{"$f":"B$3","v":42},{"$f":"C$3","v":28},{"$f":"D$3","v":35},"Max",2.6,{"$f":"G$3","v":" "}]
[null,{"$f":"B$3","v":42},28,35,"Maj",0.2,{"$f":"G$4","v":" "},1,"Max",105]
[null,42,28,35,"Minor",0.1,{"$f":"G$4","v":" "}]
[null,42,28,35,"Cross",0," ",null,"Min",95]
[null,42,28,35,null,null," "]
[null,42,28,35,null,null," ",0.75,"Max",100]
[null,42,28,35,null,null," "]
[null,42,28,35,null,null," ",null,"Min",85]
[null,42,28,35,null,null," "]
[null,42,28,35,null,null," ",0.375,"Max",55]
[null,42,28,35,null,null," "]
[null,42,28,35,null,null," ",null,"Min",20]
[null,42,28,35,null,null," "]
[null,42,28,35,null,null," ",4,"Max",10]
[null,42,28,35,null,null," "]
[null,42,28,35,null,null," ",null,"Min",0]
[null,42,28,35,null,null," ",null,null,null,null,null,null,"`"]
[null,42,28,35,null,null," ",5,"Max",5]
[null,42,28,35,null,null," "]
[null,42,28,35,null,null," ",null,"Min",0]
[null,42,28,35,null,null," "]
[null,42,28,35,null,null," "]
[null,42,28,35,null,null," "]

{"sheet":"ST1","index":22,"n_rows":148,"n_cols":8,"rows_kept":148,"cut":false,"hidden":true,"merged":[]}
[]
[]
[]
["Samp #",200,8,4,0.375,0.5,0.75,1]
[1,{"$f":"'S1'!$D$22","v":" "},{"$f":"'S1'!$D$18","v":"  "},{"$f":"'S1'!$D$17","v":"  "},{"$f":"'S1'!$D$16","v":"  "},{"$f":"'S1'!$D$15","v":"  "},{"$f":"'S1'!$D$14","v":"  "},{"$f":"'S1'!$D$13","v":"  "}]
[2,{"$f":"'S1'!$F$22","v":" "},{"$f":"'S1'!$F$18","v":"  "},{"$f":"'S1'!$F$17","v":"  "},{"$f":"'S1'!$F$16","v":"  "},{"$f":"'S1'!$F$15","v":"  "},{"$f":"'S1'!$F$14","v":"  "},{"$f":"'S1'!$F$13","v":"  "}]
[3,{"$f":"'S1'!$H$22","v":" "},{"$f":"'S1'!$H$18","v":"  "},{"$f":"'S1'!$H$17","v":"  "},{"$f":"'S1'!$H$16","v":"  "},{"$f":"'S1'!$H$15","v":"  "},{"$f":"'S1'!$H$14","v":"  "},{"$f":"'S1'!$H$13","v":"  "}]
[4,{"$f":"'S1'!$J$22","v":" "},{"$f":"'S1'!$J$18","v":"  "},{"$f":"'S1'!$J$17","v":"  "},{"$f":"'S1'!$J$16","v":"  "},{"$f":"'S1'!$J$15","v":"  "},{"$f":"'S1'!$J$14","v":"  "},{"$f":"'S1'!$J$13","v":"  "}]
[5,{"$f":"'S1'!$L$22","v":" "},{"$f":"'S1'!$L$18","v":"  "},{"$f":"'S1'!$L$17","v":"  "},{"$f":"'S1'!$L$16","v":"  "},{"$f":"'S1'!$L$15","v":"  "},{"$f":"'S1'!$L$14","v":"  "},{"$f":"'S1'!$L$13","v":"  "}]
[6,{"$f":"'S1'!$N$22","v":" "},{"$f":"'S1'!$N$18","v":"  "},{"$f":"'S1'!$N$17","v":"  "},{"$f":"'S1'!$N$16","v":"  "},{"$f":"'S1'!$N$15","v":"  "},{"$f":"'S1'!$N$14","v":"  "},{"$f":"'S1'!$N$13","v":"  "}]
[7,{"$f":"'S1'!$D$42","v":" "},{"$f":"'S1'!$D$38","v":"  "},{"$f":"'S1'!$D$37","v":"  "},{"$f":"'S1'!$D$36","v":"  "},{"$f":"'S1'!$D$35","v":"  "},{"$f":"'S1'!$D$34","v":"  "},{"$f":"'S1'!$D$33","v":"  "}]
[8,{"$f":"'S1'!$F$42","v":" "},{"$f":"'S1'!$F$38","v":"  "},{"$f":"'S1'!$F$37","v":"  "},{"$f":"'S1'!$F$36","v":"  "},{"$f":"'S1'!$F$35","v":"  "},{"$f":"'S1'!$F$34","v":"  "},{"$f":"'S1'!$F$33","v":"  "}]
[9,{"$f":"'S1'!$H$42","v":" "},{"$f":"'S1'!$H$38","v":"  "},{"$f":"'S1'!$H$37","v":"  "},{"$f":"'S1'!$H$36","v":"  "},{"$f":"'S1'!$H$35","v":"  "},{"$f":"'S1'!$H$34","v":"  "},{"$f":"'S1'!$H$33","v":"  "}]
[10,{"$f":"'S1'!$J$42","v":" "},{"$f":"'S1'!$J$38","v":"  "},{"$f":"'S1'!$J$37","v":"  "},{"$f":"'S1'!$J$36","v":"  "},{"$f":"'S1'!$J$35","v":"  "},{"$f":"'S1'!$J$34","v":"  "},{"$f":"'S1'!$J$33","v":"  "}]
[11,{"$f":"'S1'!$L$42","v":" "},{"$f":"'S1'!$L$38","v":"  "},{"$f":"'S1'!$L$37","v":"  "},{"$f":"'S1'!$L$36","v":"  "},{"$f":"'S1'!$L$35","v":"  "},{"$f":"'S1'!$L$34","v":"  "},{"$f":"'S1'!$L$33","v":"  "}]
[12,{"$f":"'S1'!$N$42","v":" "},{"$f":"'S1'!$N$38","v":"  "},{"$f":"'S1'!$N$37","v":"  "},{"$f":"'S1'!$N$36","v":"  "},{"$f":"'S1'!$N$35","v":"  "},{"$f":"'S1'!$N$34","v":"  "},{"$f":"'S1'!$N$33","v":"  "}]
[13,{"$f":"'S2'!$D$22","v":" "},{"$f":"'S2'!$D$18","v":"  "},{"$f":"'S2'!$D$17","v":"  "},{"$f":"'S2'!$D$16","v":"  "},{"$f":"'S2'!$D$15","v":"  "},{"$f":"'S2'!$D$14","v":"  "},{"$f":"'S2'!$D$13","v":"  "}]
[14,{"$f":"'S2'!$F$22","v":" "},{"$f":"'S2'!$F$18","v":"  "},{"$f":"'S2'!$F$17","v":"  "},{"$f":"'S2'!$F$16","v":"  "},{"$f":"'S2'!$F$15","v":"  "},{"$f":"'S2'!$F$14","v":"  "},{"$f":"'S2'!$F$13","v":"  "}]
[15,{"$f":"'S2'!$H$22","v":" "},{"$f":"'S2'!$H$18","v":"  "},{"$f":"'S2'!$H$17","v":"  "},{"$f":"'S2'!$H$16","v":"  "},{"$f":"'S2'!$H$15","v":"  "},{"$f":"'S2'!$H$14","v":"  "},{"$f":"'S2'!$H$13","v":"  "}]
[16,{"$f":"'S2'!$J$22","v":" "},{"$f":"'S2'!$J$18","v":"  "},{"$f":"'S2'!$J$17","v":"  "},{"$f":"'S2'!$J$16","v":"  "},{"$f":"'S2'!$J$15","v":"  "},{"$f":"'S2'!$J$14","v":"  "},{"$f":"'S2'!$J$13","v":"  "}]
[17,{"$f":"'S2'!$L$22","v":" "},{"$f":"'S2'!$L$18","v":"  "},{"$f":"'S2'!$L$17","v":"  "},{"$f":"'S2'!$L$16","v":"  "},{"$f":"'S2'!$L$15","v":"  "},{"$f":"'S2'!$L$14","v":"  "},{"$f":"'S2'!$L$13","v":"  "}]
[18,{"$f":"'S2'!$N$22","v":" "},{"$f":"'S2'!$N$18","v":"  "},{"$f":"'S2'!$N$17","v":"  "},{"$f":"'S2'!$N$16","v":"  "},{"$f":"'S2'!$N$15","v":"  "},{"$f":"'S2'!$N$14","v":"  "},{"$f":"'S2'!$N$13","v":"  "}]
[19,{"$f":"'S2'!$D$42","v":" "},{"$f":"'S2'!$D$38","v":"  "},{"$f":"'S2'!$D$37","v":"  "},{"$f":"'S2'!$D$36","v":"  "},{"$f":"'S2'!$D$35","v":"  "},{"$f":"'S2'!$D$34","v":"  "},{"$f":"'S2'!$D$33","v":"  "}]
[20,{"$f":"'S2'!$F$42","v":" "},{"$f":"'S2'!$F$38","v":"  "},{"$f":"'S2'!$F$37","v":"  "},{"$f":"'S2'!$F$36","v":"  "},{"$f":"'S2'!$F$35","v":"  "},{"$f":"'S2'!$F$34","v":"  "},{"$f":"'S2'!$F$33","v":"  "}]
[21,{"$f":"'S2'!$H$42","v":" "},{"$f":"'S2'!$H$38","v":"  "},{"$f":"'S2'!$H$37","v":"  "},{"$f":"'S2'!$H$36","v":"  "},{"$f":"'S2'!$H$35","v":"  "},{"$f":"'S2'!$H$34","v":"  "},{"$f":"'S2'!$H$33","v":"  "}]
[22,{"$f":"'S2'!$J$42","v":" "},{"$f":"'S2'!$J$38","v":"  "},{"$f":"'S2'!$J$37","v":"  "},{"$f":"'S2'!$J$36","v":"  "},{"$f":"'S2'!$J$35","v":"  "},{"$f":"'S2'!$J$34","v":"  "},{"$f":"'S2'!$J$33","v":"  "}]
[23,{"$f":"'S2'!$L$42","v":" "},{"$f":"'S2'!$L$38","v":"  "},{"$f":"'S2'!$L$37","v":"  "},{"$f":"'S2'!$L$36","v":"  "},{"$f":"'S2'!$L$35","v":"  "},{"$f":"'S2'!$L$34","v":"  "},{"$f":"'S2'!$L$33","v":"  "}]
[24,{"$f":"'S2'!$N$42","v":" "},{"$f":"'S2'!$N$38","v":"  "},{"$f":"'S2'!$N$37","v":"  "},{"$f":"'S2'!$N$36","v":"  "},{"$f":"'S2'!$N$35","v":"  "},{"$f":"'S2'!$N$34","v":"  "},{"$f":"'S2'!$N$33","v":"  "}]
[25,{"$f":"'S3'!$D$22","v":" "},{"$f":"'S3'!$D$18","v":"  "},{"$f":"'S3'!$D$17","v":"  "},{"$f":"'S3'!$D$16","v":"  "},{"$f":"'S3'!$D$15","v":"  "},{"$f":"'S3'!$D$14","v":"  "},{"$f":"'S3'!$D$13","v":"  "}]
[26,{"$f":"'S3'!$F$22","v":" "},{"$f":"'S3'!$F$18","v":"  "},{"$f":"'S3'!$F$17","v":"  "},{"$f":"'S3'!$F$16","v":"  "},{"$f":"'S3'!$F$15","v":"  "},{"$f":"'S3'!$F$14","v":"  "},{"$f":"'S3'!$F$13","v":"  "}]
[27,{"$f":"'S3'!$H$22","v":" "},{"$f":"'S3'!$H$18","v":"  "},{"$f":"'S3'!$H$17","v":"  "},{"$f":"'S3'!$H$16","v":"  "},{"$f":"'S3'!$H$15","v":"  "},{"$f":"'S3'!$H$14","v":"  "},{"$f":"'S3'!$H$13","v":"  "}]
[28,{"$f":"'S3'!$J$22","v":" "},{"$f":"'S3'!$J$18","v":"  "},{"$f":"'S3'!$J$17","v":"  "},{"$f":"'S3'!$J$16","v":"  "},{"$f":"'S3'!$J$15","v":"  "},{"$f":"'S3'!$J$14","v":"  "},{"$f":"'S3'!$J$13","v":"  "}]
[29,{"$f":"'S3'!$L$22","v":" "},{"$f":"'S3'!$L$18","v":"  "},{"$f":"'S3'!$L$17","v":"  "},{"$f":"'S3'!$L$16","v":"  "},{"$f":"'S3'!$L$15","v":"  "},{"$f":"'S3'!$L$14","v":"  "},{"$f":"'S3'!$L$13","v":"  "}]
[30,{"$f":"'S3'!$N$22","v":" "},{"$f":"'S3'!$N$18","v":"  "},{"$f":"'S3'!$N$17","v":"  "},{"$f":"'S3'!$N$16","v":"  "},{"$f":"'S3'!$N$15","v":"  "},{"$f":"'S3'!$N$14","v":"  "},{"$f":"'S3'!$N$13","v":"  "}]
[31,{"$f":"'S3'!$D$42","v":" "},{"$f":"'S3'!$D$38","v":"  "},{"$f":"'S3'!$D$37","v":"  "},{"$f":"'S3'!$D$36","v":"  "},{"$f":"'S3'!$D$35","v":"  "},{"$f":"'S3'!$D$34","v":"  "},{"$f":"'S3'!$D$33","v":"  "}]
[32,{"$f":"'S3'!$F$42","v":" "},{"$f":"'S3'!$F$38","v":"  "},{"$f":"'S3'!$F$37","v":"  "},{"$f":"'S3'!$F$36","v":"  "},{"$f":"'S3'!$F$35","v":"  "},{"$f":"'S3'!$F$34","v":"  "},{"$f":"'S3'!$F$33","v":"  "}]
[33,{"$f":"'S3'!$H$42","v":" "},{"$f":"'S3'!$H$38","v":"  "},{"$f":"'S3'!$H$37","v":"  "},{"$f":"'S3'!$H$36","v":"  "},{"$f":"'S3'!$H$35","v":"  "},{"$f":"'S3'!$H$34","v":"  "},{"$f":"'S3'!$H$33","v":"  "}]
[34,{"$f":"'S3'!$J$42","v":" "},{"$f":"'S3'!$J$38","v":"  "},{"$f":"'S3'!$J$37","v":"  "},{"$f":"'S3'!$J$36","v":"  "},{"$f":"'S3'!$J$35","v":"  "},{"$f":"'S3'!$J$34","v":"  "},{"$f":"'S3'!$J$33","v":"  "}]
[35,{"$f":"'S3'!$L$42","v":" "},{"$f":"'S3'!$L$38","v":"  "},{"$f":"'S3'!$L$37","v":"  "},{"$f":"'S3'!$L$36","v":"  "},{"$f":"'S3'!$L$35","v":"  "},{"$f":"'S3'!$L$34","v":"  "},{"$f":"'S3'!$L$33","v":"  "}]
[36,{"$f":"'S3'!$N$42","v":" "},{"$f":"'S3'!$N$38","v":"  "},{"$f":"'S3'!$N$37","v":"  "},{"$f":"'S3'!$N$36","v":"  "},{"$f":"'S3'!$N$35","v":"  "},{"$f":"'S3'!$N$34","v":"  "},{"$f":"'S3'!$N$33","v":"  "}]
[37,{"$f":"'S4'!$D$22","v":" "},{"$f":"'S4'!$D$18","v":"  "},{"$f":"'S4'!$D$17","v":"  "},{"$f":"'S4'!$D$16","v":"  "},{"$f":"'S4'!$D$15","v":"  "},{"$f":"'S4'!$D$14","v":"  "},{"$f":"'S4'!$D$13","v":"  "}]
[38,{"$f":"'S4'!$F$22","v":" "},{"$f":"'S4'!$F$18","v":"  "},{"$f":"'S4'!$F$17","v":"  "},{"$f":"'S4'!$F$16","v":"  "},{"$f":"'S4'!$F$15","v":"  "},{"$f":"'S4'!$F$14","v":"  "},{"$f":"'S4'!$F$13","v":"  "}]
[39,{"$f":"'S4'!$H$22","v":" "},{"$f":"'S4'!$H$18","v":"  "},{"$f":"'S4'!$H$17","v":"  "},{"$f":"'S4'!$H$16","v":"  "},{"$f":"'S4'!$H$15","v":"  "},{"$f":"'S4'!$H$14","v":"  "},{"$f":"'S4'!$H$13","v":"  "}]
[40,{"$f":"'S4'!$J$22","v":" "},{"$f":"'S4'!$J$18","v":"  "},{"$f":"'S4'!$J$17","v":"  "},{"$f":"'S4'!$J$16","v":"  "},{"$f":"'S4'!$J$15","v":"  "},{"$f":"'S4'!$J$14","v":"  "},{"$f":"'S4'!$J$13","v":"  "}]
[41,{"$f":"'S4'!$L$22","v":" "},{"$f":"'S4'!$L$18","v":"  "},{"$f":"'S4'!$L$17","v":"  "},{"$f":"'S4'!$L$16","v":"  "},{"$f":"'S4'!$L$15","v":"  "},{"$f":"'S4'!$L$14","v":"  "},{"$f":"'S4'!$L$13","v":"  "}]
[42,{"$f":"'S4'!$N$22","v":" "},{"$f":"'S4'!$N$18","v":"  "},{"$f":"'S4'!$N$17","v":"  "},{"$f":"'S4'!$N$16","v":"  "},{"$f":"'S4'!$N$15","v":"  "},{"$f":"'S4'!$N$14","v":"  "},{"$f":"'S4'!$N$13","v":"  "}]
[43,{"$f":"'S4'!$D$42","v":" "},{"$f":"'S4'!$D$38","v":"  "},{"$f":"'S4'!$D$37","v":"  "},{"$f":"'S4'!$D$36","v":"  "},{"$f":"'S4'!$D$35","v":"  "},{"$f":"'S4'!$D$34","v":"  "},{"$f":"'S4'!$D$33","v":"  "}]
[44,{"$f":"'S4'!$F$42","v":" "},{"$f":"'S4'!$F$38","v":"  "},{"$f":"'S4'!$F$37","v":"  "},{"$f":"'S4'!$F$36","v":"  "},{"$f":"'S4'!$F$35","v":"  "},{"$f":"'S4'!$F$34","v":"  "},{"$f":"'S4'!$F$33","v":"  "}]
[45,{"$f":"'S4'!$H$42","v":" "},{"$f":"'S4'!$H$38","v":"  "},{"$f":"'S4'!$H$37","v":"  "},{"$f":"'S4'!$H$36","v":"  "},{"$f":"'S4'!$H$35","v":"  "},{"$f":"'S4'!$H$34","v":"  "},{"$f":"'S4'!$H$33","v":"  "}]
[46,{"$f":"'S4'!$J$42","v":" "},{"$f":"'S4'!$J$38","v":"  "},{"$f":"'S4'!$J$37","v":"  "},{"$f":"'S4'!$J$36","v":"  "},{"$f":"'S4'!$J$35","v":"  "},{"$f":"'S4'!$J$34","v":"  "},{"$f":"'S4'!$J$33","v":"  "}]
[47,{"$f":"'S4'!$L$42","v":" "},{"$f":"'S4'!$L$38","v":"  "},{"$f":"'S4'!$L$37","v":"  "},{"$f":"'S4'!$L$36","v":"  "},{"$f":"'S4'!$L$35","v":"  "},{"$f":"'S4'!$L$34","v":"  "},{"$f":"'S4'!$L$33","v":"  "}]
[48,{"$f":"'S4'!$N$42","v":" "},{"$f":"'S4'!$N$38","v":"  "},{"$f":"'S4'!$N$37","v":"  "},{"$f":"'S4'!$N$36","v":"  "},{"$f":"'S4'!$N$35","v":"  "},{"$f":"'S4'!$N$34","v":"  "},{"$f":"'S4'!$N$33","v":"  "}]
[49,{"$f":"'S5'!$D$22","v":" "},{"$f":"'S5'!$D$18","v":"  "},{"$f":"'S5'!$D$17","v":"  "},{"$f":"'S5'!$D$16","v":"  "},{"$f":"'S5'!$D$15","v":"  "},{"$f":"'S5'!$D$14","v":"  "},{"$f":"'S5'!$D$13","v":"  "}]
[50,{"$f":"'S5'!$F$22","v":" "},{"$f":"'S5'!$F$18","v":"  "},{"$f":"'S5'!$F$17","v":"  "},{"$f":"'S5'!$F$16","v":"  "},{"$f":"'S5'!$F$15","v":"  "},{"$f":"'S5'!$F$14","v":"  "},{"$f":"'S5'!$F$13","v":"  "}]
[51,{"$f":"'S5'!$H$22","v":" "},{"$f":"'S5'!$H$18","v":"  "},{"$f":"'S5'!$H$17","v":"  "},{"$f":"'S5'!$H$16","v":"  "},{"$f":"'S5'!$H$15","v":"  "},{"$f":"'S5'!$H$14","v":"  "},{"$f":"'S5'!$H$13","v":"  "}]
[52,{"$f":"'S5'!$J$22","v":" "},{"$f":"'S5'!$J$18","v":"  "},{"$f":"'S5'!$J$17","v":"  "},{"$f":"'S5'!$J$16","v":"  "},{"$f":"'S5'!$J$15","v":"  "},{"$f":"'S5'!$J$14","v":"  "},{"$f":"'S5'!$J$13","v":"  "}]
[53,{"$f":"'S5'!$L$22","v":" "},{"$f":"'S5'!$L$18","v":"  "},{"$f":"'S5'!$L$17","v":"  "},{"$f":"'S5'!$L$16","v":"  "},{"$f":"'S5'!$L$15","v":"  "},{"$f":"'S5'!$L$14","v":"  "},{"$f":"'S5'!$L$13","v":"  "}]
[54,{"$f":"'S5'!$N$22","v":" "},{"$f":"'S5'!$N$18","v":"  "},{"$f":"'S5'!$N$17","v":"  "},{"$f":"'S5'!$N$16","v":"  "},{"$f":"'S5'!$N$15","v":"  "},{"$f":"'S5'!$N$14","v":"  "},{"$f":"'S5'!$N$13","v":"  "}]
[55,{"$f":"'S5'!$D$42","v":" "},{"$f":"'S5'!$D$38","v":"  "},{"$f":"'S5'!$D$37","v":"  "},{"$f":"'S5'!$D$36","v":"  "},{"$f":"'S5'!$D$35","v":"  "},{"$f":"'S5'!$D$34","v":"  "},{"$f":"'S5'!$D$33","v":"  "}]
[56,{"$f":"'S5'!$F$42","v":" "},{"$f":"'S5'!$F$38","v":"  "},{"$f":"'S5'!$F$37","v":"  "},{"$f":"'S5'!$F$36","v":"  "},{"$f":"'S5'!$F$35","v":"  "},{"$f":"'S5'!$F$34","v":"  "},{"$f":"'S5'!$F$33","v":"  "}]
[57,{"$f":"'S5'!$H$42","v":" "},{"$f":"'S5'!$H$38","v":"  "},{"$f":"'S5'!$H$37","v":"  "},{"$f":"'S5'!$H$36","v":"  "},{"$f":"'S5'!$H$35","v":"  "},{"$f":"'S5'!$H$34","v":"  "},{"$f":"'S5'!$H$33","v":"  "}]
[58,{"$f":"'S5'!$J$42","v":" "},{"$f":"'S5'!$J$38","v":"  "},{"$f":"'S5'!$J$37","v":"  "},{"$f":"'S5'!$J$36","v":"  "},{"$f":"'S5'!$J$35","v":"  "},{"$f":"'S5'!$J$34","v":"  "},{"$f":"'S5'!$J$33","v":"  "}]
[59,{"$f":"'S5'!$L$42","v":" "},{"$f":"'S5'!$L$38","v":"  "},{"$f":"'S5'!$L$37","v":"  "},{"$f":"'S5'!$L$36","v":"  "},{"$f":"'S5'!$L$35","v":"  "},{"$f":"'S5'!$L$34","v":"  "},{"$f":"'S5'!$L$33","v":"  "}]
[60,{"$f":"'S5'!$N$42","v":" "},{"$f":"'S5'!$N$38","v":"  "},{"$f":"'S5'!$N$37","v":"  "},{"$f":"'S5'!$N$36","v":"  "},{"$f":"'S5'!$N$35","v":"  "},{"$f":"'S5'!$N$34","v":"  "},{"$f":"'S5'!$N$33","v":"  "}]
[61,{"$f":"'S6'!$D$22","v":" "},{"$f":"'S6'!$D$18","v":"  "},{"$f":"'S6'!$D$17","v":"  "},{"$f":"'S6'!$D$16","v":"  "},{"$f":"'S6'!$D$15","v":"  "},{"$f":"'S6'!$D$14","v":"  "},{"$f":"'S6'!$D$13","v":"  "}]
[62,{"$f":"'S6'!$F$22","v":" "},{"$f":"'S6'!$F$18","v":"  "},{"$f":"'S6'!$F$17","v":"  "},{"$f":"'S6'!$F$16","v":"  "},{"$f":"'S6'!$F$15","v":"  "},{"$f":"'S6'!$F$14","v":"  "},{"$f":"'S6'!$F$13","v":"  "}]
[63,{"$f":"'S6'!$H$22","v":" "},{"$f":"'S6'!$H$18","v":"  "},{"$f":"'S6'!$H$17","v":"  "},{"$f":"'S6'!$H$16","v":"  "},{"$f":"'S6'!$H$15","v":"  "},{"$f":"'S6'!$H$14","v":"  "},{"$f":"'S6'!$H$13","v":"  "}]
[64,{"$f":"'S6'!$J$22","v":" "},{"$f":"'S6'!$J$18","v":"  "},{"$f":"'S6'!$J$17","v":"  "},{"$f":"'S6'!$J$16","v":"  "},{"$f":"'S6'!$J$15","v":"  "},{"$f":"'S6'!$J$14","v":"  "},{"$f":"'S6'!$J$13","v":"  "}]
[65,{"$f":"'S6'!$L$22","v":" "},{"$f":"'S6'!$L$18","v":"  "},{"$f":"'S6'!$L$17","v":"  "},{"$f":"'S6'!$L$16","v":"  "},{"$f":"'S6'!$L$15","v":"  "},{"$f":"'S6'!$L$14","v":"  "},{"$f":"'S6'!$L$13","v":"  "}]
[66,{"$f":"'S6'!$N$22","v":" "},{"$f":"'S6'!$N$18","v":"  "},{"$f":"'S6'!$N$17","v":"  "},{"$f":"'S6'!$N$16","v":"  "},{"$f":"'S6'!$N$15","v":"  "},{"$f":"'S6'!$N$14","v":"  "},{"$f":"'S6'!$N$13","v":"  "}]
[67,{"$f":"'S6'!$D$42","v":" "},{"$f":"'S6'!$D$38","v":"  "},{"$f":"'S6'!$D$37","v":"  "},{"$f":"'S6'!$D$36","v":"  "},{"$f":"'S6'!$D$35","v":"  "},{"$f":"'S6'!$D$34","v":"  "},{"$f":"'S6'!$D$33","v":"  "}]
[68,{"$f":"'S6'!$F$42","v":" "},{"$f":"'S6'!$F$38","v":"  "},{"$f":"'S6'!$F$37","v":"  "},{"$f":"'S6'!$F$36","v":"  "},{"$f":"'S6'!$F$35","v":"  "},{"$f":"'S6'!$F$34","v":"  "},{"$f":"'S6'!$F$33","v":"  "}]
[69,{"$f":"'S6'!$H$42","v":" "},{"$f":"'S6'!$H$38","v":"  "},{"$f":"'S6'!$H$37","v":"  "},{"$f":"'S6'!$H$36","v":"  "},{"$f":"'S6'!$H$35","v":"  "},{"$f":"'S6'!$H$34","v":"  "},{"$f":"'S6'!$H$33","v":"  "}]
[70,{"$f":"'S6'!$J$42","v":" "},{"$f":"'S6'!$J$38","v":"  "},{"$f":"'S6'!$J$37","v":"  "},{"$f":"'S6'!$J$36","v":"  "},{"$f":"'S6'!$J$35","v":"  "},{"$f":"'S6'!$J$34","v":"  "},{"$f":"'S6'!$J$33","v":"  "}]
[71,{"$f":"'S6'!$L$42","v":" "},{"$f":"'S6'!$L$38","v":"  "},{"$f":"'S6'!$L$37","v":"  "},{"$f":"'S6'!$L$36","v":"  "},{"$f":"'S6'!$L$35","v":"  "},{"$f":"'S6'!$L$34","v":"  "},{"$f":"'S6'!$L$33","v":"  "}]
[72,{"$f":"'S6'!$N$42","v":" "},{"$f":"'S6'!$N$38","v":"  "},{"$f":"'S6'!$N$37","v":"  "},{"$f":"'S6'!$N$36","v":"  "},{"$f":"'S6'!$N$35","v":"  "},{"$f":"'S6'!$N$34","v":"  "},{"$f":"'S6'!$N$33","v":"  "}]
[73,{"$f":"'S7'!$D$22","v":" "},{"$f":"'S7'!$D$18","v":"  "},{"$f":"'S7'!$D$17","v":"  "},{"$f":"'S7'!$D$16","v":"  "},{"$f":"'S7'!$D$15","v":"  "},{"$f":"'S7'!$D$14","v":"  "},{"$f":"'S7'!$D$13","v":"  "}]
[74,{"$f":"'S7'!$F$22","v":" "},{"$f":"'S7'!$F$18","v":"  "},{"$f":"'S7'!$F$17","v":"  "},{"$f":"'S7'!$F$16","v":"  "},{"$f":"'S7'!$F$15","v":"  "},{"$f":"'S7'!$F$14","v":"  "},{"$f":"'S7'!$F$13","v":"  "}]
[75,{"$f":"'S7'!$H$22","v":" "},{"$f":"'S7'!$H$18","v":"  "},{"$f":"'S7'!$H$17","v":"  "},{"$f":"'S7'!$H$16","v":"  "},{"$f":"'S7'!$H$15","v":"  "},{"$f":"'S7'!$H$14","v":"  "},{"$f":"'S7'!$H$13","v":"  "}]
[76,{"$f":"'S7'!$J$22","v":" "},{"$f":"'S7'!$J$18","v":"  "},{"$f":"'S7'!$J$17","v":"  "},{"$f":"'S7'!$J$16","v":"  "},{"$f":"'S7'!$J$15","v":"  "},{"$f":"'S7'!$J$14","v":"  "},{"$f":"'S7'!$J$13","v":"  "}]
[77,{"$f":"'S7'!$L$22","v":" "},{"$f":"'S7'!$L$18","v":"  "},{"$f":"'S7'!$L$17","v":"  "},{"$f":"'S7'!$L$16","v":"  "},{"$f":"'S7'!$L$15","v":"  "},{"$f":"'S7'!$L$14","v":"  "},{"$f":"'S7'!$L$13","v":"  "}]
[78,{"$f":"'S7'!$N$22","v":" "},{"$f":"'S7'!$N$18","v":"  "},{"$f":"'S7'!$N$17","v":"  "},{"$f":"'S7'!$N$16","v":"  "},{"$f":"'S7'!$N$15","v":"  "},{"$f":"'S7'!$N$14","v":"  "},{"$f":"'S7'!$N$13","v":"  "}]
[79,{"$f":"'S7'!$D$42","v":" "},{"$f":"'S7'!$D$38","v":"  "},{"$f":"'S7'!$D$37","v":"  "},{"$f":"'S7'!$D$36","v":"  "},{"$f":"'S7'!$D$35","v":"  "},{"$f":"'S7'!$D$34","v":"  "},{"$f":"'S7'!$D$33","v":"  "}]
[80,{"$f":"'S7'!$F$42","v":" "},{"$f":"'S7'!$F$38","v":"  "},{"$f":"'S7'!$F$37","v":"  "},{"$f":"'S7'!$F$36","v":"  "},{"$f":"'S7'!$F$35","v":"  "},{"$f":"'S7'!$F$34","v":"  "},{"$f":"'S7'!$F$33","v":"  "}]
[81,{"$f":"'S7'!$H$42","v":" "},{"$f":"'S7'!$H$38","v":"  "},{"$f":"'S7'!$H$37","v":"  "},{"$f":"'S7'!$H$36","v":"  "},{"$f":"'S7'!$H$35","v":"  "},{"$f":"'S7'!$H$34","v":"  "},{"$f":"'S7'!$H$33","v":"  "}]
[82,{"$f":"'S7'!$J$42","v":" "},{"$f":"'S7'!$J$38","v":"  "},{"$f":"'S7'!$J$37","v":"  "},{"$f":"'S7'!$J$36","v":"  "},{"$f":"'S7'!$J$35","v":"  "},{"$f":"'S7'!$J$34","v":"  "},{"$f":"'S7'!$J$33","v":"  "}]
[83,{"$f":"'S7'!$L$42","v":" "},{"$f":"'S7'!$L$38","v":"  "},{"$f":"'S7'!$L$37","v":"  "},{"$f":"'S7'!$L$36","v":"  "},{"$f":"'S7'!$L$35","v":"  "},{"$f":"'S7'!$L$34","v":"  "},{"$f":"'S7'!$L$33","v":"  "}]
[84,{"$f":"'S7'!$N$42","v":" "},{"$f":"'S7'!$N$38","v":"  "},{"$f":"'S7'!$N$37","v":"  "},{"$f":"'S7'!$N$36","v":"  "},{"$f":"'S7'!$N$35","v":"  "},{"$f":"'S7'!$N$34","v":"  "},{"$f":"'S7'!$N$33","v":"  "}]
[85,{"$f":"'S8'!$D$22","v":" "},{"$f":"'S8'!$D$18","v":"  "},{"$f":"'S8'!$D$17","v":"  "},{"$f":"'S8'!$D$16","v":"  "},{"$f":"'S8'!$D$15","v":"  "},{"$f":"'S8'!$D$14","v":"  "},{"$f":"'S8'!$D$13","v":"  "}]
[86,{"$f":"'S8'!$F$22","v":" "},{"$f":"'S8'!$F$18","v":"  "},{"$f":"'S8'!$F$17","v":"  "},{"$f":"'S8'!$F$16","v":"  "},{"$f":"'S8'!$F$15","v":"  "},{"$f":"'S8'!$F$14","v":"  "},{"$f":"'S8'!$F$13","v":"  "}]
[87,{"$f":"'S8'!$H$22","v":" "},{"$f":"'S8'!$H$18","v":"  "},{"$f":"'S8'!$H$17","v":"  "},{"$f":"'S8'!$H$16","v":"  "},{"$f":"'S8'!$H$15","v":"  "},{"$f":"'S8'!$H$14","v":"  "},{"$f":"'S8'!$H$13","v":"  "}]
[88,{"$f":"'S8'!$J$22","v":" "},{"$f":"'S8'!$J$18","v":"  "},{"$f":"'S8'!$J$17","v":"  "},{"$f":"'S8'!$J$16","v":"  "},{"$f":"'S8'!$J$15","v":"  "},{"$f":"'S8'!$J$14","v":"  "},{"$f":"'S8'!$J$13","v":"  "}]
[89,{"$f":"'S8'!$L$22","v":" "},{"$f":"'S8'!$L$18","v":"  "},{"$f":"'S8'!$L$17","v":"  "},{"$f":"'S8'!$L$16","v":"  "},{"$f":"'S8'!$L$15","v":"  "},{"$f":"'S8'!$L$14","v":"  "},{"$f":"'S8'!$L$13","v":"  "}]
[90,{"$f":"'S8'!$N$22","v":" "},{"$f":"'S8'!$N$18","v":"  "},{"$f":"'S8'!$N$17","v":"  "},{"$f":"'S8'!$N$16","v":"  "},{"$f":"'S8'!$N$15","v":"  "},{"$f":"'S8'!$N$14","v":"  "},{"$f":"'S8'!$N$13","v":"  "}]
[91,{"$f":"'S8'!$D$42","v":" "},{"$f":"'S8'!$D$38","v":"  "},{"$f":"'S8'!$D$37","v":"  "},{"$f":"'S8'!$D$36","v":"  "},{"$f":"'S8'!$D$35","v":"  "},{"$f":"'S8'!$D$34","v":"  "},{"$f":"'S8'!$D$33","v":"  "}]
[92,{"$f":"'S8'!$F$42","v":" "},{"$f":"'S8'!$F$38","v":"  "},{"$f":"'S8'!$F$37","v":"  "},{"$f":"'S8'!$F$36","v":"  "},{"$f":"'S8'!$F$35","v":"  "},{"$f":"'S8'!$F$34","v":"  "},{"$f":"'S8'!$F$33","v":"  "}]
[93,{"$f":"'S8'!$H$42","v":" "},{"$f":"'S8'!$H$38","v":"  "},{"$f":"'S8'!$H$37","v":"  "},{"$f":"'S8'!$H$36","v":"  "},{"$f":"'S8'!$H$35","v":"  "},{"$f":"'S8'!$H$34","v":"  "},{"$f":"'S8'!$H$33","v":"  "}]
[94,{"$f":"'S8'!$J$42","v":" "},{"$f":"'S8'!$J$38","v":"  "},{"$f":"'S8'!$J$37","v":"  "},{"$f":"'S8'!$J$36","v":"  "},{"$f":"'S8'!$J$35","v":"  "},{"$f":"'S8'!$J$34","v":"  "},{"$f":"'S8'!$J$33","v":"  "}]
[95,{"$f":"'S8'!$L$42","v":" "},{"$f":"'S8'!$L$38","v":"  "},{"$f":"'S8'!$L$37","v":"  "},{"$f":"'S8'!$L$36","v":"  "},{"$f":"'S8'!$L$35","v":"  "},{"$f":"'S8'!$L$34","v":"  "},{"$f":"'S8'!$L$33","v":"  "}]
[96,{"$f":"'S8'!$N$42","v":" "},{"$f":"'S8'!$N$38","v":"  "},{"$f":"'S8'!$N$37","v":"  "},{"$f":"'S8'!$N$36","v":"  "},{"$f":"'S8'!$N$35","v":"  "},{"$f":"'S8'!$N$34","v":"  "},{"$f":"'S8'!$N$33","v":"  "}]
[97,{"$f":"'S9'!$D$22","v":" "},{"$f":"'S9'!$D$18","v":"  "},{"$f":"'S9'!$D$17","v":"  "},{"$f":"'S9'!$D$16","v":"  "},{"$f":"'S9'!$D$15","v":"  "},{"$f":"'S9'!$D$14","v":"  "},{"$f":"'S9'!$D$13","v":"  "}]
[98,{"$f":"'S9'!$F$22","v":" "},{"$f":"'S9'!$F$18","v":"  "},{"$f":"'S9'!$F$17","v":"  "},{"$f":"'S9'!$F$16","v":"  "},{"$f":"'S9'!$F$15","v":"  "},{"$f":"'S9'!$F$14","v":"  "},{"$f":"'S9'!$F$13","v":"  "}]
[99,{"$f":"'S9'!$H$22","v":" "},{"$f":"'S9'!$H$18","v":"  "},{"$f":"'S9'!$H$17","v":"  "},{"$f":"'S9'!$H$16","v":"  "},{"$f":"'S9'!$H$15","v":"  "},{"$f":"'S9'!$H$14","v":"  "},{"$f":"'S9'!$H$13","v":"  "}]
[100,{"$f":"'S9'!$J$22","v":" "},{"$f":"'S9'!$J$18","v":"  "},{"$f":"'S9'!$J$17","v":"  "},{"$f":"'S9'!$J$16","v":"  "},{"$f":"'S9'!$J$15","v":"  "},{"$f":"'S9'!$J$14","v":"  "},{"$f":"'S9'!$J$13","v":"  "}]
[101,{"$f":"'S9'!$L$22","v":" "},{"$f":"'S9'!$L$18","v":"  "},{"$f":"'S9'!$L$17","v":"  "},{"$f":"'S9'!$L$16","v":"  "},{"$f":"'S9'!$L$15","v":"  "},{"$f":"'S9'!$L$14","v":"  "},{"$f":"'S9'!$L$13","v":"  "}]
[102,{"$f":"'S9'!$N$22","v":" "},{"$f":"'S9'!$N$18","v":"  "},{"$f":"'S9'!$N$17","v":"  "},{"$f":"'S9'!$N$16","v":"  "},{"$f":"'S9'!$N$15","v":"  "},{"$f":"'S9'!$N$14","v":"  "},{"$f":"'S9'!$N$13","v":"  "}]
[103,{"$f":"'S9'!$D$42","v":" "},{"$f":"'S9'!$D$38","v":"  "},{"$f":"'S9'!$D$37","v":"  "},{"$f":"'S9'!$D$36","v":"  "},{"$f":"'S9'!$D$35","v":"  "},{"$f":"'S9'!$D$34","v":"  "},{"$f":"'S9'!$D$33","v":"  "}]
[104,{"$f":"'S9'!$F$42","v":" "},{"$f":"'S9'!$F$38","v":"  "},{"$f":"'S9'!$F$37","v":"  "},{"$f":"'S9'!$F$36","v":"  "},{"$f":"'S9'!$F$35","v":"  "},{"$f":"'S9'!$F$34","v":"  "},{"$f":"'S9'!$F$33","v":"  "}]
[105,{"$f":"'S9'!$H$42","v":" "},{"$f":"'S9'!$H$38","v":"  "},{"$f":"'S9'!$H$37","v":"  "},{"$f":"'S9'!$H$36","v":"  "},{"$f":"'S9'!$H$35","v":"  "},{"$f":"'S9'!$H$34","v":"  "},{"$f":"'S9'!$H$33","v":"  "}]
[106,{"$f":"'S9'!$J$42","v":" "},{"$f":"'S9'!$J$38","v":"  "},{"$f":"'S9'!$J$37","v":"  "},{"$f":"'S9'!$J$36","v":"  "},{"$f":"'S9'!$J$35","v":"  "},{"$f":"'S9'!$J$34","v":"  "},{"$f":"'S9'!$J$33","v":"  "}]
[107,{"$f":"'S9'!$L$42","v":" "},{"$f":"'S9'!$L$38","v":"  "},{"$f":"'S9'!$L$37","v":"  "},{"$f":"'S9'!$L$36","v":"  "},{"$f":"'S9'!$L$35","v":"  "},{"$f":"'S9'!$L$34","v":"  "},{"$f":"'S9'!$L$33","v":"  "}]
[108,{"$f":"'S9'!$N$42","v":" "},{"$f":"'S9'!$N$38","v":"  "},{"$f":"'S9'!$N$37","v":"  "},{"$f":"'S9'!$N$36","v":"  "},{"$f":"'S9'!$N$35","v":"  "},{"$f":"'S9'!$N$34","v":"  "},{"$f":"'S9'!$N$33","v":"  "}]
[109,{"$f":"'S10'!$D$22","v":" "},{"$f":"'S10'!$D$18","v":"  "},{"$f":"'S10'!$D$17","v":"  "},{"$f":"'S10'!$D$16","v":"  "},{"$f":"'S10'!$D$15","v":"  "},{"$f":"'S10'!$D$14","v":"  "},{"$f":"'S10'!$D$13","v":"  "}]
[110,{"$f":"'S10'!$F$22","v":" "},{"$f":"'S10'!$F$18","v":"  "},{"$f":"'S10'!$F$17","v":"  "},{"$f":"'S10'!$F$16","v":"  "},{"$f":"'S10'!$F$15","v":"  "},{"$f":"'S10'!$F$14","v":"  "},{"$f":"'S10'!$F$13","v":"  "}]
[111,{"$f":"'S10'!$H$22","v":" "},{"$f":"'S10'!$H$18","v":"  "},{"$f":"'S10'!$H$17","v":"  "},{"$f":"'S10'!$H$16","v":"  "},{"$f":"'S10'!$H$15","v":"  "},{"$f":"'S10'!$H$14","v":"  "},{"$f":"'S10'!$H$13","v":"  "}]
[112,{"$f":"'S10'!$J$22","v":" "},{"$f":"'S10'!$J$18","v":"  "},{"$f":"'S10'!$J$17","v":"  "},{"$f":"'S10'!$J$16","v":"  "},{"$f":"'S10'!$J$15","v":"  "},{"$f":"'S10'!$J$14","v":"  "},{"$f":"'S10'!$J$13","v":"  "}]
[113,{"$f":"'S10'!$L$22","v":" "},{"$f":"'S10'!$L$18","v":"  "},{"$f":"'S10'!$L$17","v":"  "},{"$f":"'S10'!$L$16","v":"  "},{"$f":"'S10'!$L$15","v":"  "},{"$f":"'S10'!$L$14","v":"  "},{"$f":"'S10'!$L$13","v":"  "}]
[114,{"$f":"'S10'!$N$22","v":" "},{"$f":"'S10'!$N$18","v":"  "},{"$f":"'S10'!$N$17","v":"  "},{"$f":"'S10'!$N$16","v":"  "},{"$f":"'S10'!$N$15","v":"  "},{"$f":"'S10'!$N$14","v":"  "},{"$f":"'S10'!$N$13","v":"  "}]
[115,{"$f":"'S10'!$D$42","v":" "},{"$f":"'S10'!$D$38","v":"  "},{"$f":"'S10'!$D$37","v":"  "},{"$f":"'S10'!$D$36","v":"  "},{"$f":"'S10'!$D$35","v":"  "},{"$f":"'S10'!$D$34","v":"  "},{"$f":"'S10'!$D$33","v":"  "}]
[116,{"$f":"'S10'!$F$42","v":" "},{"$f":"'S10'!$F$38","v":"  "},{"$f":"'S10'!$F$37","v":"  "},{"$f":"'S10'!$F$36","v":"  "},{"$f":"'S10'!$F$35","v":"  "},{"$f":"'S10'!$F$34","v":"  "},{"$f":"'S10'!$F$33","v":"  "}]
[117,{"$f":"'S10'!$H$42","v":" "},{"$f":"'S10'!$H$38","v":"  "},{"$f":"'S10'!$H$37","v":"  "},{"$f":"'S10'!$H$36","v":"  "},{"$f":"'S10'!$H$35","v":"  "},{"$f":"'S10'!$H$34","v":"  "},{"$f":"'S10'!$H$33","v":"  "}]
[118,{"$f":"'S10'!$J$42","v":" "},{"$f":"'S10'!$J$38","v":"  "},{"$f":"'S10'!$J$37","v":"  "},{"$f":"'S10'!$J$36","v":"  "},{"$f":"'S10'!$J$35","v":"  "},{"$f":"'S10'!$J$34","v":"  "},{"$f":"'S10'!$J$33","v":"  "}]
[119,{"$f":"'S10'!$L$42","v":" "},{"$f":"'S10'!$L$38","v":"  "},{"$f":"'S10'!$L$37","v":"  "},{"$f":"'S10'!$L$36","v":"  "},{"$f":"'S10'!$L$35","v":"  "},{"$f":"'S10'!$L$34","v":"  "},{"$f":"'S10'!$L$33","v":"  "}]
[120,{"$f":"'S10'!$N$42","v":" "},{"$f":"'S10'!$N$38","v":"  "},{"$f":"'S10'!$N$37","v":"  "},{"$f":"'S10'!$N$36","v":"  "},{"$f":"'S10'!$N$35","v":"  "},{"$f":"'S10'!$N$34","v":"  "},{"$f":"'S10'!$N$33","v":"  "}]
[121,{"$f":"'S11'!$D$22","v":" "},{"$f":"'S11'!$D$18","v":"  "},{"$f":"'S11'!$D$17","v":"  "},{"$f":"'S11'!$D$16","v":"  "},{"$f":"'S11'!$D$15","v":"  "},{"$f":"'S11'!$D$14","v":"  "},{"$f":"'S11'!$D$13","v":"  "}]
[122,{"$f":"'S11'!$F$22","v":" "},{"$f":"'S11'!$F$18","v":"  "},{"$f":"'S11'!$F$17","v":"  "},{"$f":"'S11'!$F$16","v":"  "},{"$f":"'S11'!$F$15","v":"  "},{"$f":"'S11'!$F$14","v":"  "},{"$f":"'S11'!$F$13","v":"  "}]
[123,{"$f":"'S11'!$H$22","v":" "},{"$f":"'S11'!$H$18","v":"  "},{"$f":"'S11'!$H$17","v":"  "},{"$f":"'S11'!$H$16","v":"  "},{"$f":"'S11'!$H$15","v":"  "},{"$f":"'S11'!$H$14","v":"  "},{"$f":"'S11'!$H$13","v":"  "}]
[124,{"$f":"'S11'!$J$22","v":" "},{"$f":"'S11'!$J$18","v":"  "},{"$f":"'S11'!$J$17","v":"  "},{"$f":"'S11'!$J$16","v":"  "},{"$f":"'S11'!$J$15","v":"  "},{"$f":"'S11'!$J$14","v":"  "},{"$f":"'S11'!$J$13","v":"  "}]
[125,{"$f":"'S11'!$L$22","v":" "},{"$f":"'S11'!$L$18","v":"  "},{"$f":"'S11'!$L$17","v":"  "},{"$f":"'S11'!$L$16","v":"  "},{"$f":"'S11'!$L$15","v":"  "},{"$f":"'S11'!$L$14","v":"  "},{"$f":"'S11'!$L$13","v":"  "}]
[126,{"$f":"'S11'!$N$22","v":" "},{"$f":"'S11'!$N$18","v":"  "},{"$f":"'S11'!$N$17","v":"  "},{"$f":"'S11'!$N$16","v":"  "},{"$f":"'S11'!$N$15","v":"  "},{"$f":"'S11'!$N$14","v":"  "},{"$f":"'S11'!$N$13","v":"  "}]
[127,{"$f":"'S11'!$D$42","v":" "},{"$f":"'S11'!$D$38","v":"  "},{"$f":"'S11'!$D$37","v":"  "},{"$f":"'S11'!$D$36","v":"  "},{"$f":"'S11'!$D$35","v":"  "},{"$f":"'S11'!$D$34","v":"  "},{"$f":"'S11'!$D$33","v":"  "}]
[128,{"$f":"'S11'!$F$42","v":" "},{"$f":"'S11'!$F$38","v":"  "},{"$f":"'S11'!$F$37","v":"  "},{"$f":"'S11'!$F$36","v":"  "},{"$f":"'S11'!$F$35","v":"  "},{"$f":"'S11'!$F$34","v":"  "},{"$f":"'S11'!$F$33","v":"  "}]
[129,{"$f":"'S11'!$H$42","v":" "},{"$f":"'S11'!$H$38","v":"  "},{"$f":"'S11'!$H$37","v":"  "},{"$f":"'S11'!$H$36","v":"  "},{"$f":"'S11'!$H$35","v":"  "},{"$f":"'S11'!$H$34","v":"  "},{"$f":"'S11'!$H$33","v":"  "}]
[130,{"$f":"'S11'!$J$42","v":" "},{"$f":"'S11'!$J$38","v":"  "},{"$f":"'S11'!$J$37","v":"  "},{"$f":"'S11'!$J$36","v":"  "},{"$f":"'S11'!$J$35","v":"  "},{"$f":"'S11'!$J$34","v":"  "},{"$f":"'S11'!$J$33","v":"  "}]
[131,{"$f":"'S11'!$L$42","v":" "},{"$f":"'S11'!$L$38","v":"  "},{"$f":"'S11'!$L$37","v":"  "},{"$f":"'S11'!$L$36","v":"  "},{"$f":"'S11'!$L$35","v":"  "},{"$f":"'S11'!$L$34","v":"  "},{"$f":"'S11'!$L$33","v":"  "}]
[132,{"$f":"'S11'!$N$42","v":" "},{"$f":"'S11'!$N$38","v":"  "},{"$f":"'S11'!$N$37","v":"  "},{"$f":"'S11'!$N$36","v":"  "},{"$f":"'S11'!$N$35","v":"  "},{"$f":"'S11'!$N$34","v":"  "},{"$f":"'S11'!$N$33","v":"  "}]
[133,{"$f":"'S12'!$D$22","v":" "},{"$f":"'S12'!$D$18","v":"  "},{"$f":"'S12'!$D$17","v":"  "},{"$f":"'S12'!$D$16","v":"  "},{"$f":"'S12'!$D$15","v":"  "},{"$f":"'S12'!$D$14","v":"  "},{"$f":"'S12'!$D$13","v":"  "}]
[134,{"$f":"'S12'!$F$22","v":" "},{"$f":"'S12'!$F$18","v":"  "},{"$f":"'S12'!$F$17","v":"  "},{"$f":"'S12'!$F$16","v":"  "},{"$f":"'S12'!$F$15","v":"  "},{"$f":"'S12'!$F$14","v":"  "},{"$f":"'S12'!$F$13","v":"  "}]
[135,{"$f":"'S12'!$H$22","v":" "},{"$f":"'S12'!$H$18","v":"  "},{"$f":"'S12'!$H$17","v":"  "},{"$f":"'S12'!$H$16","v":"  "},{"$f":"'S12'!$H$15","v":"  "},{"$f":"'S12'!$H$14","v":"  "},{"$f":"'S12'!$H$13","v":"  "}]
[136,{"$f":"'S12'!$J$22","v":" "},{"$f":"'S12'!$J$18","v":"  "},{"$f":"'S12'!$J$17","v":"  "},{"$f":"'S12'!$J$16","v":"  "},{"$f":"'S12'!$J$15","v":"  "},{"$f":"'S12'!$J$14","v":"  "},{"$f":"'S12'!$J$13","v":"  "}]
[137,{"$f":"'S12'!$L$22","v":" "},{"$f":"'S12'!$L$18","v":"  "},{"$f":"'S12'!$L$17","v":"  "},{"$f":"'S12'!$L$16","v":"  "},{"$f":"'S12'!$L$15","v":"  "},{"$f":"'S12'!$L$14","v":"  "},{"$f":"'S12'!$L$13","v":"  "}]
[138,{"$f":"'S12'!$N$22","v":" "},{"$f":"'S12'!$N$18","v":"  "},{"$f":"'S12'!$N$17","v":"  "},{"$f":"'S12'!$N$16","v":"  "},{"$f":"'S12'!$N$15","v":"  "},{"$f":"'S12'!$N$14","v":"  "},{"$f":"'S12'!$N$13","v":"  "}]
[139,{"$f":"'S12'!$D$42","v":" "},{"$f":"'S12'!$D$38","v":"  "},{"$f":"'S12'!$D$37","v":"  "},{"$f":"'S12'!$D$36","v":"  "},{"$f":"'S12'!$D$35","v":"  "},{"$f":"'S12'!$D$34","v":"  "},{"$f":"'S12'!$D$33","v":"  "}]
[140,{"$f":"'S12'!$F$42","v":" "},{"$f":"'S12'!$F$38","v":"  "},{"$f":"'S12'!$F$37","v":"  "},{"$f":"'S12'!$F$36","v":"  "},{"$f":"'S12'!$F$35","v":"  "},{"$f":"'S12'!$F$34","v":"  "},{"$f":"'S12'!$F$33","v":"  "}]
[141,{"$f":"'S12'!$H$42","v":" "},{"$f":"'S12'!$H$38","v":"  "},{"$f":"'S12'!$H$37","v":"  "},{"$f":"'S12'!$H$36","v":"  "},{"$f":"'S12'!$H$35","v":"  "},{"$f":"'S12'!$H$34","v":"  "},{"$f":"'S12'!$H$33","v":"  "}]
[142,{"$f":"'S12'!$J$42","v":" "},{"$f":"'S12'!$J$38","v":"  "},{"$f":"'S12'!$J$37","v":"  "},{"$f":"'S12'!$J$36","v":"  "},{"$f":"'S12'!$J$35","v":"  "},{"$f":"'S12'!$J$34","v":"  "},{"$f":"'S12'!$J$33","v":"  "}]
[143,{"$f":"'S12'!$L$42","v":" "},{"$f":"'S12'!$L$38","v":"  "},{"$f":"'S12'!$L$37","v":"  "},{"$f":"'S12'!$L$36","v":"  "},{"$f":"'S12'!$L$35","v":"  "},{"$f":"'S12'!$L$34","v":"  "},{"$f":"'S12'!$L$33","v":"  "}]
[144,{"$f":"'S12'!$N$42","v":" "},{"$f":"'S12'!$N$38","v":"  "},{"$f":"'S12'!$N$37","v":"  "},{"$f":"'S12'!$N$36","v":"  "},{"$f":"'S12'!$N$35","v":"  "},{"$f":"'S12'!$N$34","v":"  "},{"$f":"'S12'!$N$33","v":"  "}]

{"sheet":"Avg","index":23,"n_rows":7,"n_cols":9,"rows_kept":7,"cut":false,"hidden":false,"merged":[[1,0,1,7],[1,8,1,9]]}
[]
["Average Gradations",null,null,null,null,null,null,null,{"$f":"IF(ISBLANK('S1'!L4),\" \",'S1'!L4)","v":" "}]
[]
["Sieve",200,8,4,0.375,0.5,0.75,1]
["Count",{"$f":"COUNT('ST1'!B5:B148)","v":0},{"$f":"COUNT('ST1'!C5:C148)","v":0},{"$f":"COUNT('ST1'!D5:D148)","v":0},{"$f":"COUNT('ST1'!E5:E148)","v":0},{"$f":"COUNT('ST1'!F5:F148)","v":0},{"$f":"COUNT('ST1'!G5:G148)","v":0},{"$f":"COUNT('ST1'!H5:H148)","v":0}]
["Avg",{"$f":"AVERAGE('ST1'!B5:B148)","v":{"$error":"#DIV/0!"}},{"$f":"AVERAGE('ST1'!C5:C148)","v":{"$error":"#DIV/0!"}},{"$f":"AVERAGE('ST1'!D5:D148)","v":{"$error":"#DIV/0!"}},{"$f":"AVERAGE('ST1'!E5:E148)","v":{"$error":"#DIV/0!"}},{"$f":"AVERAGE('ST1'!F5:F148)","v":{"$error":"#DIV/0!"}},{"$f":"AVERAGE('ST1'!G5:G148)","v":{"$error":"#DIV/0!"}},{"$f":"AVERAGE('ST1'!H5:H148)","v":{"$error":"#DIV/0!"}}]
["St Dev",{"$f":"STDEV('ST1'!B5:B148)","v":{"$error":"#DIV/0!"}},{"$f":"STDEV('ST1'!C5:C148)","v":{"$error":"#DIV/0!"}},{"$f":"STDEV('ST1'!D5:D148)","v":{"$error":"#DIV/0!"}},{"$f":"STDEV('ST1'!E5:E148)","v":{"$error":"#DIV/0!"}},{"$f":"STDEV('ST1'!F5:F148)","v":{"$error":"#DIV/0!"}},{"$f":"STDEV('ST1'!G5:G148)","v":{"$error":"#DIV/0!"}},{"$f":"STDEV('ST1'!H5:H148)","v":{"$error":"#DIV/0!"}}]

{"sheet":"Critical screen tolerances","index":24,"n_rows":16,"n_cols":4,"rows_kept":16,"cut":false,"hidden":false,"merged":[[1,0,5,9],[7,0,7,2],[8,0,9,0],[11,0,11,1],[12,0,15,0]]}
[]
["In this workbook, #67's the critical screen tolerances from the target values are set to a default value but can be changed at the Producer / Agency's discretion. To change these values, select the gray shaded cells below"]
[]
[]
[]
[]
[]
["#67's."]
[0.375,"Upper",7]
[null,"Lower",7]
[]
["Wash spec"]
[200,"0-1","Upper",1]
[null,"0-1.0","Upper",0.8]
[null,"0-2","Upper",2]
[null,"0-2.0","Upper",1.8]